BEGIN:VCALENDAR
VERSION:2.0
PRODID:-//Gavinton, Fogo &amp; Polwarth Community Website - ECPv6.15.11//NONSGML v1.0//EN
CALSCALE:GREGORIAN
METHOD:PUBLISH
X-ORIGINAL-URL:https://www.gavinton.net
X-WR-CALDESC:Events for Gavinton, Fogo &amp; Polwarth Community Website
REFRESH-INTERVAL;VALUE=DURATION:PT1H
X-Robots-Tag:noindex
X-PUBLISHED-TTL:PT1H
BEGIN:VTIMEZONE
TZID:Europe/London
BEGIN:DAYLIGHT
TZOFFSETFROM:+0000
TZOFFSETTO:+0100
TZNAME:BST
DTSTART:20270328T010000
END:DAYLIGHT
BEGIN:STANDARD
TZOFFSETFROM:+0100
TZOFFSETTO:+0000
TZNAME:GMT
DTSTART:20271031T010000
END:STANDARD
BEGIN:DAYLIGHT
TZOFFSETFROM:+0000
TZOFFSETTO:+0100
TZNAME:BST
DTSTART:20280326T010000
END:DAYLIGHT
BEGIN:STANDARD
TZOFFSETFROM:+0100
TZOFFSETTO:+0000
TZNAME:GMT
DTSTART:20281029T010000
END:STANDARD
BEGIN:DAYLIGHT
TZOFFSETFROM:+0000
TZOFFSETTO:+0100
TZNAME:BST
DTSTART:20290325T010000
END:DAYLIGHT
BEGIN:STANDARD
TZOFFSETFROM:+0100
TZOFFSETTO:+0000
TZNAME:GMT
DTSTART:20291028T010000
END:STANDARD
END:VTIMEZONE
BEGIN:VEVENT
DTSTART;TZID=Europe/London:20280306T183000
DTEND;TZID=Europe/London:20280306T210000
DTSTAMP:20260420T053255
CREATED:20260326T202728Z
LAST-MODIFIED:20260326T202729Z
UID:10003944-1835980200-1835989200@www.gavinton.net
SUMMARY:Duns Pipe Band
DESCRIPTION:
URL:https://www.gavinton.net/event/duns-pipe-band-9-2/2028-03-06/
CATEGORIES:hall booking
END:VEVENT
BEGIN:VEVENT
DTSTART;TZID=Europe/London:20280313T183000
DTEND;TZID=Europe/London:20280313T210000
DTSTAMP:20260420T053255
CREATED:20260326T202728Z
LAST-MODIFIED:20260326T202729Z
UID:10003945-1836585000-1836594000@www.gavinton.net
SUMMARY:Duns Pipe Band
DESCRIPTION:
URL:https://www.gavinton.net/event/duns-pipe-band-9-2/2028-03-13/
CATEGORIES:hall booking
END:VEVENT
BEGIN:VEVENT
DTSTART;TZID=Europe/London:20280320T183000
DTEND;TZID=Europe/London:20280320T210000
DTSTAMP:20260420T053255
CREATED:20260326T202728Z
LAST-MODIFIED:20260326T202729Z
UID:10003946-1837189800-1837198800@www.gavinton.net
SUMMARY:Duns Pipe Band
DESCRIPTION:
URL:https://www.gavinton.net/event/duns-pipe-band-9-2/2028-03-20/
CATEGORIES:hall booking
END:VEVENT
BEGIN:VEVENT
DTSTART;TZID=Europe/London:20280327T183000
DTEND;TZID=Europe/London:20280327T210000
DTSTAMP:20260420T053255
CREATED:20260326T202728Z
LAST-MODIFIED:20260326T202729Z
UID:10003947-1837794600-1837803600@www.gavinton.net
SUMMARY:Duns Pipe Band
DESCRIPTION:
URL:https://www.gavinton.net/event/duns-pipe-band-9-2/2028-03-27/
CATEGORIES:hall booking
END:VEVENT
BEGIN:VEVENT
DTSTART;TZID=Europe/London:20280403T183000
DTEND;TZID=Europe/London:20280403T210000
DTSTAMP:20260420T053255
CREATED:20260326T202728Z
LAST-MODIFIED:20260326T202729Z
UID:10003948-1838399400-1838408400@www.gavinton.net
SUMMARY:Duns Pipe Band
DESCRIPTION:
URL:https://www.gavinton.net/event/duns-pipe-band-9-2/2028-04-03/
CATEGORIES:hall booking
END:VEVENT
BEGIN:VEVENT
DTSTART;TZID=Europe/London:20280410T183000
DTEND;TZID=Europe/London:20280410T210000
DTSTAMP:20260420T053255
CREATED:20260326T202728Z
LAST-MODIFIED:20260326T202729Z
UID:10003949-1839004200-1839013200@www.gavinton.net
SUMMARY:Duns Pipe Band
DESCRIPTION:
URL:https://www.gavinton.net/event/duns-pipe-band-9-2/2028-04-10/
CATEGORIES:hall booking
END:VEVENT
BEGIN:VEVENT
DTSTART;TZID=Europe/London:20280417T183000
DTEND;TZID=Europe/London:20280417T210000
DTSTAMP:20260420T053255
CREATED:20260326T202728Z
LAST-MODIFIED:20260326T202729Z
UID:10003950-1839609000-1839618000@www.gavinton.net
SUMMARY:Duns Pipe Band
DESCRIPTION:
URL:https://www.gavinton.net/event/duns-pipe-band-9-2/2028-04-17/
CATEGORIES:hall booking
END:VEVENT
BEGIN:VEVENT
DTSTART;TZID=Europe/London:20280424T183000
DTEND;TZID=Europe/London:20280424T210000
DTSTAMP:20260420T053255
CREATED:20260326T202728Z
LAST-MODIFIED:20260326T202729Z
UID:10003951-1840213800-1840222800@www.gavinton.net
SUMMARY:Duns Pipe Band
DESCRIPTION:
URL:https://www.gavinton.net/event/duns-pipe-band-9-2/2028-04-24/
CATEGORIES:hall booking
END:VEVENT
BEGIN:VEVENT
DTSTART;TZID=Europe/London:20280501T183000
DTEND;TZID=Europe/London:20280501T210000
DTSTAMP:20260420T053255
CREATED:20260326T202728Z
LAST-MODIFIED:20260326T202729Z
UID:10003952-1840818600-1840827600@www.gavinton.net
SUMMARY:Duns Pipe Band
DESCRIPTION:
URL:https://www.gavinton.net/event/duns-pipe-band-9-2/2028-05-01/
CATEGORIES:hall booking
END:VEVENT
BEGIN:VEVENT
DTSTART;TZID=Europe/London:20280508T183000
DTEND;TZID=Europe/London:20280508T210000
DTSTAMP:20260420T053255
CREATED:20260326T202728Z
LAST-MODIFIED:20260326T202729Z
UID:10003953-1841423400-1841432400@www.gavinton.net
SUMMARY:Duns Pipe Band
DESCRIPTION:
URL:https://www.gavinton.net/event/duns-pipe-band-9-2/2028-05-08/
CATEGORIES:hall booking
END:VEVENT
BEGIN:VEVENT
DTSTART;TZID=Europe/London:20280515T183000
DTEND;TZID=Europe/London:20280515T210000
DTSTAMP:20260420T053255
CREATED:20260326T202728Z
LAST-MODIFIED:20260326T202729Z
UID:10003954-1842028200-1842037200@www.gavinton.net
SUMMARY:Duns Pipe Band
DESCRIPTION:
URL:https://www.gavinton.net/event/duns-pipe-band-9-2/2028-05-15/
CATEGORIES:hall booking
END:VEVENT
BEGIN:VEVENT
DTSTART;TZID=Europe/London:20280522T183000
DTEND;TZID=Europe/London:20280522T210000
DTSTAMP:20260420T053255
CREATED:20260326T202728Z
LAST-MODIFIED:20260326T202729Z
UID:10003955-1842633000-1842642000@www.gavinton.net
SUMMARY:Duns Pipe Band
DESCRIPTION:
URL:https://www.gavinton.net/event/duns-pipe-band-9-2/2028-05-22/
CATEGORIES:hall booking
END:VEVENT
BEGIN:VEVENT
DTSTART;TZID=Europe/London:20280529T183000
DTEND;TZID=Europe/London:20280529T210000
DTSTAMP:20260420T053255
CREATED:20260326T202728Z
LAST-MODIFIED:20260326T202729Z
UID:10003956-1843237800-1843246800@www.gavinton.net
SUMMARY:Duns Pipe Band
DESCRIPTION:
URL:https://www.gavinton.net/event/duns-pipe-band-9-2/2028-05-29/
CATEGORIES:hall booking
END:VEVENT
BEGIN:VEVENT
DTSTART;TZID=Europe/London:20280605T183000
DTEND;TZID=Europe/London:20280605T210000
DTSTAMP:20260420T053255
CREATED:20260326T202728Z
LAST-MODIFIED:20260326T202729Z
UID:10003957-1843842600-1843851600@www.gavinton.net
SUMMARY:Duns Pipe Band
DESCRIPTION:
URL:https://www.gavinton.net/event/duns-pipe-band-9-2/2028-06-05/
CATEGORIES:hall booking
END:VEVENT
BEGIN:VEVENT
DTSTART;TZID=Europe/London:20280612T183000
DTEND;TZID=Europe/London:20280612T210000
DTSTAMP:20260420T053255
CREATED:20260326T202728Z
LAST-MODIFIED:20260326T202729Z
UID:10003958-1844447400-1844456400@www.gavinton.net
SUMMARY:Duns Pipe Band
DESCRIPTION:
URL:https://www.gavinton.net/event/duns-pipe-band-9-2/2028-06-12/
CATEGORIES:hall booking
END:VEVENT
BEGIN:VEVENT
DTSTART;TZID=Europe/London:20280619T183000
DTEND;TZID=Europe/London:20280619T210000
DTSTAMP:20260420T053255
CREATED:20260326T202728Z
LAST-MODIFIED:20260326T202729Z
UID:10003959-1845052200-1845061200@www.gavinton.net
SUMMARY:Duns Pipe Band
DESCRIPTION:
URL:https://www.gavinton.net/event/duns-pipe-band-9-2/2028-06-19/
CATEGORIES:hall booking
END:VEVENT
BEGIN:VEVENT
DTSTART;TZID=Europe/London:20280626T183000
DTEND;TZID=Europe/London:20280626T210000
DTSTAMP:20260420T053255
CREATED:20260326T202728Z
LAST-MODIFIED:20260326T202729Z
UID:10003960-1845657000-1845666000@www.gavinton.net
SUMMARY:Duns Pipe Band
DESCRIPTION:
URL:https://www.gavinton.net/event/duns-pipe-band-9-2/2028-06-26/
CATEGORIES:hall booking
END:VEVENT
BEGIN:VEVENT
DTSTART;TZID=Europe/London:20280703T183000
DTEND;TZID=Europe/London:20280703T210000
DTSTAMP:20260420T053255
CREATED:20260326T202728Z
LAST-MODIFIED:20260326T202729Z
UID:10003961-1846261800-1846270800@www.gavinton.net
SUMMARY:Duns Pipe Band
DESCRIPTION:
URL:https://www.gavinton.net/event/duns-pipe-band-9-2/2028-07-03/
CATEGORIES:hall booking
END:VEVENT
BEGIN:VEVENT
DTSTART;TZID=Europe/London:20280710T183000
DTEND;TZID=Europe/London:20280710T210000
DTSTAMP:20260420T053255
CREATED:20260326T202728Z
LAST-MODIFIED:20260326T202729Z
UID:10003962-1846866600-1846875600@www.gavinton.net
SUMMARY:Duns Pipe Band
DESCRIPTION:
URL:https://www.gavinton.net/event/duns-pipe-band-9-2/2028-07-10/
CATEGORIES:hall booking
END:VEVENT
BEGIN:VEVENT
DTSTART;TZID=Europe/London:20280717T183000
DTEND;TZID=Europe/London:20280717T210000
DTSTAMP:20260420T053255
CREATED:20260326T202728Z
LAST-MODIFIED:20260326T202729Z
UID:10003963-1847471400-1847480400@www.gavinton.net
SUMMARY:Duns Pipe Band
DESCRIPTION:
URL:https://www.gavinton.net/event/duns-pipe-band-9-2/2028-07-17/
CATEGORIES:hall booking
END:VEVENT
BEGIN:VEVENT
DTSTART;TZID=Europe/London:20280724T183000
DTEND;TZID=Europe/London:20280724T210000
DTSTAMP:20260420T053255
CREATED:20260326T202728Z
LAST-MODIFIED:20260326T202729Z
UID:10003964-1848076200-1848085200@www.gavinton.net
SUMMARY:Duns Pipe Band
DESCRIPTION:
URL:https://www.gavinton.net/event/duns-pipe-band-9-2/2028-07-24/
CATEGORIES:hall booking
END:VEVENT
BEGIN:VEVENT
DTSTART;TZID=Europe/London:20280731T183000
DTEND;TZID=Europe/London:20280731T210000
DTSTAMP:20260420T053255
CREATED:20260326T202728Z
LAST-MODIFIED:20260326T202729Z
UID:10003965-1848681000-1848690000@www.gavinton.net
SUMMARY:Duns Pipe Band
DESCRIPTION:
URL:https://www.gavinton.net/event/duns-pipe-band-9-2/2028-07-31/
CATEGORIES:hall booking
END:VEVENT
BEGIN:VEVENT
DTSTART;TZID=Europe/London:20280807T183000
DTEND;TZID=Europe/London:20280807T210000
DTSTAMP:20260420T053255
CREATED:20260326T202728Z
LAST-MODIFIED:20260326T202729Z
UID:10003966-1849285800-1849294800@www.gavinton.net
SUMMARY:Duns Pipe Band
DESCRIPTION:
URL:https://www.gavinton.net/event/duns-pipe-band-9-2/2028-08-07/
CATEGORIES:hall booking
END:VEVENT
BEGIN:VEVENT
DTSTART;TZID=Europe/London:20280814T183000
DTEND;TZID=Europe/London:20280814T210000
DTSTAMP:20260420T053255
CREATED:20260326T202728Z
LAST-MODIFIED:20260326T202729Z
UID:10003967-1849890600-1849899600@www.gavinton.net
SUMMARY:Duns Pipe Band
DESCRIPTION:
URL:https://www.gavinton.net/event/duns-pipe-band-9-2/2028-08-14/
CATEGORIES:hall booking
END:VEVENT
BEGIN:VEVENT
DTSTART;TZID=Europe/London:20280821T183000
DTEND;TZID=Europe/London:20280821T210000
DTSTAMP:20260420T053255
CREATED:20260326T202728Z
LAST-MODIFIED:20260326T202729Z
UID:10003968-1850495400-1850504400@www.gavinton.net
SUMMARY:Duns Pipe Band
DESCRIPTION:
URL:https://www.gavinton.net/event/duns-pipe-band-9-2/2028-08-21/
CATEGORIES:hall booking
END:VEVENT
BEGIN:VEVENT
DTSTART;TZID=Europe/London:20280828T183000
DTEND;TZID=Europe/London:20280828T210000
DTSTAMP:20260420T053255
CREATED:20260326T202728Z
LAST-MODIFIED:20260326T202729Z
UID:10003969-1851100200-1851109200@www.gavinton.net
SUMMARY:Duns Pipe Band
DESCRIPTION:
URL:https://www.gavinton.net/event/duns-pipe-band-9-2/2028-08-28/
CATEGORIES:hall booking
END:VEVENT
BEGIN:VEVENT
DTSTART;TZID=Europe/London:20280904T183000
DTEND;TZID=Europe/London:20280904T210000
DTSTAMP:20260420T053255
CREATED:20260326T202728Z
LAST-MODIFIED:20260326T202729Z
UID:10003970-1851705000-1851714000@www.gavinton.net
SUMMARY:Duns Pipe Band
DESCRIPTION:
URL:https://www.gavinton.net/event/duns-pipe-band-9-2/2028-09-04/
CATEGORIES:hall booking
END:VEVENT
BEGIN:VEVENT
DTSTART;TZID=Europe/London:20280911T183000
DTEND;TZID=Europe/London:20280911T210000
DTSTAMP:20260420T053255
CREATED:20260326T202728Z
LAST-MODIFIED:20260326T202729Z
UID:10003971-1852309800-1852318800@www.gavinton.net
SUMMARY:Duns Pipe Band
DESCRIPTION:
URL:https://www.gavinton.net/event/duns-pipe-band-9-2/2028-09-11/
CATEGORIES:hall booking
END:VEVENT
BEGIN:VEVENT
DTSTART;TZID=Europe/London:20280918T183000
DTEND;TZID=Europe/London:20280918T210000
DTSTAMP:20260420T053255
CREATED:20260326T202728Z
LAST-MODIFIED:20260326T202729Z
UID:10003972-1852914600-1852923600@www.gavinton.net
SUMMARY:Duns Pipe Band
DESCRIPTION:
URL:https://www.gavinton.net/event/duns-pipe-band-9-2/2028-09-18/
CATEGORIES:hall booking
END:VEVENT
BEGIN:VEVENT
DTSTART;TZID=Europe/London:20280925T183000
DTEND;TZID=Europe/London:20280925T210000
DTSTAMP:20260420T053255
CREATED:20260326T202728Z
LAST-MODIFIED:20260326T202729Z
UID:10003973-1853519400-1853528400@www.gavinton.net
SUMMARY:Duns Pipe Band
DESCRIPTION:
URL:https://www.gavinton.net/event/duns-pipe-band-9-2/2028-09-25/
CATEGORIES:hall booking
END:VEVENT
END:VCALENDAR