BEGIN:VCALENDAR
VERSION:2.0
PRODID:-//Gavinton, Fogo &amp; Polwarth Community Website - ECPv6.15.11//NONSGML v1.0//EN
CALSCALE:GREGORIAN
METHOD:PUBLISH
X-ORIGINAL-URL:https://www.gavinton.net
X-WR-CALDESC:Events for Gavinton, Fogo &amp; Polwarth Community Website
REFRESH-INTERVAL;VALUE=DURATION:PT1H
X-Robots-Tag:noindex
X-PUBLISHED-TTL:PT1H
BEGIN:VTIMEZONE
TZID:Europe/London
BEGIN:DAYLIGHT
TZOFFSETFROM:+0000
TZOFFSETTO:+0100
TZNAME:BST
DTSTART:20280326T010000
END:DAYLIGHT
BEGIN:STANDARD
TZOFFSETFROM:+0100
TZOFFSETTO:+0000
TZNAME:GMT
DTSTART:20281029T010000
END:STANDARD
BEGIN:DAYLIGHT
TZOFFSETFROM:+0000
TZOFFSETTO:+0100
TZNAME:BST
DTSTART:20290325T010000
END:DAYLIGHT
BEGIN:STANDARD
TZOFFSETFROM:+0100
TZOFFSETTO:+0000
TZNAME:GMT
DTSTART:20291028T010000
END:STANDARD
BEGIN:DAYLIGHT
TZOFFSETFROM:+0000
TZOFFSETTO:+0100
TZNAME:BST
DTSTART:20300331T010000
END:DAYLIGHT
BEGIN:STANDARD
TZOFFSETFROM:+0100
TZOFFSETTO:+0000
TZNAME:GMT
DTSTART:20301027T010000
END:STANDARD
BEGIN:DAYLIGHT
TZOFFSETFROM:+0000
TZOFFSETTO:+0100
TZNAME:BST
DTSTART:20310330T010000
END:DAYLIGHT
BEGIN:STANDARD
TZOFFSETFROM:+0100
TZOFFSETTO:+0000
TZNAME:GMT
DTSTART:20311026T010000
END:STANDARD
END:VTIMEZONE
BEGIN:VEVENT
DTSTART;TZID=Europe/London:20290709T183000
DTEND;TZID=Europe/London:20290709T210000
DTSTAMP:20260420T154952
CREATED:20260326T202728Z
LAST-MODIFIED:20260326T202729Z
UID:10004014-1878316200-1878325200@www.gavinton.net
SUMMARY:Duns Pipe Band
DESCRIPTION:
URL:https://www.gavinton.net/event/duns-pipe-band-9-2/2029-07-09/
CATEGORIES:hall booking
END:VEVENT
BEGIN:VEVENT
DTSTART;TZID=Europe/London:20290716T183000
DTEND;TZID=Europe/London:20290716T210000
DTSTAMP:20260420T154952
CREATED:20260326T202728Z
LAST-MODIFIED:20260326T202729Z
UID:10004015-1878921000-1878930000@www.gavinton.net
SUMMARY:Duns Pipe Band
DESCRIPTION:
URL:https://www.gavinton.net/event/duns-pipe-band-9-2/2029-07-16/
CATEGORIES:hall booking
END:VEVENT
BEGIN:VEVENT
DTSTART;TZID=Europe/London:20290723T183000
DTEND;TZID=Europe/London:20290723T210000
DTSTAMP:20260420T154952
CREATED:20260326T202728Z
LAST-MODIFIED:20260326T202729Z
UID:10004016-1879525800-1879534800@www.gavinton.net
SUMMARY:Duns Pipe Band
DESCRIPTION:
URL:https://www.gavinton.net/event/duns-pipe-band-9-2/2029-07-23/
CATEGORIES:hall booking
END:VEVENT
BEGIN:VEVENT
DTSTART;TZID=Europe/London:20290730T183000
DTEND;TZID=Europe/London:20290730T210000
DTSTAMP:20260420T154952
CREATED:20260326T202728Z
LAST-MODIFIED:20260326T202729Z
UID:10004017-1880130600-1880139600@www.gavinton.net
SUMMARY:Duns Pipe Band
DESCRIPTION:
URL:https://www.gavinton.net/event/duns-pipe-band-9-2/2029-07-30/
CATEGORIES:hall booking
END:VEVENT
BEGIN:VEVENT
DTSTART;TZID=Europe/London:20290806T183000
DTEND;TZID=Europe/London:20290806T210000
DTSTAMP:20260420T154952
CREATED:20260326T202728Z
LAST-MODIFIED:20260326T202729Z
UID:10004018-1880735400-1880744400@www.gavinton.net
SUMMARY:Duns Pipe Band
DESCRIPTION:
URL:https://www.gavinton.net/event/duns-pipe-band-9-2/2029-08-06/
CATEGORIES:hall booking
END:VEVENT
BEGIN:VEVENT
DTSTART;TZID=Europe/London:20290813T183000
DTEND;TZID=Europe/London:20290813T210000
DTSTAMP:20260420T154952
CREATED:20260326T202728Z
LAST-MODIFIED:20260326T202729Z
UID:10004019-1881340200-1881349200@www.gavinton.net
SUMMARY:Duns Pipe Band
DESCRIPTION:
URL:https://www.gavinton.net/event/duns-pipe-band-9-2/2029-08-13/
CATEGORIES:hall booking
END:VEVENT
BEGIN:VEVENT
DTSTART;TZID=Europe/London:20290820T183000
DTEND;TZID=Europe/London:20290820T210000
DTSTAMP:20260420T154952
CREATED:20260326T202728Z
LAST-MODIFIED:20260326T202729Z
UID:10004020-1881945000-1881954000@www.gavinton.net
SUMMARY:Duns Pipe Band
DESCRIPTION:
URL:https://www.gavinton.net/event/duns-pipe-band-9-2/2029-08-20/
CATEGORIES:hall booking
END:VEVENT
BEGIN:VEVENT
DTSTART;TZID=Europe/London:20290827T183000
DTEND;TZID=Europe/London:20290827T210000
DTSTAMP:20260420T154952
CREATED:20260326T202728Z
LAST-MODIFIED:20260326T202729Z
UID:10004021-1882549800-1882558800@www.gavinton.net
SUMMARY:Duns Pipe Band
DESCRIPTION:
URL:https://www.gavinton.net/event/duns-pipe-band-9-2/2029-08-27/
CATEGORIES:hall booking
END:VEVENT
BEGIN:VEVENT
DTSTART;TZID=Europe/London:20290903T183000
DTEND;TZID=Europe/London:20290903T210000
DTSTAMP:20260420T154952
CREATED:20260326T202728Z
LAST-MODIFIED:20260326T202729Z
UID:10004022-1883154600-1883163600@www.gavinton.net
SUMMARY:Duns Pipe Band
DESCRIPTION:
URL:https://www.gavinton.net/event/duns-pipe-band-9-2/2029-09-03/
CATEGORIES:hall booking
END:VEVENT
BEGIN:VEVENT
DTSTART;TZID=Europe/London:20290910T183000
DTEND;TZID=Europe/London:20290910T210000
DTSTAMP:20260420T154952
CREATED:20260326T202728Z
LAST-MODIFIED:20260326T202729Z
UID:10004023-1883759400-1883768400@www.gavinton.net
SUMMARY:Duns Pipe Band
DESCRIPTION:
URL:https://www.gavinton.net/event/duns-pipe-band-9-2/2029-09-10/
CATEGORIES:hall booking
END:VEVENT
BEGIN:VEVENT
DTSTART;TZID=Europe/London:20290917T183000
DTEND;TZID=Europe/London:20290917T210000
DTSTAMP:20260420T154952
CREATED:20260326T202728Z
LAST-MODIFIED:20260326T202729Z
UID:10004024-1884364200-1884373200@www.gavinton.net
SUMMARY:Duns Pipe Band
DESCRIPTION:
URL:https://www.gavinton.net/event/duns-pipe-band-9-2/2029-09-17/
CATEGORIES:hall booking
END:VEVENT
BEGIN:VEVENT
DTSTART;TZID=Europe/London:20290924T183000
DTEND;TZID=Europe/London:20290924T210000
DTSTAMP:20260420T154952
CREATED:20260326T202728Z
LAST-MODIFIED:20260326T202729Z
UID:10004025-1884969000-1884978000@www.gavinton.net
SUMMARY:Duns Pipe Band
DESCRIPTION:
URL:https://www.gavinton.net/event/duns-pipe-band-9-2/2029-09-24/
CATEGORIES:hall booking
END:VEVENT
BEGIN:VEVENT
DTSTART;TZID=Europe/London:20291001T183000
DTEND;TZID=Europe/London:20291001T210000
DTSTAMP:20260420T154952
CREATED:20260326T202728Z
LAST-MODIFIED:20260326T202729Z
UID:10004026-1885573800-1885582800@www.gavinton.net
SUMMARY:Duns Pipe Band
DESCRIPTION:
URL:https://www.gavinton.net/event/duns-pipe-band-9-2/2029-10-01/
CATEGORIES:hall booking
END:VEVENT
BEGIN:VEVENT
DTSTART;TZID=Europe/London:20291008T183000
DTEND;TZID=Europe/London:20291008T210000
DTSTAMP:20260420T154952
CREATED:20260326T202728Z
LAST-MODIFIED:20260326T202729Z
UID:10004027-1886178600-1886187600@www.gavinton.net
SUMMARY:Duns Pipe Band
DESCRIPTION:
URL:https://www.gavinton.net/event/duns-pipe-band-9-2/2029-10-08/
CATEGORIES:hall booking
END:VEVENT
BEGIN:VEVENT
DTSTART;TZID=Europe/London:20291015T183000
DTEND;TZID=Europe/London:20291015T210000
DTSTAMP:20260420T154952
CREATED:20260326T202728Z
LAST-MODIFIED:20260326T202729Z
UID:10004028-1886783400-1886792400@www.gavinton.net
SUMMARY:Duns Pipe Band
DESCRIPTION:
URL:https://www.gavinton.net/event/duns-pipe-band-9-2/2029-10-15/
CATEGORIES:hall booking
END:VEVENT
BEGIN:VEVENT
DTSTART;TZID=Europe/London:20291022T183000
DTEND;TZID=Europe/London:20291022T210000
DTSTAMP:20260420T154952
CREATED:20260326T202728Z
LAST-MODIFIED:20260326T202729Z
UID:10004029-1887388200-1887397200@www.gavinton.net
SUMMARY:Duns Pipe Band
DESCRIPTION:
URL:https://www.gavinton.net/event/duns-pipe-band-9-2/2029-10-22/
CATEGORIES:hall booking
END:VEVENT
BEGIN:VEVENT
DTSTART;TZID=Europe/London:20291029T183000
DTEND;TZID=Europe/London:20291029T210000
DTSTAMP:20260420T154952
CREATED:20260326T202728Z
LAST-MODIFIED:20260326T202729Z
UID:10004030-1887993000-1888002000@www.gavinton.net
SUMMARY:Duns Pipe Band
DESCRIPTION:
URL:https://www.gavinton.net/event/duns-pipe-band-9-2/2029-10-29/
CATEGORIES:hall booking
END:VEVENT
BEGIN:VEVENT
DTSTART;TZID=Europe/London:20291105T183000
DTEND;TZID=Europe/London:20291105T210000
DTSTAMP:20260420T154952
CREATED:20260326T202728Z
LAST-MODIFIED:20260326T202729Z
UID:10004031-1888597800-1888606800@www.gavinton.net
SUMMARY:Duns Pipe Band
DESCRIPTION:
URL:https://www.gavinton.net/event/duns-pipe-band-9-2/2029-11-05/
CATEGORIES:hall booking
END:VEVENT
BEGIN:VEVENT
DTSTART;TZID=Europe/London:20291112T183000
DTEND;TZID=Europe/London:20291112T210000
DTSTAMP:20260420T154952
CREATED:20260326T202728Z
LAST-MODIFIED:20260326T202729Z
UID:10004032-1889202600-1889211600@www.gavinton.net
SUMMARY:Duns Pipe Band
DESCRIPTION:
URL:https://www.gavinton.net/event/duns-pipe-band-9-2/2029-11-12/
CATEGORIES:hall booking
END:VEVENT
BEGIN:VEVENT
DTSTART;TZID=Europe/London:20291119T183000
DTEND;TZID=Europe/London:20291119T210000
DTSTAMP:20260420T154952
CREATED:20260326T202728Z
LAST-MODIFIED:20260326T202729Z
UID:10004033-1889807400-1889816400@www.gavinton.net
SUMMARY:Duns Pipe Band
DESCRIPTION:
URL:https://www.gavinton.net/event/duns-pipe-band-9-2/2029-11-19/
CATEGORIES:hall booking
END:VEVENT
BEGIN:VEVENT
DTSTART;TZID=Europe/London:20291126T183000
DTEND;TZID=Europe/London:20291126T210000
DTSTAMP:20260420T154952
CREATED:20260326T202728Z
LAST-MODIFIED:20260326T202729Z
UID:10004034-1890412200-1890421200@www.gavinton.net
SUMMARY:Duns Pipe Band
DESCRIPTION:
URL:https://www.gavinton.net/event/duns-pipe-band-9-2/2029-11-26/
CATEGORIES:hall booking
END:VEVENT
BEGIN:VEVENT
DTSTART;TZID=Europe/London:20291203T183000
DTEND;TZID=Europe/London:20291203T210000
DTSTAMP:20260420T154952
CREATED:20260326T202728Z
LAST-MODIFIED:20260326T202729Z
UID:10004035-1891017000-1891026000@www.gavinton.net
SUMMARY:Duns Pipe Band
DESCRIPTION:
URL:https://www.gavinton.net/event/duns-pipe-band-9-2/2029-12-03/
CATEGORIES:hall booking
END:VEVENT
BEGIN:VEVENT
DTSTART;TZID=Europe/London:20291210T183000
DTEND;TZID=Europe/London:20291210T210000
DTSTAMP:20260420T154952
CREATED:20260326T202728Z
LAST-MODIFIED:20260326T202729Z
UID:10004036-1891621800-1891630800@www.gavinton.net
SUMMARY:Duns Pipe Band
DESCRIPTION:
URL:https://www.gavinton.net/event/duns-pipe-band-9-2/2029-12-10/
CATEGORIES:hall booking
END:VEVENT
BEGIN:VEVENT
DTSTART;TZID=Europe/London:20291217T183000
DTEND;TZID=Europe/London:20291217T210000
DTSTAMP:20260420T154952
CREATED:20260326T202728Z
LAST-MODIFIED:20260326T202729Z
UID:10004037-1892226600-1892235600@www.gavinton.net
SUMMARY:Duns Pipe Band
DESCRIPTION:
URL:https://www.gavinton.net/event/duns-pipe-band-9-2/2029-12-17/
CATEGORIES:hall booking
END:VEVENT
BEGIN:VEVENT
DTSTART;TZID=Europe/London:20291224T183000
DTEND;TZID=Europe/London:20291224T210000
DTSTAMP:20260420T154952
CREATED:20260326T202728Z
LAST-MODIFIED:20260326T202729Z
UID:10004038-1892831400-1892840400@www.gavinton.net
SUMMARY:Duns Pipe Band
DESCRIPTION:
URL:https://www.gavinton.net/event/duns-pipe-band-9-2/2029-12-24/
CATEGORIES:hall booking
END:VEVENT
BEGIN:VEVENT
DTSTART;TZID=Europe/London:20291231T183000
DTEND;TZID=Europe/London:20291231T210000
DTSTAMP:20260420T154952
CREATED:20260326T202728Z
LAST-MODIFIED:20260326T202729Z
UID:10004039-1893436200-1893445200@www.gavinton.net
SUMMARY:Duns Pipe Band
DESCRIPTION:
URL:https://www.gavinton.net/event/duns-pipe-band-9-2/2029-12-31/
CATEGORIES:hall booking
END:VEVENT
BEGIN:VEVENT
DTSTART;TZID=Europe/London:20300107T183000
DTEND;TZID=Europe/London:20300107T210000
DTSTAMP:20260420T154952
CREATED:20260326T202728Z
LAST-MODIFIED:20260326T202729Z
UID:10004040-1894041000-1894050000@www.gavinton.net
SUMMARY:Duns Pipe Band
DESCRIPTION:
URL:https://www.gavinton.net/event/duns-pipe-band-9-2/2030-01-07/
CATEGORIES:hall booking
END:VEVENT
BEGIN:VEVENT
DTSTART;TZID=Europe/London:20300114T183000
DTEND;TZID=Europe/London:20300114T210000
DTSTAMP:20260420T154952
CREATED:20260326T202728Z
LAST-MODIFIED:20260326T202729Z
UID:10004041-1894645800-1894654800@www.gavinton.net
SUMMARY:Duns Pipe Band
DESCRIPTION:
URL:https://www.gavinton.net/event/duns-pipe-band-9-2/2030-01-14/
CATEGORIES:hall booking
END:VEVENT
BEGIN:VEVENT
DTSTART;TZID=Europe/London:20300121T183000
DTEND;TZID=Europe/London:20300121T210000
DTSTAMP:20260420T154952
CREATED:20260326T202728Z
LAST-MODIFIED:20260326T202729Z
UID:10004042-1895250600-1895259600@www.gavinton.net
SUMMARY:Duns Pipe Band
DESCRIPTION:
URL:https://www.gavinton.net/event/duns-pipe-band-9-2/2030-01-21/
CATEGORIES:hall booking
END:VEVENT
BEGIN:VEVENT
DTSTART;TZID=Europe/London:20300128T183000
DTEND;TZID=Europe/London:20300128T210000
DTSTAMP:20260420T154952
CREATED:20260326T202728Z
LAST-MODIFIED:20260326T202729Z
UID:10004043-1895855400-1895864400@www.gavinton.net
SUMMARY:Duns Pipe Band
DESCRIPTION:
URL:https://www.gavinton.net/event/duns-pipe-band-9-2/2030-01-28/
CATEGORIES:hall booking
END:VEVENT
END:VCALENDAR