BEGIN:VCALENDAR
VERSION:2.0
PRODID:-//Gavinton, Fogo &amp; Polwarth Community Website - ECPv6.15.11//NONSGML v1.0//EN
CALSCALE:GREGORIAN
METHOD:PUBLISH
X-WR-CALNAME:Gavinton, Fogo &amp; Polwarth Community Website
X-ORIGINAL-URL:https://www.gavinton.net
X-WR-CALDESC:Events for Gavinton, Fogo &amp; Polwarth Community Website
REFRESH-INTERVAL;VALUE=DURATION:PT1H
X-Robots-Tag:noindex
X-PUBLISHED-TTL:PT1H
BEGIN:VTIMEZONE
TZID:Europe/London
BEGIN:DAYLIGHT
TZOFFSETFROM:+0000
TZOFFSETTO:+0100
TZNAME:BST
DTSTART:20290325T010000
END:DAYLIGHT
BEGIN:STANDARD
TZOFFSETFROM:+0100
TZOFFSETTO:+0000
TZNAME:GMT
DTSTART:20291028T010000
END:STANDARD
BEGIN:DAYLIGHT
TZOFFSETFROM:+0000
TZOFFSETTO:+0100
TZNAME:BST
DTSTART:20300331T010000
END:DAYLIGHT
BEGIN:STANDARD
TZOFFSETFROM:+0100
TZOFFSETTO:+0000
TZNAME:GMT
DTSTART:20301027T010000
END:STANDARD
BEGIN:DAYLIGHT
TZOFFSETFROM:+0000
TZOFFSETTO:+0100
TZNAME:BST
DTSTART:20310330T010000
END:DAYLIGHT
BEGIN:STANDARD
TZOFFSETFROM:+0100
TZOFFSETTO:+0000
TZNAME:GMT
DTSTART:20311026T010000
END:STANDARD
BEGIN:DAYLIGHT
TZOFFSETFROM:+0000
TZOFFSETTO:+0100
TZNAME:BST
DTSTART:20320328T010000
END:DAYLIGHT
BEGIN:STANDARD
TZOFFSETFROM:+0100
TZOFFSETTO:+0000
TZNAME:GMT
DTSTART:20321031T010000
END:STANDARD
END:VTIMEZONE
BEGIN:VEVENT
DTSTART;TZID=Europe/London:20300729T183000
DTEND;TZID=Europe/London:20300729T210000
DTSTAMP:20260421T105137
CREATED:20260326T202728Z
LAST-MODIFIED:20260326T202729Z
UID:10004069-1911580200-1911589200@www.gavinton.net
SUMMARY:Duns Pipe Band
DESCRIPTION:
URL:https://www.gavinton.net/event/duns-pipe-band-9-2/2030-07-29/
CATEGORIES:hall booking
END:VEVENT
BEGIN:VEVENT
DTSTART;TZID=Europe/London:20300805T183000
DTEND;TZID=Europe/London:20300805T210000
DTSTAMP:20260421T105137
CREATED:20260326T202728Z
LAST-MODIFIED:20260326T202729Z
UID:10004070-1912185000-1912194000@www.gavinton.net
SUMMARY:Duns Pipe Band
DESCRIPTION:
URL:https://www.gavinton.net/event/duns-pipe-band-9-2/2030-08-05/
CATEGORIES:hall booking
END:VEVENT
BEGIN:VEVENT
DTSTART;TZID=Europe/London:20300812T183000
DTEND;TZID=Europe/London:20300812T210000
DTSTAMP:20260421T105137
CREATED:20260326T202728Z
LAST-MODIFIED:20260326T202729Z
UID:10004071-1912789800-1912798800@www.gavinton.net
SUMMARY:Duns Pipe Band
DESCRIPTION:
URL:https://www.gavinton.net/event/duns-pipe-band-9-2/2030-08-12/
CATEGORIES:hall booking
END:VEVENT
BEGIN:VEVENT
DTSTART;TZID=Europe/London:20300819T183000
DTEND;TZID=Europe/London:20300819T210000
DTSTAMP:20260421T105137
CREATED:20260326T202728Z
LAST-MODIFIED:20260326T202729Z
UID:10004072-1913394600-1913403600@www.gavinton.net
SUMMARY:Duns Pipe Band
DESCRIPTION:
URL:https://www.gavinton.net/event/duns-pipe-band-9-2/2030-08-19/
CATEGORIES:hall booking
END:VEVENT
BEGIN:VEVENT
DTSTART;TZID=Europe/London:20300826T183000
DTEND;TZID=Europe/London:20300826T210000
DTSTAMP:20260421T105137
CREATED:20260326T202728Z
LAST-MODIFIED:20260326T202729Z
UID:10004073-1913999400-1914008400@www.gavinton.net
SUMMARY:Duns Pipe Band
DESCRIPTION:
URL:https://www.gavinton.net/event/duns-pipe-band-9-2/2030-08-26/
CATEGORIES:hall booking
END:VEVENT
BEGIN:VEVENT
DTSTART;TZID=Europe/London:20300902T183000
DTEND;TZID=Europe/London:20300902T210000
DTSTAMP:20260421T105137
CREATED:20260326T202728Z
LAST-MODIFIED:20260326T202729Z
UID:10004074-1914604200-1914613200@www.gavinton.net
SUMMARY:Duns Pipe Band
DESCRIPTION:
URL:https://www.gavinton.net/event/duns-pipe-band-9-2/2030-09-02/
CATEGORIES:hall booking
END:VEVENT
BEGIN:VEVENT
DTSTART;TZID=Europe/London:20300909T183000
DTEND;TZID=Europe/London:20300909T210000
DTSTAMP:20260421T105137
CREATED:20260326T202728Z
LAST-MODIFIED:20260326T202729Z
UID:10004075-1915209000-1915218000@www.gavinton.net
SUMMARY:Duns Pipe Band
DESCRIPTION:
URL:https://www.gavinton.net/event/duns-pipe-band-9-2/2030-09-09/
CATEGORIES:hall booking
END:VEVENT
BEGIN:VEVENT
DTSTART;TZID=Europe/London:20300916T183000
DTEND;TZID=Europe/London:20300916T210000
DTSTAMP:20260421T105137
CREATED:20260326T202728Z
LAST-MODIFIED:20260326T202729Z
UID:10004076-1915813800-1915822800@www.gavinton.net
SUMMARY:Duns Pipe Band
DESCRIPTION:
URL:https://www.gavinton.net/event/duns-pipe-band-9-2/2030-09-16/
CATEGORIES:hall booking
END:VEVENT
BEGIN:VEVENT
DTSTART;TZID=Europe/London:20300923T183000
DTEND;TZID=Europe/London:20300923T210000
DTSTAMP:20260421T105137
CREATED:20260326T202728Z
LAST-MODIFIED:20260326T202729Z
UID:10004077-1916418600-1916427600@www.gavinton.net
SUMMARY:Duns Pipe Band
DESCRIPTION:
URL:https://www.gavinton.net/event/duns-pipe-band-9-2/2030-09-23/
CATEGORIES:hall booking
END:VEVENT
BEGIN:VEVENT
DTSTART;TZID=Europe/London:20300930T183000
DTEND;TZID=Europe/London:20300930T210000
DTSTAMP:20260421T105137
CREATED:20260326T202728Z
LAST-MODIFIED:20260326T202729Z
UID:10004078-1917023400-1917032400@www.gavinton.net
SUMMARY:Duns Pipe Band
DESCRIPTION:
URL:https://www.gavinton.net/event/duns-pipe-band-9-2/2030-09-30/
CATEGORIES:hall booking
END:VEVENT
BEGIN:VEVENT
DTSTART;TZID=Europe/London:20301007T183000
DTEND;TZID=Europe/London:20301007T210000
DTSTAMP:20260421T105137
CREATED:20260326T202728Z
LAST-MODIFIED:20260326T202729Z
UID:10004079-1917628200-1917637200@www.gavinton.net
SUMMARY:Duns Pipe Band
DESCRIPTION:
URL:https://www.gavinton.net/event/duns-pipe-band-9-2/2030-10-07/
CATEGORIES:hall booking
END:VEVENT
BEGIN:VEVENT
DTSTART;TZID=Europe/London:20301014T183000
DTEND;TZID=Europe/London:20301014T210000
DTSTAMP:20260421T105137
CREATED:20260326T202728Z
LAST-MODIFIED:20260326T202729Z
UID:10004080-1918233000-1918242000@www.gavinton.net
SUMMARY:Duns Pipe Band
DESCRIPTION:
URL:https://www.gavinton.net/event/duns-pipe-band-9-2/2030-10-14/
CATEGORIES:hall booking
END:VEVENT
BEGIN:VEVENT
DTSTART;TZID=Europe/London:20301021T183000
DTEND;TZID=Europe/London:20301021T210000
DTSTAMP:20260421T105137
CREATED:20260326T202728Z
LAST-MODIFIED:20260326T202729Z
UID:10004081-1918837800-1918846800@www.gavinton.net
SUMMARY:Duns Pipe Band
DESCRIPTION:
URL:https://www.gavinton.net/event/duns-pipe-band-9-2/2030-10-21/
CATEGORIES:hall booking
END:VEVENT
BEGIN:VEVENT
DTSTART;TZID=Europe/London:20301028T183000
DTEND;TZID=Europe/London:20301028T210000
DTSTAMP:20260421T105137
CREATED:20260326T202728Z
LAST-MODIFIED:20260326T202729Z
UID:10004082-1919442600-1919451600@www.gavinton.net
SUMMARY:Duns Pipe Band
DESCRIPTION:
URL:https://www.gavinton.net/event/duns-pipe-band-9-2/2030-10-28/
CATEGORIES:hall booking
END:VEVENT
BEGIN:VEVENT
DTSTART;TZID=Europe/London:20301104T183000
DTEND;TZID=Europe/London:20301104T210000
DTSTAMP:20260421T105137
CREATED:20260326T202728Z
LAST-MODIFIED:20260326T202729Z
UID:10004083-1920047400-1920056400@www.gavinton.net
SUMMARY:Duns Pipe Band
DESCRIPTION:
URL:https://www.gavinton.net/event/duns-pipe-band-9-2/2030-11-04/
CATEGORIES:hall booking
END:VEVENT
BEGIN:VEVENT
DTSTART;TZID=Europe/London:20301111T183000
DTEND;TZID=Europe/London:20301111T210000
DTSTAMP:20260421T105137
CREATED:20260326T202728Z
LAST-MODIFIED:20260326T202729Z
UID:10004084-1920652200-1920661200@www.gavinton.net
SUMMARY:Duns Pipe Band
DESCRIPTION:
URL:https://www.gavinton.net/event/duns-pipe-band-9-2/2030-11-11/
CATEGORIES:hall booking
END:VEVENT
BEGIN:VEVENT
DTSTART;TZID=Europe/London:20301118T183000
DTEND;TZID=Europe/London:20301118T210000
DTSTAMP:20260421T105137
CREATED:20260326T202728Z
LAST-MODIFIED:20260326T202729Z
UID:10004085-1921257000-1921266000@www.gavinton.net
SUMMARY:Duns Pipe Band
DESCRIPTION:
URL:https://www.gavinton.net/event/duns-pipe-band-9-2/2030-11-18/
CATEGORIES:hall booking
END:VEVENT
BEGIN:VEVENT
DTSTART;TZID=Europe/London:20301125T183000
DTEND;TZID=Europe/London:20301125T210000
DTSTAMP:20260421T105137
CREATED:20260326T202728Z
LAST-MODIFIED:20260326T202729Z
UID:10004086-1921861800-1921870800@www.gavinton.net
SUMMARY:Duns Pipe Band
DESCRIPTION:
URL:https://www.gavinton.net/event/duns-pipe-band-9-2/2030-11-25/
CATEGORIES:hall booking
END:VEVENT
BEGIN:VEVENT
DTSTART;TZID=Europe/London:20301202T183000
DTEND;TZID=Europe/London:20301202T210000
DTSTAMP:20260421T105137
CREATED:20260326T202728Z
LAST-MODIFIED:20260326T202729Z
UID:10004087-1922466600-1922475600@www.gavinton.net
SUMMARY:Duns Pipe Band
DESCRIPTION:
URL:https://www.gavinton.net/event/duns-pipe-band-9-2/2030-12-02/
CATEGORIES:hall booking
END:VEVENT
BEGIN:VEVENT
DTSTART;TZID=Europe/London:20301209T183000
DTEND;TZID=Europe/London:20301209T210000
DTSTAMP:20260421T105137
CREATED:20260326T202728Z
LAST-MODIFIED:20260326T202729Z
UID:10004088-1923071400-1923080400@www.gavinton.net
SUMMARY:Duns Pipe Band
DESCRIPTION:
URL:https://www.gavinton.net/event/duns-pipe-band-9-2/2030-12-09/
CATEGORIES:hall booking
END:VEVENT
BEGIN:VEVENT
DTSTART;TZID=Europe/London:20301216T183000
DTEND;TZID=Europe/London:20301216T210000
DTSTAMP:20260421T105137
CREATED:20260326T202728Z
LAST-MODIFIED:20260326T202729Z
UID:10004089-1923676200-1923685200@www.gavinton.net
SUMMARY:Duns Pipe Band
DESCRIPTION:
URL:https://www.gavinton.net/event/duns-pipe-band-9-2/2030-12-16/
CATEGORIES:hall booking
END:VEVENT
BEGIN:VEVENT
DTSTART;TZID=Europe/London:20301223T183000
DTEND;TZID=Europe/London:20301223T210000
DTSTAMP:20260421T105137
CREATED:20260326T202728Z
LAST-MODIFIED:20260326T202729Z
UID:10004090-1924281000-1924290000@www.gavinton.net
SUMMARY:Duns Pipe Band
DESCRIPTION:
URL:https://www.gavinton.net/event/duns-pipe-band-9-2/2030-12-23/
CATEGORIES:hall booking
END:VEVENT
BEGIN:VEVENT
DTSTART;TZID=Europe/London:20301230T183000
DTEND;TZID=Europe/London:20301230T210000
DTSTAMP:20260421T105137
CREATED:20260326T202728Z
LAST-MODIFIED:20260326T202729Z
UID:10004091-1924885800-1924894800@www.gavinton.net
SUMMARY:Duns Pipe Band
DESCRIPTION:
URL:https://www.gavinton.net/event/duns-pipe-band-9-2/2030-12-30/
CATEGORIES:hall booking
END:VEVENT
BEGIN:VEVENT
DTSTART;TZID=Europe/London:20310106T183000
DTEND;TZID=Europe/London:20310106T210000
DTSTAMP:20260421T105137
CREATED:20260326T202728Z
LAST-MODIFIED:20260326T202729Z
UID:10004092-1925490600-1925499600@www.gavinton.net
SUMMARY:Duns Pipe Band
DESCRIPTION:
URL:https://www.gavinton.net/event/duns-pipe-band-9-2/2031-01-06/
CATEGORIES:hall booking
END:VEVENT
BEGIN:VEVENT
DTSTART;TZID=Europe/London:20310113T183000
DTEND;TZID=Europe/London:20310113T210000
DTSTAMP:20260421T105137
CREATED:20260326T202728Z
LAST-MODIFIED:20260326T202729Z
UID:10004093-1926095400-1926104400@www.gavinton.net
SUMMARY:Duns Pipe Band
DESCRIPTION:
URL:https://www.gavinton.net/event/duns-pipe-band-9-2/2031-01-13/
CATEGORIES:hall booking
END:VEVENT
BEGIN:VEVENT
DTSTART;TZID=Europe/London:20310120T183000
DTEND;TZID=Europe/London:20310120T210000
DTSTAMP:20260421T105137
CREATED:20260326T202728Z
LAST-MODIFIED:20260326T202729Z
UID:10004094-1926700200-1926709200@www.gavinton.net
SUMMARY:Duns Pipe Band
DESCRIPTION:
URL:https://www.gavinton.net/event/duns-pipe-band-9-2/2031-01-20/
CATEGORIES:hall booking
END:VEVENT
BEGIN:VEVENT
DTSTART;TZID=Europe/London:20310127T183000
DTEND;TZID=Europe/London:20310127T210000
DTSTAMP:20260421T105137
CREATED:20260326T202728Z
LAST-MODIFIED:20260326T202729Z
UID:10004095-1927305000-1927314000@www.gavinton.net
SUMMARY:Duns Pipe Band
DESCRIPTION:
URL:https://www.gavinton.net/event/duns-pipe-band-9-2/2031-01-27/
CATEGORIES:hall booking
END:VEVENT
BEGIN:VEVENT
DTSTART;TZID=Europe/London:20310203T183000
DTEND;TZID=Europe/London:20310203T210000
DTSTAMP:20260421T105137
CREATED:20260326T202728Z
LAST-MODIFIED:20260326T202729Z
UID:10004096-1927909800-1927918800@www.gavinton.net
SUMMARY:Duns Pipe Band
DESCRIPTION:
URL:https://www.gavinton.net/event/duns-pipe-band-9-2/2031-02-03/
CATEGORIES:hall booking
END:VEVENT
BEGIN:VEVENT
DTSTART;TZID=Europe/London:20310210T183000
DTEND;TZID=Europe/London:20310210T210000
DTSTAMP:20260421T105137
CREATED:20260326T202728Z
LAST-MODIFIED:20260326T202729Z
UID:10004097-1928514600-1928523600@www.gavinton.net
SUMMARY:Duns Pipe Band
DESCRIPTION:
URL:https://www.gavinton.net/event/duns-pipe-band-9-2/2031-02-10/
CATEGORIES:hall booking
END:VEVENT
BEGIN:VEVENT
DTSTART;TZID=Europe/London:20310217T183000
DTEND;TZID=Europe/London:20310217T210000
DTSTAMP:20260421T105137
CREATED:20260326T202728Z
LAST-MODIFIED:20260326T202729Z
UID:10004098-1929119400-1929128400@www.gavinton.net
SUMMARY:Duns Pipe Band
DESCRIPTION:
URL:https://www.gavinton.net/event/duns-pipe-band-9-2/2031-02-17/
CATEGORIES:hall booking
END:VEVENT
END:VCALENDAR