BEGIN:VCALENDAR
VERSION:2.0
PRODID:-//Gavinton, Fogo &amp; Polwarth Community Website - ECPv6.15.11//NONSGML v1.0//EN
CALSCALE:GREGORIAN
METHOD:PUBLISH
X-WR-CALNAME:Gavinton, Fogo &amp; Polwarth Community Website
X-ORIGINAL-URL:https://www.gavinton.net
X-WR-CALDESC:Events for Gavinton, Fogo &amp; Polwarth Community Website
REFRESH-INTERVAL;VALUE=DURATION:PT1H
X-Robots-Tag:noindex
X-PUBLISHED-TTL:PT1H
BEGIN:VTIMEZONE
TZID:Europe/London
BEGIN:DAYLIGHT
TZOFFSETFROM:+0000
TZOFFSETTO:+0100
TZNAME:BST
DTSTART:20240331T010000
END:DAYLIGHT
BEGIN:STANDARD
TZOFFSETFROM:+0100
TZOFFSETTO:+0000
TZNAME:GMT
DTSTART:20241027T010000
END:STANDARD
BEGIN:DAYLIGHT
TZOFFSETFROM:+0000
TZOFFSETTO:+0100
TZNAME:BST
DTSTART:20250330T010000
END:DAYLIGHT
BEGIN:STANDARD
TZOFFSETFROM:+0100
TZOFFSETTO:+0000
TZNAME:GMT
DTSTART:20251026T010000
END:STANDARD
BEGIN:DAYLIGHT
TZOFFSETFROM:+0000
TZOFFSETTO:+0100
TZNAME:BST
DTSTART:20260329T010000
END:DAYLIGHT
BEGIN:STANDARD
TZOFFSETFROM:+0100
TZOFFSETTO:+0000
TZNAME:GMT
DTSTART:20261025T010000
END:STANDARD
END:VTIMEZONE
BEGIN:VEVENT
DTSTART;TZID=Europe/London:20250407T190000
DTEND;TZID=Europe/London:20250407T210000
DTSTAMP:20260421T004325
CREATED:20240410T140815Z
LAST-MODIFIED:20240423T165029Z
UID:10002298-1744052400-1744059600@www.gavinton.net
SUMMARY:Duns Pipe Band
DESCRIPTION:Duns pipe band practice
URL:https://www.gavinton.net/event/private-hire-58/2025-04-07/
CATEGORIES:hall booking
END:VEVENT
BEGIN:VEVENT
DTSTART;TZID=Europe/London:20250407T104500
DTEND;TZID=Europe/London:20250407T121500
DTSTAMP:20260421T004325
CREATED:20240703T153007Z
LAST-MODIFIED:20240703T153007Z
UID:10002371-1744022700-1744028100@www.gavinton.net
SUMMARY:U3A Tap Dancing
DESCRIPTION:
URL:https://www.gavinton.net/event/u3a-tap-dancing-8/2025-04-07/
CATEGORIES:dance class,hall booking
END:VEVENT
BEGIN:VEVENT
DTSTART;TZID=Europe/London:20250406T103000
DTEND;TZID=Europe/London:20250406T103000
DTSTAMP:20260421T004325
CREATED:20190302T123243Z
LAST-MODIFIED:20190625T115916Z
UID:10000450-1743935400-1743935400@www.gavinton.net
SUMMARY:Fogo Kirk Service
DESCRIPTION:Services are usually every Sunday at 10:30 am\, and all visitors are most welcome\nCheck the current schedule of church services here
URL:https://www.gavinton.net/event/fogo-kirk-service-2-2-2-2-2/2025-04-06/
CATEGORIES:church service
END:VEVENT
BEGIN:VEVENT
DTSTART;TZID=Europe/London:20250404T173000
DTEND;TZID=Europe/London:20250404T193000
DTSTAMP:20260421T004325
CREATED:20250219T160349Z
LAST-MODIFIED:20250219T161722Z
UID:10002802-1743787800-1743795000@www.gavinton.net
SUMMARY:private hire
DESCRIPTION:pony club training
URL:https://www.gavinton.net/event/private-hire-101/2025-04-04/
CATEGORIES:hall booking
END:VEVENT
BEGIN:VEVENT
DTSTART;TZID=Europe/London:20250403T164500
DTEND;TZID=Europe/London:20250403T191000
DTSTAMP:20260421T004325
CREATED:20250121T155149Z
LAST-MODIFIED:20250413T154704Z
UID:10002771-1743698700-1743707400@www.gavinton.net
SUMMARY:social sewing class
DESCRIPTION:sewing class
URL:https://www.gavinton.net/event/social-sewing-class/2025-04-03/
CATEGORIES:hall booking
END:VEVENT
BEGIN:VEVENT
DTSTART;TZID=Europe/London:20250331T190000
DTEND;TZID=Europe/London:20250331T210000
DTSTAMP:20260421T004325
CREATED:20240410T140815Z
LAST-MODIFIED:20240423T165029Z
UID:10002297-1743447600-1743454800@www.gavinton.net
SUMMARY:Duns Pipe Band
DESCRIPTION:Duns pipe band practice
URL:https://www.gavinton.net/event/private-hire-58/2025-03-31/
CATEGORIES:hall booking
END:VEVENT
BEGIN:VEVENT
DTSTART;TZID=Europe/London:20250331T104500
DTEND;TZID=Europe/London:20250331T121500
DTSTAMP:20260421T004325
CREATED:20240703T153007Z
LAST-MODIFIED:20240703T153007Z
UID:10002370-1743417900-1743423300@www.gavinton.net
SUMMARY:U3A Tap Dancing
DESCRIPTION:
URL:https://www.gavinton.net/event/u3a-tap-dancing-8/2025-03-31/
CATEGORIES:dance class,hall booking
END:VEVENT
BEGIN:VEVENT
DTSTART;TZID=Europe/London:20250330T110000
DTEND;TZID=Europe/London:20250330T110000
DTSTAMP:20260421T004325
CREATED:20241230T145138Z
LAST-MODIFIED:20241230T150658Z
UID:10002744-1743332400-1743332400@www.gavinton.net
SUMMARY:Duns Parish Church service
DESCRIPTION:When there is a fifth Sunday\, the service is held in Duns parish church at 11.00 am (in place of Langton church\, Gavinton)
URL:https://www.gavinton.net/event/duns-parish-church-service-4/2025-03-30/
LOCATION:Duns Parish Church\, Duns
CATEGORIES:church service
END:VEVENT
BEGIN:VEVENT
DTSTART;TZID=Europe/London:20250330T103000
DTEND;TZID=Europe/London:20250330T103000
DTSTAMP:20260421T004325
CREATED:20190302T123243Z
LAST-MODIFIED:20190625T115916Z
UID:10000449-1743330600-1743330600@www.gavinton.net
SUMMARY:Fogo Kirk Service
DESCRIPTION:Services are usually every Sunday at 10:30 am\, and all visitors are most welcome\nCheck the current schedule of church services here
URL:https://www.gavinton.net/event/fogo-kirk-service-2-2-2-2-2/2025-03-30/
CATEGORIES:church service
END:VEVENT
BEGIN:VEVENT
DTSTART;TZID=Europe/London:20250329T090000
DTEND;TZID=Europe/London:20250329T110000
DTSTAMP:20260421T004325
CREATED:20250328T182200Z
LAST-MODIFIED:20250328T182202Z
UID:10002538-1743238800-1743246000@www.gavinton.net
SUMMARY:village hall - Gavinton Community Breakfast Club
DESCRIPTION:  \nSuggested Donation £2.50\nBacon\, sausage or egg roll and a hot drink
URL:https://www.gavinton.net/event/cancelled-village-hall-coffee-morning-2024-25-3/
CATEGORIES:coffee morning,hall booking
END:VEVENT
BEGIN:VEVENT
DTSTART;TZID=Europe/London:20250327T164500
DTEND;TZID=Europe/London:20250327T191000
DTSTAMP:20260421T004325
CREATED:20250121T155149Z
LAST-MODIFIED:20250413T154704Z
UID:10002770-1743093900-1743102600@www.gavinton.net
SUMMARY:social sewing class
DESCRIPTION:sewing class
URL:https://www.gavinton.net/event/social-sewing-class/2025-03-27/
CATEGORIES:hall booking
END:VEVENT
BEGIN:VEVENT
DTSTART;TZID=Europe/London:20250327T093000
DTEND;TZID=Europe/London:20250327T110000
DTSTAMP:20260421T004325
CREATED:20241002T111253Z
LAST-MODIFIED:20241002T111534Z
UID:10002606-1743067800-1743073200@www.gavinton.net
SUMMARY:U3A Scottish Country Dancing
DESCRIPTION:
URL:https://www.gavinton.net/event/u3a-scottish-country-dancing-4/2025-03-27/
CATEGORIES:dance class,hall booking
END:VEVENT
BEGIN:VEVENT
DTSTART;TZID=Europe/London:20250324T190000
DTEND;TZID=Europe/London:20250324T210000
DTSTAMP:20260421T004325
CREATED:20240410T140815Z
LAST-MODIFIED:20240423T165029Z
UID:10002296-1742842800-1742850000@www.gavinton.net
SUMMARY:Duns Pipe Band
DESCRIPTION:Duns pipe band practice
URL:https://www.gavinton.net/event/private-hire-58/2025-03-24/
CATEGORIES:hall booking
END:VEVENT
BEGIN:VEVENT
DTSTART;TZID=Europe/London:20250324T104500
DTEND;TZID=Europe/London:20250324T121500
DTSTAMP:20260421T004325
CREATED:20240703T153007Z
LAST-MODIFIED:20240703T153007Z
UID:10002369-1742813100-1742818500@www.gavinton.net
SUMMARY:U3A Tap Dancing
DESCRIPTION:
URL:https://www.gavinton.net/event/u3a-tap-dancing-8/2025-03-24/
CATEGORIES:dance class,hall booking
END:VEVENT
BEGIN:VEVENT
DTSTART;TZID=Europe/London:20250323T103000
DTEND;TZID=Europe/London:20250323T103000
DTSTAMP:20260421T004325
CREATED:20190302T123243Z
LAST-MODIFIED:20190625T115916Z
UID:10000448-1742725800-1742725800@www.gavinton.net
SUMMARY:Fogo Kirk Service
DESCRIPTION:Services are usually every Sunday at 10:30 am\, and all visitors are most welcome\nCheck the current schedule of church services here
URL:https://www.gavinton.net/event/fogo-kirk-service-2-2-2-2-2/2025-03-23/
CATEGORIES:church service
END:VEVENT
BEGIN:VEVENT
DTSTART;TZID=Europe/London:20250323T094500
DTEND;TZID=Europe/London:20250323T094500
DTSTAMP:20260421T004325
CREATED:20241230T143742Z
LAST-MODIFIED:20241230T144128Z
UID:10002716-1742723100-1742723100@www.gavinton.net
SUMMARY:Langton Church service
DESCRIPTION:Check the current schedule of church services here\, usually the second and fourth Sunday of each month at 09.45 am. When there is a fifth Sunday\, the service is held in Duns parish church at 11.00 am.
URL:https://www.gavinton.net/event/langton-church-service-4/2025-03-23/
LOCATION:Langton Church\, Gavinton
CATEGORIES:church service
END:VEVENT
BEGIN:VEVENT
DTSTART;TZID=Europe/London:20250322T140000
DTEND;TZID=Europe/London:20250322T163000
DTSTAMP:20260421T004325
CREATED:20250304T144644Z
LAST-MODIFIED:20250304T144644Z
UID:10002805-1742652000-1742661000@www.gavinton.net
SUMMARY:private hire
DESCRIPTION:party
URL:https://www.gavinton.net/event/private-hire-94/
CATEGORIES:hall booking
END:VEVENT
BEGIN:VEVENT
DTSTART;TZID=Europe/London:20250321T190000
DTEND;TZID=Europe/London:20250321T220000
DTSTAMP:20260421T004325
CREATED:20250107T171347Z
LAST-MODIFIED:20250108T200520Z
UID:10002755-1742583600-1742594400@www.gavinton.net
SUMMARY:village hall - FILM - 'La Chimera' (15)
DESCRIPTION:trailer: here\nreviews: here
URL:https://www.gavinton.net/event/village-hall-film-la-chimera-15/
CATEGORIES:film
END:VEVENT
BEGIN:VEVENT
DTSTART;TZID=Europe/London:20250321T094500
DTEND;TZID=Europe/London:20250321T122500
DTSTAMP:20260421T004325
CREATED:20250312T162146Z
LAST-MODIFIED:20250312T162146Z
UID:10002808-1742550300-1742559900@www.gavinton.net
SUMMARY:U3A Middle Eastern Studies
DESCRIPTION:meeting
URL:https://www.gavinton.net/event/u3a-middle-eastern-studies-15/
CATEGORIES:hall booking
END:VEVENT
BEGIN:VEVENT
DTSTART;TZID=Europe/London:20250320T164500
DTEND;TZID=Europe/London:20250320T191000
DTSTAMP:20260421T004325
CREATED:20250320T170214Z
LAST-MODIFIED:20250320T170215Z
UID:10002769-1742489100-1742497800@www.gavinton.net
SUMMARY:Cancelled - social sewing class
DESCRIPTION:sewing class
URL:https://www.gavinton.net/event/social-sewing-class-3/
CATEGORIES:hall booking
END:VEVENT
BEGIN:VEVENT
DTSTART;TZID=Europe/London:20250320T093000
DTEND;TZID=Europe/London:20250320T110000
DTSTAMP:20260421T004325
CREATED:20241002T111253Z
LAST-MODIFIED:20241002T111534Z
UID:10002605-1742463000-1742468400@www.gavinton.net
SUMMARY:U3A Scottish Country Dancing
DESCRIPTION:
URL:https://www.gavinton.net/event/u3a-scottish-country-dancing-4/2025-03-20/
CATEGORIES:dance class,hall booking
END:VEVENT
BEGIN:VEVENT
DTSTART;TZID=Europe/London:20250319T134500
DTEND;TZID=Europe/London:20250319T161500
DTSTAMP:20260421T004325
CREATED:20240807T173940Z
LAST-MODIFIED:20250201T105106Z
UID:10002460-1742391900-1742400900@www.gavinton.net
SUMMARY:u3a Opera Appreciation
DESCRIPTION:
URL:https://www.gavinton.net/event/u3a-opera-appreciation-5/2025-03-19/
CATEGORIES:hall booking,u3a
END:VEVENT
BEGIN:VEVENT
DTSTART;TZID=Europe/London:20250317T190000
DTEND;TZID=Europe/London:20250317T210000
DTSTAMP:20260421T004325
CREATED:20240410T140815Z
LAST-MODIFIED:20240423T165029Z
UID:10002295-1742238000-1742245200@www.gavinton.net
SUMMARY:Duns Pipe Band
DESCRIPTION:Duns pipe band practice
URL:https://www.gavinton.net/event/private-hire-58/2025-03-17/
CATEGORIES:hall booking
END:VEVENT
BEGIN:VEVENT
DTSTART;TZID=Europe/London:20250317T104500
DTEND;TZID=Europe/London:20250317T121500
DTSTAMP:20260421T004325
CREATED:20240703T153007Z
LAST-MODIFIED:20240703T153007Z
UID:10002368-1742208300-1742213700@www.gavinton.net
SUMMARY:U3A Tap Dancing
DESCRIPTION:
URL:https://www.gavinton.net/event/u3a-tap-dancing-8/2025-03-17/
CATEGORIES:dance class,hall booking
END:VEVENT
BEGIN:VEVENT
DTSTART;TZID=Europe/London:20250316T103000
DTEND;TZID=Europe/London:20250316T103000
DTSTAMP:20260421T004325
CREATED:20190302T123243Z
LAST-MODIFIED:20190625T115916Z
UID:10000447-1742121000-1742121000@www.gavinton.net
SUMMARY:Fogo Kirk Service
DESCRIPTION:Services are usually every Sunday at 10:30 am\, and all visitors are most welcome\nCheck the current schedule of church services here
URL:https://www.gavinton.net/event/fogo-kirk-service-2-2-2-2-2/2025-03-16/
CATEGORIES:church service
END:VEVENT
BEGIN:VEVENT
DTSTART;TZID=Europe/London:20250314T190000
DTEND;TZID=Europe/London:20250314T220000
DTSTAMP:20260421T004325
CREATED:20250212T121752Z
LAST-MODIFIED:20250309T181521Z
UID:10002793-1741978800-1741989600@www.gavinton.net
SUMMARY:FILM (89 min documentary) - Tim Stead: Magician With Wood\, Gavinton Village Hall
DESCRIPTION:Trailer: here\nAdditional info: here\nDiscover the enchanting world of Tim Stead\, transforming trees into a breathtaking sculpted home near Lauder\, revealing the soul of an extraordinary craftsman\nTickets: £5\nTo reserve tickets email: filmclubnews@gavinton.net or visit https://www.gavinton.net/\nTickets also available on door\nBar and refreshments
URL:https://www.gavinton.net/event/village-hall-film-13/
CATEGORIES:film,hall booking
END:VEVENT
BEGIN:VEVENT
DTSTART;TZID=Europe/London:20250313T193000
DTEND;TZID=Europe/London:20250313T210000
DTSTAMP:20260421T004325
CREATED:20240727T104201Z
LAST-MODIFIED:20240727T104201Z
UID:10002392-1741894200-1741899600@www.gavinton.net
SUMMARY:Scottish Woman's Institute
DESCRIPTION:meeting
URL:https://www.gavinton.net/event/scottish-womans-institute/2025-03-13/
CATEGORIES:hall booking,SWI meeting
END:VEVENT
BEGIN:VEVENT
DTSTART;TZID=Europe/London:20250313T164500
DTEND;TZID=Europe/London:20250313T191000
DTSTAMP:20260421T004325
CREATED:20250121T155149Z
LAST-MODIFIED:20250413T154704Z
UID:10002768-1741884300-1741893000@www.gavinton.net
SUMMARY:social sewing class
DESCRIPTION:sewing class
URL:https://www.gavinton.net/event/social-sewing-class/2025-03-13/
CATEGORIES:hall booking
END:VEVENT
BEGIN:VEVENT
DTSTART;TZID=Europe/London:20250313T123300
DTEND;TZID=Europe/London:20250313T151500
DTSTAMP:20260421T004325
CREATED:20250311T190218Z
LAST-MODIFIED:20250311T190218Z
UID:10002807-1741869180-1741878900@www.gavinton.net
SUMMARY:U3A Histories of the Everyday
DESCRIPTION:meeting
URL:https://www.gavinton.net/event/u3a-histories-of-the-everyday-2/
CATEGORIES:hall booking
END:VEVENT
BEGIN:VEVENT
DTSTART;TZID=Europe/London:20250313T093000
DTEND;TZID=Europe/London:20250313T110000
DTSTAMP:20260421T004325
CREATED:20241002T111253Z
LAST-MODIFIED:20241002T111534Z
UID:10002604-1741858200-1741863600@www.gavinton.net
SUMMARY:U3A Scottish Country Dancing
DESCRIPTION:
URL:https://www.gavinton.net/event/u3a-scottish-country-dancing-4/2025-03-13/
CATEGORIES:dance class,hall booking
END:VEVENT
END:VCALENDAR