BEGIN:VCALENDAR
VERSION:2.0
PRODID:-//Gavinton, Fogo &amp; Polwarth Community Website - ECPv6.15.11//NONSGML v1.0//EN
CALSCALE:GREGORIAN
METHOD:PUBLISH
X-ORIGINAL-URL:https://www.gavinton.net
X-WR-CALDESC:Events for Gavinton, Fogo &amp; Polwarth Community Website
REFRESH-INTERVAL;VALUE=DURATION:PT1H
X-Robots-Tag:noindex
X-PUBLISHED-TTL:PT1H
BEGIN:VTIMEZONE
TZID:Europe/London
BEGIN:DAYLIGHT
TZOFFSETFROM:+0000
TZOFFSETTO:+0100
TZNAME:BST
DTSTART:20250330T010000
END:DAYLIGHT
BEGIN:STANDARD
TZOFFSETFROM:+0100
TZOFFSETTO:+0000
TZNAME:GMT
DTSTART:20251026T010000
END:STANDARD
BEGIN:DAYLIGHT
TZOFFSETFROM:+0000
TZOFFSETTO:+0100
TZNAME:BST
DTSTART:20260329T010000
END:DAYLIGHT
BEGIN:STANDARD
TZOFFSETFROM:+0100
TZOFFSETTO:+0000
TZNAME:GMT
DTSTART:20261025T010000
END:STANDARD
BEGIN:DAYLIGHT
TZOFFSETFROM:+0000
TZOFFSETTO:+0100
TZNAME:BST
DTSTART:20270328T010000
END:DAYLIGHT
BEGIN:STANDARD
TZOFFSETFROM:+0100
TZOFFSETTO:+0000
TZNAME:GMT
DTSTART:20271031T010000
END:STANDARD
BEGIN:DAYLIGHT
TZOFFSETFROM:+0000
TZOFFSETTO:+0100
TZNAME:BST
DTSTART:20280326T010000
END:DAYLIGHT
BEGIN:STANDARD
TZOFFSETFROM:+0100
TZOFFSETTO:+0000
TZNAME:GMT
DTSTART:20281029T010000
END:STANDARD
END:VTIMEZONE
BEGIN:VEVENT
DTSTART;TZID=Europe/London:20261122T103000
DTEND;TZID=Europe/London:20261122T103000
DTSTAMP:20260421T032519
CREATED:20190302T123243Z
LAST-MODIFIED:20190625T115916Z
UID:10000535-1795343400-1795343400@www.gavinton.net
SUMMARY:Fogo Kirk Service
DESCRIPTION:Services are usually every Sunday at 10:30 am\, and all visitors are most welcome\nCheck the current schedule of church services here
URL:https://www.gavinton.net/event/fogo-kirk-service-2-2-2-2-2/2026-11-22/
CATEGORIES:church service
END:VEVENT
BEGIN:VEVENT
DTSTART;TZID=Europe/London:20261123T183000
DTEND;TZID=Europe/London:20261123T210000
DTSTAMP:20260421T032519
CREATED:20260326T202728Z
LAST-MODIFIED:20260326T202729Z
UID:10003877-1795458600-1795467600@www.gavinton.net
SUMMARY:Duns Pipe Band
DESCRIPTION:
URL:https://www.gavinton.net/event/duns-pipe-band-9-2/2026-11-23/
CATEGORIES:hall booking
END:VEVENT
BEGIN:VEVENT
DTSTART;TZID=Europe/London:20261129T103000
DTEND;TZID=Europe/London:20261129T103000
DTSTAMP:20260421T032519
CREATED:20190302T123243Z
LAST-MODIFIED:20190625T115916Z
UID:10000536-1795948200-1795948200@www.gavinton.net
SUMMARY:Fogo Kirk Service
DESCRIPTION:Services are usually every Sunday at 10:30 am\, and all visitors are most welcome\nCheck the current schedule of church services here
URL:https://www.gavinton.net/event/fogo-kirk-service-2-2-2-2-2/2026-11-29/
CATEGORIES:church service
END:VEVENT
BEGIN:VEVENT
DTSTART;TZID=Europe/London:20261130T183000
DTEND;TZID=Europe/London:20261130T210000
DTSTAMP:20260421T032519
CREATED:20260326T202728Z
LAST-MODIFIED:20260326T202729Z
UID:10003878-1796063400-1796072400@www.gavinton.net
SUMMARY:Duns Pipe Band
DESCRIPTION:
URL:https://www.gavinton.net/event/duns-pipe-band-9-2/2026-11-30/
CATEGORIES:hall booking
END:VEVENT
BEGIN:VEVENT
DTSTART;TZID=Europe/London:20261206T103000
DTEND;TZID=Europe/London:20261206T103000
DTSTAMP:20260421T032519
CREATED:20190302T123243Z
LAST-MODIFIED:20190625T115916Z
UID:10000537-1796553000-1796553000@www.gavinton.net
SUMMARY:Fogo Kirk Service
DESCRIPTION:Services are usually every Sunday at 10:30 am\, and all visitors are most welcome\nCheck the current schedule of church services here
URL:https://www.gavinton.net/event/fogo-kirk-service-2-2-2-2-2/2026-12-06/
CATEGORIES:church service
END:VEVENT
BEGIN:VEVENT
DTSTART;TZID=Europe/London:20261207T183000
DTEND;TZID=Europe/London:20261207T210000
DTSTAMP:20260421T032519
CREATED:20260326T202728Z
LAST-MODIFIED:20260326T202729Z
UID:10003879-1796668200-1796677200@www.gavinton.net
SUMMARY:Duns Pipe Band
DESCRIPTION:
URL:https://www.gavinton.net/event/duns-pipe-band-9-2/2026-12-07/
CATEGORIES:hall booking
END:VEVENT
BEGIN:VEVENT
DTSTART;TZID=Europe/London:20261213T094500
DTEND;TZID=Europe/London:20261213T094500
DTSTAMP:20260421T032519
CREATED:20260106T212608Z
LAST-MODIFIED:20260106T212609Z
UID:10003789-1797155100-1797155100@www.gavinton.net
SUMMARY:Langton Church Service
DESCRIPTION:Check the current schedule of church services here\, usually the second and fourth Sunday of each month at 09.45 am. When there is a fifth Sunday\, the service is held in Duns parish church at 11.00 am.
URL:https://www.gavinton.net/event/langton-church-service-5-2-2-2-2/2026-12-13/
LOCATION:Langton Church\, Gavinton
CATEGORIES:church service
END:VEVENT
BEGIN:VEVENT
DTSTART;TZID=Europe/London:20261213T103000
DTEND;TZID=Europe/London:20261213T103000
DTSTAMP:20260421T032519
CREATED:20190302T123243Z
LAST-MODIFIED:20190625T115916Z
UID:10000538-1797157800-1797157800@www.gavinton.net
SUMMARY:Fogo Kirk Service
DESCRIPTION:Services are usually every Sunday at 10:30 am\, and all visitors are most welcome\nCheck the current schedule of church services here
URL:https://www.gavinton.net/event/fogo-kirk-service-2-2-2-2-2/2026-12-13/
CATEGORIES:church service
END:VEVENT
BEGIN:VEVENT
DTSTART;TZID=Europe/London:20261214T183000
DTEND;TZID=Europe/London:20261214T210000
DTSTAMP:20260421T032519
CREATED:20260326T202728Z
LAST-MODIFIED:20260326T202729Z
UID:10003880-1797273000-1797282000@www.gavinton.net
SUMMARY:Duns Pipe Band
DESCRIPTION:
URL:https://www.gavinton.net/event/duns-pipe-band-9-2/2026-12-14/
CATEGORIES:hall booking
END:VEVENT
BEGIN:VEVENT
DTSTART;TZID=Europe/London:20261220T103000
DTEND;TZID=Europe/London:20261220T103000
DTSTAMP:20260421T032519
CREATED:20190302T123243Z
LAST-MODIFIED:20190625T115916Z
UID:10000539-1797762600-1797762600@www.gavinton.net
SUMMARY:Fogo Kirk Service
DESCRIPTION:Services are usually every Sunday at 10:30 am\, and all visitors are most welcome\nCheck the current schedule of church services here
URL:https://www.gavinton.net/event/fogo-kirk-service-2-2-2-2-2/2026-12-20/
CATEGORIES:church service
END:VEVENT
BEGIN:VEVENT
DTSTART;TZID=Europe/London:20261221T183000
DTEND;TZID=Europe/London:20261221T210000
DTSTAMP:20260421T032519
CREATED:20260326T202728Z
LAST-MODIFIED:20260326T202729Z
UID:10003881-1797877800-1797886800@www.gavinton.net
SUMMARY:Duns Pipe Band
DESCRIPTION:
URL:https://www.gavinton.net/event/duns-pipe-band-9-2/2026-12-21/
CATEGORIES:hall booking
END:VEVENT
BEGIN:VEVENT
DTSTART;TZID=Europe/London:20261227T094500
DTEND;TZID=Europe/London:20261227T094500
DTSTAMP:20260421T032519
CREATED:20260106T212608Z
LAST-MODIFIED:20260106T212609Z
UID:10003791-1798364700-1798364700@www.gavinton.net
SUMMARY:Langton Church Service
DESCRIPTION:Check the current schedule of church services here\, usually the second and fourth Sunday of each month at 09.45 am. When there is a fifth Sunday\, the service is held in Duns parish church at 11.00 am.
URL:https://www.gavinton.net/event/langton-church-service-5-2-2-2-2/2026-12-27/
LOCATION:Langton Church\, Gavinton
CATEGORIES:church service
END:VEVENT
BEGIN:VEVENT
DTSTART;TZID=Europe/London:20261227T103000
DTEND;TZID=Europe/London:20261227T103000
DTSTAMP:20260421T032519
CREATED:20190302T123243Z
LAST-MODIFIED:20190625T115916Z
UID:10000540-1798367400-1798367400@www.gavinton.net
SUMMARY:Fogo Kirk Service
DESCRIPTION:Services are usually every Sunday at 10:30 am\, and all visitors are most welcome\nCheck the current schedule of church services here
URL:https://www.gavinton.net/event/fogo-kirk-service-2-2-2-2-2/2026-12-27/
CATEGORIES:church service
END:VEVENT
BEGIN:VEVENT
DTSTART;TZID=Europe/London:20261228T183000
DTEND;TZID=Europe/London:20261228T210000
DTSTAMP:20260421T032519
CREATED:20260326T202728Z
LAST-MODIFIED:20260326T202729Z
UID:10003882-1798482600-1798491600@www.gavinton.net
SUMMARY:Duns Pipe Band
DESCRIPTION:
URL:https://www.gavinton.net/event/duns-pipe-band-9-2/2026-12-28/
CATEGORIES:hall booking
END:VEVENT
BEGIN:VEVENT
DTSTART;TZID=Europe/London:20270103T103000
DTEND;TZID=Europe/London:20270103T103000
DTSTAMP:20260421T032519
CREATED:20190302T123243Z
LAST-MODIFIED:20190625T115916Z
UID:10000541-1798972200-1798972200@www.gavinton.net
SUMMARY:Fogo Kirk Service
DESCRIPTION:Services are usually every Sunday at 10:30 am\, and all visitors are most welcome\nCheck the current schedule of church services here
URL:https://www.gavinton.net/event/fogo-kirk-service-2-2-2-2-2/2027-01-03/
CATEGORIES:church service
END:VEVENT
BEGIN:VEVENT
DTSTART;TZID=Europe/London:20270104T183000
DTEND;TZID=Europe/London:20270104T210000
DTSTAMP:20260421T032519
CREATED:20260326T202728Z
LAST-MODIFIED:20260326T202729Z
UID:10003883-1799087400-1799096400@www.gavinton.net
SUMMARY:Duns Pipe Band
DESCRIPTION:
URL:https://www.gavinton.net/event/duns-pipe-band-9-2/2027-01-04/
CATEGORIES:hall booking
END:VEVENT
BEGIN:VEVENT
DTSTART;TZID=Europe/London:20270110T103000
DTEND;TZID=Europe/London:20270110T103000
DTSTAMP:20260421T032519
CREATED:20190302T123243Z
LAST-MODIFIED:20190625T115916Z
UID:10000542-1799577000-1799577000@www.gavinton.net
SUMMARY:Fogo Kirk Service
DESCRIPTION:Services are usually every Sunday at 10:30 am\, and all visitors are most welcome\nCheck the current schedule of church services here
URL:https://www.gavinton.net/event/fogo-kirk-service-2-2-2-2-2/2027-01-10/
CATEGORIES:church service
END:VEVENT
BEGIN:VEVENT
DTSTART;TZID=Europe/London:20270111T183000
DTEND;TZID=Europe/London:20270111T210000
DTSTAMP:20260421T032519
CREATED:20260326T202728Z
LAST-MODIFIED:20260326T202729Z
UID:10003884-1799692200-1799701200@www.gavinton.net
SUMMARY:Duns Pipe Band
DESCRIPTION:
URL:https://www.gavinton.net/event/duns-pipe-band-9-2/2027-01-11/
CATEGORIES:hall booking
END:VEVENT
BEGIN:VEVENT
DTSTART;TZID=Europe/London:20270111T190000
DTEND;TZID=Europe/London:20270111T210000
DTSTAMP:20260421T032519
CREATED:20250817T165131Z
LAST-MODIFIED:20250817T165131Z
UID:10003027-1799694000-1799701200@www.gavinton.net
SUMMARY:CC Meeting
DESCRIPTION:CC Meeting
URL:https://www.gavinton.net/event/cc-meeting-10/2027-01-11/
CATEGORIES:CC meeting
END:VEVENT
BEGIN:VEVENT
DTSTART;TZID=Europe/London:20270117T103000
DTEND;TZID=Europe/London:20270117T103000
DTSTAMP:20260421T032519
CREATED:20190302T123243Z
LAST-MODIFIED:20190625T115916Z
UID:10000543-1800181800-1800181800@www.gavinton.net
SUMMARY:Fogo Kirk Service
DESCRIPTION:Services are usually every Sunday at 10:30 am\, and all visitors are most welcome\nCheck the current schedule of church services here
URL:https://www.gavinton.net/event/fogo-kirk-service-2-2-2-2-2/2027-01-17/
CATEGORIES:church service
END:VEVENT
BEGIN:VEVENT
DTSTART;TZID=Europe/London:20270118T183000
DTEND;TZID=Europe/London:20270118T210000
DTSTAMP:20260421T032519
CREATED:20260326T202728Z
LAST-MODIFIED:20260326T202729Z
UID:10003885-1800297000-1800306000@www.gavinton.net
SUMMARY:Duns Pipe Band
DESCRIPTION:
URL:https://www.gavinton.net/event/duns-pipe-band-9-2/2027-01-18/
CATEGORIES:hall booking
END:VEVENT
BEGIN:VEVENT
DTSTART;TZID=Europe/London:20270124T103000
DTEND;TZID=Europe/London:20270124T103000
DTSTAMP:20260421T032519
CREATED:20190302T123243Z
LAST-MODIFIED:20190625T115916Z
UID:10000544-1800786600-1800786600@www.gavinton.net
SUMMARY:Fogo Kirk Service
DESCRIPTION:Services are usually every Sunday at 10:30 am\, and all visitors are most welcome\nCheck the current schedule of church services here
URL:https://www.gavinton.net/event/fogo-kirk-service-2-2-2-2-2/2027-01-24/
CATEGORIES:church service
END:VEVENT
BEGIN:VEVENT
DTSTART;TZID=Europe/London:20270125T183000
DTEND;TZID=Europe/London:20270125T210000
DTSTAMP:20260421T032519
CREATED:20260326T202728Z
LAST-MODIFIED:20260326T202729Z
UID:10003886-1800901800-1800910800@www.gavinton.net
SUMMARY:Duns Pipe Band
DESCRIPTION:
URL:https://www.gavinton.net/event/duns-pipe-band-9-2/2027-01-25/
CATEGORIES:hall booking
END:VEVENT
BEGIN:VEVENT
DTSTART;TZID=Europe/London:20270131T103000
DTEND;TZID=Europe/London:20270131T103000
DTSTAMP:20260421T032519
CREATED:20190302T123243Z
LAST-MODIFIED:20190625T115916Z
UID:10000545-1801391400-1801391400@www.gavinton.net
SUMMARY:Fogo Kirk Service
DESCRIPTION:Services are usually every Sunday at 10:30 am\, and all visitors are most welcome\nCheck the current schedule of church services here
URL:https://www.gavinton.net/event/fogo-kirk-service-2-2-2-2-2/2027-01-31/
CATEGORIES:church service
END:VEVENT
BEGIN:VEVENT
DTSTART;TZID=Europe/London:20270201T183000
DTEND;TZID=Europe/London:20270201T210000
DTSTAMP:20260421T032519
CREATED:20260326T202728Z
LAST-MODIFIED:20260326T202729Z
UID:10003887-1801506600-1801515600@www.gavinton.net
SUMMARY:Duns Pipe Band
DESCRIPTION:
URL:https://www.gavinton.net/event/duns-pipe-band-9-2/2027-02-01/
CATEGORIES:hall booking
END:VEVENT
BEGIN:VEVENT
DTSTART;TZID=Europe/London:20270207T103000
DTEND;TZID=Europe/London:20270207T103000
DTSTAMP:20260421T032519
CREATED:20190302T123243Z
LAST-MODIFIED:20190625T115916Z
UID:10000546-1801996200-1801996200@www.gavinton.net
SUMMARY:Fogo Kirk Service
DESCRIPTION:Services are usually every Sunday at 10:30 am\, and all visitors are most welcome\nCheck the current schedule of church services here
URL:https://www.gavinton.net/event/fogo-kirk-service-2-2-2-2-2/2027-02-07/
CATEGORIES:church service
END:VEVENT
BEGIN:VEVENT
DTSTART;TZID=Europe/London:20270208T183000
DTEND;TZID=Europe/London:20270208T210000
DTSTAMP:20260421T032519
CREATED:20260326T202728Z
LAST-MODIFIED:20260326T202729Z
UID:10003888-1802111400-1802120400@www.gavinton.net
SUMMARY:Duns Pipe Band
DESCRIPTION:
URL:https://www.gavinton.net/event/duns-pipe-band-9-2/2027-02-08/
CATEGORIES:hall booking
END:VEVENT
BEGIN:VEVENT
DTSTART;TZID=Europe/London:20270214T103000
DTEND;TZID=Europe/London:20270214T103000
DTSTAMP:20260421T032519
CREATED:20190302T123243Z
LAST-MODIFIED:20190625T115916Z
UID:10000547-1802601000-1802601000@www.gavinton.net
SUMMARY:Fogo Kirk Service
DESCRIPTION:Services are usually every Sunday at 10:30 am\, and all visitors are most welcome\nCheck the current schedule of church services here
URL:https://www.gavinton.net/event/fogo-kirk-service-2-2-2-2-2/2027-02-14/
CATEGORIES:church service
END:VEVENT
BEGIN:VEVENT
DTSTART;TZID=Europe/London:20270215T183000
DTEND;TZID=Europe/London:20270215T210000
DTSTAMP:20260421T032519
CREATED:20260326T202728Z
LAST-MODIFIED:20260326T202729Z
UID:10003889-1802716200-1802725200@www.gavinton.net
SUMMARY:Duns Pipe Band
DESCRIPTION:
URL:https://www.gavinton.net/event/duns-pipe-band-9-2/2027-02-15/
CATEGORIES:hall booking
END:VEVENT
BEGIN:VEVENT
DTSTART;TZID=Europe/London:20270221T103000
DTEND;TZID=Europe/London:20270221T103000
DTSTAMP:20260421T032519
CREATED:20190302T123243Z
LAST-MODIFIED:20190625T115916Z
UID:10000548-1803205800-1803205800@www.gavinton.net
SUMMARY:Fogo Kirk Service
DESCRIPTION:Services are usually every Sunday at 10:30 am\, and all visitors are most welcome\nCheck the current schedule of church services here
URL:https://www.gavinton.net/event/fogo-kirk-service-2-2-2-2-2/2027-02-21/
CATEGORIES:church service
END:VEVENT
END:VCALENDAR