BEGIN:VCALENDAR
VERSION:2.0
PRODID:-//Gavinton, Fogo &amp; Polwarth Community Website - ECPv6.15.11//NONSGML v1.0//EN
CALSCALE:GREGORIAN
METHOD:PUBLISH
X-ORIGINAL-URL:https://www.gavinton.net
X-WR-CALDESC:Events for Gavinton, Fogo &amp; Polwarth Community Website
REFRESH-INTERVAL;VALUE=DURATION:PT1H
X-Robots-Tag:noindex
X-PUBLISHED-TTL:PT1H
BEGIN:VTIMEZONE
TZID:Europe/London
BEGIN:DAYLIGHT
TZOFFSETFROM:+0000
TZOFFSETTO:+0100
TZNAME:BST
DTSTART:20260329T010000
END:DAYLIGHT
BEGIN:STANDARD
TZOFFSETFROM:+0100
TZOFFSETTO:+0000
TZNAME:GMT
DTSTART:20261025T010000
END:STANDARD
BEGIN:DAYLIGHT
TZOFFSETFROM:+0000
TZOFFSETTO:+0100
TZNAME:BST
DTSTART:20270328T010000
END:DAYLIGHT
BEGIN:STANDARD
TZOFFSETFROM:+0100
TZOFFSETTO:+0000
TZNAME:GMT
DTSTART:20271031T010000
END:STANDARD
BEGIN:DAYLIGHT
TZOFFSETFROM:+0000
TZOFFSETTO:+0100
TZNAME:BST
DTSTART:20280326T010000
END:DAYLIGHT
BEGIN:STANDARD
TZOFFSETFROM:+0100
TZOFFSETTO:+0000
TZNAME:GMT
DTSTART:20281029T010000
END:STANDARD
END:VTIMEZONE
BEGIN:VEVENT
DTSTART;TZID=Europe/London:20270222T183000
DTEND;TZID=Europe/London:20270222T210000
DTSTAMP:20260421T133710
CREATED:20260326T202728Z
LAST-MODIFIED:20260326T202729Z
UID:10003890-1803321000-1803330000@www.gavinton.net
SUMMARY:Duns Pipe Band
DESCRIPTION:
URL:https://www.gavinton.net/event/duns-pipe-band-9-2/2027-02-22/
CATEGORIES:hall booking
END:VEVENT
BEGIN:VEVENT
DTSTART;TZID=Europe/London:20270228T103000
DTEND;TZID=Europe/London:20270228T103000
DTSTAMP:20260421T133710
CREATED:20190302T123243Z
LAST-MODIFIED:20190625T115916Z
UID:10000549-1803810600-1803810600@www.gavinton.net
SUMMARY:Fogo Kirk Service
DESCRIPTION:Services are usually every Sunday at 10:30 am\, and all visitors are most welcome\nCheck the current schedule of church services here
URL:https://www.gavinton.net/event/fogo-kirk-service-2-2-2-2-2/2027-02-28/
CATEGORIES:church service
END:VEVENT
BEGIN:VEVENT
DTSTART;TZID=Europe/London:20270301T183000
DTEND;TZID=Europe/London:20270301T210000
DTSTAMP:20260421T133710
CREATED:20260326T202728Z
LAST-MODIFIED:20260326T202729Z
UID:10003891-1803925800-1803934800@www.gavinton.net
SUMMARY:Duns Pipe Band
DESCRIPTION:
URL:https://www.gavinton.net/event/duns-pipe-band-9-2/2027-03-01/
CATEGORIES:hall booking
END:VEVENT
BEGIN:VEVENT
DTSTART;TZID=Europe/London:20270307T103000
DTEND;TZID=Europe/London:20270307T103000
DTSTAMP:20260421T133710
CREATED:20190302T123243Z
LAST-MODIFIED:20190625T115916Z
UID:10000550-1804415400-1804415400@www.gavinton.net
SUMMARY:Fogo Kirk Service
DESCRIPTION:Services are usually every Sunday at 10:30 am\, and all visitors are most welcome\nCheck the current schedule of church services here
URL:https://www.gavinton.net/event/fogo-kirk-service-2-2-2-2-2/2027-03-07/
CATEGORIES:church service
END:VEVENT
BEGIN:VEVENT
DTSTART;TZID=Europe/London:20270308T183000
DTEND;TZID=Europe/London:20270308T210000
DTSTAMP:20260421T133710
CREATED:20260326T202728Z
LAST-MODIFIED:20260326T202729Z
UID:10003892-1804530600-1804539600@www.gavinton.net
SUMMARY:Duns Pipe Band
DESCRIPTION:
URL:https://www.gavinton.net/event/duns-pipe-band-9-2/2027-03-08/
CATEGORIES:hall booking
END:VEVENT
BEGIN:VEVENT
DTSTART;TZID=Europe/London:20270314T103000
DTEND;TZID=Europe/London:20270314T103000
DTSTAMP:20260421T133710
CREATED:20190302T123243Z
LAST-MODIFIED:20190625T115916Z
UID:10000551-1805020200-1805020200@www.gavinton.net
SUMMARY:Fogo Kirk Service
DESCRIPTION:Services are usually every Sunday at 10:30 am\, and all visitors are most welcome\nCheck the current schedule of church services here
URL:https://www.gavinton.net/event/fogo-kirk-service-2-2-2-2-2/2027-03-14/
CATEGORIES:church service
END:VEVENT
BEGIN:VEVENT
DTSTART;TZID=Europe/London:20270315T183000
DTEND;TZID=Europe/London:20270315T210000
DTSTAMP:20260421T133710
CREATED:20260326T202728Z
LAST-MODIFIED:20260326T202729Z
UID:10003893-1805135400-1805144400@www.gavinton.net
SUMMARY:Duns Pipe Band
DESCRIPTION:
URL:https://www.gavinton.net/event/duns-pipe-band-9-2/2027-03-15/
CATEGORIES:hall booking
END:VEVENT
BEGIN:VEVENT
DTSTART;TZID=Europe/London:20270321T103000
DTEND;TZID=Europe/London:20270321T103000
DTSTAMP:20260421T133710
CREATED:20190302T123243Z
LAST-MODIFIED:20190625T115916Z
UID:10000552-1805625000-1805625000@www.gavinton.net
SUMMARY:Fogo Kirk Service
DESCRIPTION:Services are usually every Sunday at 10:30 am\, and all visitors are most welcome\nCheck the current schedule of church services here
URL:https://www.gavinton.net/event/fogo-kirk-service-2-2-2-2-2/2027-03-21/
CATEGORIES:church service
END:VEVENT
BEGIN:VEVENT
DTSTART;TZID=Europe/London:20270322T183000
DTEND;TZID=Europe/London:20270322T210000
DTSTAMP:20260421T133710
CREATED:20260326T202728Z
LAST-MODIFIED:20260326T202729Z
UID:10003894-1805740200-1805749200@www.gavinton.net
SUMMARY:Duns Pipe Band
DESCRIPTION:
URL:https://www.gavinton.net/event/duns-pipe-band-9-2/2027-03-22/
CATEGORIES:hall booking
END:VEVENT
BEGIN:VEVENT
DTSTART;TZID=Europe/London:20270328T103000
DTEND;TZID=Europe/London:20270328T103000
DTSTAMP:20260421T133710
CREATED:20190302T123243Z
LAST-MODIFIED:20190625T115916Z
UID:10000553-1806229800-1806229800@www.gavinton.net
SUMMARY:Fogo Kirk Service
DESCRIPTION:Services are usually every Sunday at 10:30 am\, and all visitors are most welcome\nCheck the current schedule of church services here
URL:https://www.gavinton.net/event/fogo-kirk-service-2-2-2-2-2/2027-03-28/
CATEGORIES:church service
END:VEVENT
BEGIN:VEVENT
DTSTART;TZID=Europe/London:20270329T183000
DTEND;TZID=Europe/London:20270329T210000
DTSTAMP:20260421T133710
CREATED:20260326T202728Z
LAST-MODIFIED:20260326T202729Z
UID:10003895-1806345000-1806354000@www.gavinton.net
SUMMARY:Duns Pipe Band
DESCRIPTION:
URL:https://www.gavinton.net/event/duns-pipe-band-9-2/2027-03-29/
CATEGORIES:hall booking
END:VEVENT
BEGIN:VEVENT
DTSTART;TZID=Europe/London:20270404T103000
DTEND;TZID=Europe/London:20270404T103000
DTSTAMP:20260421T133710
CREATED:20190302T123243Z
LAST-MODIFIED:20190625T115916Z
UID:10000554-1806834600-1806834600@www.gavinton.net
SUMMARY:Fogo Kirk Service
DESCRIPTION:Services are usually every Sunday at 10:30 am\, and all visitors are most welcome\nCheck the current schedule of church services here
URL:https://www.gavinton.net/event/fogo-kirk-service-2-2-2-2-2/2027-04-04/
CATEGORIES:church service
END:VEVENT
BEGIN:VEVENT
DTSTART;TZID=Europe/London:20270405T183000
DTEND;TZID=Europe/London:20270405T210000
DTSTAMP:20260421T133710
CREATED:20260326T202728Z
LAST-MODIFIED:20260326T202729Z
UID:10003896-1806949800-1806958800@www.gavinton.net
SUMMARY:Duns Pipe Band
DESCRIPTION:
URL:https://www.gavinton.net/event/duns-pipe-band-9-2/2027-04-05/
CATEGORIES:hall booking
END:VEVENT
BEGIN:VEVENT
DTSTART;TZID=Europe/London:20270411T103000
DTEND;TZID=Europe/London:20270411T103000
DTSTAMP:20260421T133710
CREATED:20190302T123243Z
LAST-MODIFIED:20190625T115916Z
UID:10000555-1807439400-1807439400@www.gavinton.net
SUMMARY:Fogo Kirk Service
DESCRIPTION:Services are usually every Sunday at 10:30 am\, and all visitors are most welcome\nCheck the current schedule of church services here
URL:https://www.gavinton.net/event/fogo-kirk-service-2-2-2-2-2/2027-04-11/
CATEGORIES:church service
END:VEVENT
BEGIN:VEVENT
DTSTART;TZID=Europe/London:20270412T183000
DTEND;TZID=Europe/London:20270412T210000
DTSTAMP:20260421T133710
CREATED:20260326T202728Z
LAST-MODIFIED:20260326T202729Z
UID:10003897-1807554600-1807563600@www.gavinton.net
SUMMARY:Duns Pipe Band
DESCRIPTION:
URL:https://www.gavinton.net/event/duns-pipe-band-9-2/2027-04-12/
CATEGORIES:hall booking
END:VEVENT
BEGIN:VEVENT
DTSTART;TZID=Europe/London:20270418T103000
DTEND;TZID=Europe/London:20270418T103000
DTSTAMP:20260421T133710
CREATED:20190302T123243Z
LAST-MODIFIED:20190625T115916Z
UID:10000556-1808044200-1808044200@www.gavinton.net
SUMMARY:Fogo Kirk Service
DESCRIPTION:Services are usually every Sunday at 10:30 am\, and all visitors are most welcome\nCheck the current schedule of church services here
URL:https://www.gavinton.net/event/fogo-kirk-service-2-2-2-2-2/2027-04-18/
CATEGORIES:church service
END:VEVENT
BEGIN:VEVENT
DTSTART;TZID=Europe/London:20270419T183000
DTEND;TZID=Europe/London:20270419T210000
DTSTAMP:20260421T133710
CREATED:20260326T202728Z
LAST-MODIFIED:20260326T202729Z
UID:10003898-1808159400-1808168400@www.gavinton.net
SUMMARY:Duns Pipe Band
DESCRIPTION:
URL:https://www.gavinton.net/event/duns-pipe-band-9-2/2027-04-19/
CATEGORIES:hall booking
END:VEVENT
BEGIN:VEVENT
DTSTART;TZID=Europe/London:20270425T103000
DTEND;TZID=Europe/London:20270425T103000
DTSTAMP:20260421T133710
CREATED:20190302T123243Z
LAST-MODIFIED:20190625T115916Z
UID:10000557-1808649000-1808649000@www.gavinton.net
SUMMARY:Fogo Kirk Service
DESCRIPTION:Services are usually every Sunday at 10:30 am\, and all visitors are most welcome\nCheck the current schedule of church services here
URL:https://www.gavinton.net/event/fogo-kirk-service-2-2-2-2-2/2027-04-25/
CATEGORIES:church service
END:VEVENT
BEGIN:VEVENT
DTSTART;TZID=Europe/London:20270426T183000
DTEND;TZID=Europe/London:20270426T210000
DTSTAMP:20260421T133710
CREATED:20260326T202728Z
LAST-MODIFIED:20260326T202729Z
UID:10003899-1808764200-1808773200@www.gavinton.net
SUMMARY:Duns Pipe Band
DESCRIPTION:
URL:https://www.gavinton.net/event/duns-pipe-band-9-2/2027-04-26/
CATEGORIES:hall booking
END:VEVENT
BEGIN:VEVENT
DTSTART;TZID=Europe/London:20270502T103000
DTEND;TZID=Europe/London:20270502T103000
DTSTAMP:20260421T133710
CREATED:20190302T123243Z
LAST-MODIFIED:20190625T115916Z
UID:10000558-1809253800-1809253800@www.gavinton.net
SUMMARY:Fogo Kirk Service
DESCRIPTION:Services are usually every Sunday at 10:30 am\, and all visitors are most welcome\nCheck the current schedule of church services here
URL:https://www.gavinton.net/event/fogo-kirk-service-2-2-2-2-2/2027-05-02/
CATEGORIES:church service
END:VEVENT
BEGIN:VEVENT
DTSTART;TZID=Europe/London:20270503T183000
DTEND;TZID=Europe/London:20270503T210000
DTSTAMP:20260421T133710
CREATED:20260326T202728Z
LAST-MODIFIED:20260326T202729Z
UID:10003900-1809369000-1809378000@www.gavinton.net
SUMMARY:Duns Pipe Band
DESCRIPTION:
URL:https://www.gavinton.net/event/duns-pipe-band-9-2/2027-05-03/
CATEGORIES:hall booking
END:VEVENT
BEGIN:VEVENT
DTSTART;TZID=Europe/London:20270509T103000
DTEND;TZID=Europe/London:20270509T103000
DTSTAMP:20260421T133710
CREATED:20190302T123243Z
LAST-MODIFIED:20190625T115916Z
UID:10000559-1809858600-1809858600@www.gavinton.net
SUMMARY:Fogo Kirk Service
DESCRIPTION:Services are usually every Sunday at 10:30 am\, and all visitors are most welcome\nCheck the current schedule of church services here
URL:https://www.gavinton.net/event/fogo-kirk-service-2-2-2-2-2/2027-05-09/
CATEGORIES:church service
END:VEVENT
BEGIN:VEVENT
DTSTART;TZID=Europe/London:20270510T183000
DTEND;TZID=Europe/London:20270510T210000
DTSTAMP:20260421T133710
CREATED:20260326T202728Z
LAST-MODIFIED:20260326T202729Z
UID:10003901-1809973800-1809982800@www.gavinton.net
SUMMARY:Duns Pipe Band
DESCRIPTION:
URL:https://www.gavinton.net/event/duns-pipe-band-9-2/2027-05-10/
CATEGORIES:hall booking
END:VEVENT
BEGIN:VEVENT
DTSTART;TZID=Europe/London:20270516T103000
DTEND;TZID=Europe/London:20270516T103000
DTSTAMP:20260421T133710
CREATED:20190302T123243Z
LAST-MODIFIED:20190625T115916Z
UID:10000560-1810463400-1810463400@www.gavinton.net
SUMMARY:Fogo Kirk Service
DESCRIPTION:Services are usually every Sunday at 10:30 am\, and all visitors are most welcome\nCheck the current schedule of church services here
URL:https://www.gavinton.net/event/fogo-kirk-service-2-2-2-2-2/2027-05-16/
CATEGORIES:church service
END:VEVENT
BEGIN:VEVENT
DTSTART;TZID=Europe/London:20270517T183000
DTEND;TZID=Europe/London:20270517T210000
DTSTAMP:20260421T133710
CREATED:20260326T202728Z
LAST-MODIFIED:20260326T202729Z
UID:10003902-1810578600-1810587600@www.gavinton.net
SUMMARY:Duns Pipe Band
DESCRIPTION:
URL:https://www.gavinton.net/event/duns-pipe-band-9-2/2027-05-17/
CATEGORIES:hall booking
END:VEVENT
BEGIN:VEVENT
DTSTART;TZID=Europe/London:20270523T103000
DTEND;TZID=Europe/London:20270523T103000
DTSTAMP:20260421T133710
CREATED:20190302T123243Z
LAST-MODIFIED:20190625T115916Z
UID:10000561-1811068200-1811068200@www.gavinton.net
SUMMARY:Fogo Kirk Service
DESCRIPTION:Services are usually every Sunday at 10:30 am\, and all visitors are most welcome\nCheck the current schedule of church services here
URL:https://www.gavinton.net/event/fogo-kirk-service-2-2-2-2-2/2027-05-23/
CATEGORIES:church service
END:VEVENT
BEGIN:VEVENT
DTSTART;TZID=Europe/London:20270524T183000
DTEND;TZID=Europe/London:20270524T210000
DTSTAMP:20260421T133710
CREATED:20260326T202728Z
LAST-MODIFIED:20260326T202729Z
UID:10003903-1811183400-1811192400@www.gavinton.net
SUMMARY:Duns Pipe Band
DESCRIPTION:
URL:https://www.gavinton.net/event/duns-pipe-band-9-2/2027-05-24/
CATEGORIES:hall booking
END:VEVENT
BEGIN:VEVENT
DTSTART;TZID=Europe/London:20270530T103000
DTEND;TZID=Europe/London:20270530T103000
DTSTAMP:20260421T133710
CREATED:20190302T123243Z
LAST-MODIFIED:20190625T115916Z
UID:10000562-1811673000-1811673000@www.gavinton.net
SUMMARY:Fogo Kirk Service
DESCRIPTION:Services are usually every Sunday at 10:30 am\, and all visitors are most welcome\nCheck the current schedule of church services here
URL:https://www.gavinton.net/event/fogo-kirk-service-2-2-2-2-2/2027-05-30/
CATEGORIES:church service
END:VEVENT
BEGIN:VEVENT
DTSTART;TZID=Europe/London:20270531T183000
DTEND;TZID=Europe/London:20270531T210000
DTSTAMP:20260421T133710
CREATED:20260326T202728Z
LAST-MODIFIED:20260326T202729Z
UID:10003904-1811788200-1811797200@www.gavinton.net
SUMMARY:Duns Pipe Band
DESCRIPTION:
URL:https://www.gavinton.net/event/duns-pipe-band-9-2/2027-05-31/
CATEGORIES:hall booking
END:VEVENT
BEGIN:VEVENT
DTSTART;TZID=Europe/London:20270606T103000
DTEND;TZID=Europe/London:20270606T103000
DTSTAMP:20260421T133710
CREATED:20190302T123243Z
LAST-MODIFIED:20190625T115916Z
UID:10000563-1812277800-1812277800@www.gavinton.net
SUMMARY:Fogo Kirk Service
DESCRIPTION:Services are usually every Sunday at 10:30 am\, and all visitors are most welcome\nCheck the current schedule of church services here
URL:https://www.gavinton.net/event/fogo-kirk-service-2-2-2-2-2/2027-06-06/
CATEGORIES:church service
END:VEVENT
END:VCALENDAR