BEGIN:VCALENDAR
VERSION:2.0
PRODID:-//Gavinton, Fogo &amp; Polwarth Community Website - ECPv6.15.11//NONSGML v1.0//EN
CALSCALE:GREGORIAN
METHOD:PUBLISH
X-WR-CALNAME:Gavinton, Fogo &amp; Polwarth Community Website
X-ORIGINAL-URL:https://www.gavinton.net
X-WR-CALDESC:Events for Gavinton, Fogo &amp; Polwarth Community Website
REFRESH-INTERVAL;VALUE=DURATION:PT1H
X-Robots-Tag:noindex
X-PUBLISHED-TTL:PT1H
BEGIN:VTIMEZONE
TZID:Europe/London
BEGIN:DAYLIGHT
TZOFFSETFROM:+0000
TZOFFSETTO:+0100
TZNAME:BST
DTSTART:20240331T010000
END:DAYLIGHT
BEGIN:STANDARD
TZOFFSETFROM:+0100
TZOFFSETTO:+0000
TZNAME:GMT
DTSTART:20241027T010000
END:STANDARD
BEGIN:DAYLIGHT
TZOFFSETFROM:+0000
TZOFFSETTO:+0100
TZNAME:BST
DTSTART:20250330T010000
END:DAYLIGHT
BEGIN:STANDARD
TZOFFSETFROM:+0100
TZOFFSETTO:+0000
TZNAME:GMT
DTSTART:20251026T010000
END:STANDARD
BEGIN:DAYLIGHT
TZOFFSETFROM:+0000
TZOFFSETTO:+0100
TZNAME:BST
DTSTART:20260329T010000
END:DAYLIGHT
BEGIN:STANDARD
TZOFFSETFROM:+0100
TZOFFSETTO:+0000
TZNAME:GMT
DTSTART:20261025T010000
END:STANDARD
END:VTIMEZONE
BEGIN:VEVENT
DTSTART;TZID=Europe/London:20250313T193000
DTEND;TZID=Europe/London:20250313T210000
DTSTAMP:20260421T055836
CREATED:20240727T104201Z
LAST-MODIFIED:20240727T104201Z
UID:10002392-1741894200-1741899600@www.gavinton.net
SUMMARY:Scottish Woman's Institute
DESCRIPTION:meeting
URL:https://www.gavinton.net/event/scottish-womans-institute/2025-03-13/
CATEGORIES:hall booking,SWI meeting
END:VEVENT
BEGIN:VEVENT
DTSTART;TZID=Europe/London:20250313T164500
DTEND;TZID=Europe/London:20250313T191000
DTSTAMP:20260421T055836
CREATED:20250121T155149Z
LAST-MODIFIED:20250413T154704Z
UID:10002768-1741884300-1741893000@www.gavinton.net
SUMMARY:social sewing class
DESCRIPTION:sewing class
URL:https://www.gavinton.net/event/social-sewing-class/2025-03-13/
CATEGORIES:hall booking
END:VEVENT
BEGIN:VEVENT
DTSTART;TZID=Europe/London:20250313T123300
DTEND;TZID=Europe/London:20250313T151500
DTSTAMP:20260421T055836
CREATED:20250311T190218Z
LAST-MODIFIED:20250311T190218Z
UID:10002807-1741869180-1741878900@www.gavinton.net
SUMMARY:U3A Histories of the Everyday
DESCRIPTION:meeting
URL:https://www.gavinton.net/event/u3a-histories-of-the-everyday-2/
CATEGORIES:hall booking
END:VEVENT
BEGIN:VEVENT
DTSTART;TZID=Europe/London:20250313T093000
DTEND;TZID=Europe/London:20250313T110000
DTSTAMP:20260421T055836
CREATED:20241002T111253Z
LAST-MODIFIED:20241002T111534Z
UID:10002604-1741858200-1741863600@www.gavinton.net
SUMMARY:U3A Scottish Country Dancing
DESCRIPTION:
URL:https://www.gavinton.net/event/u3a-scottish-country-dancing-4/2025-03-13/
CATEGORIES:dance class,hall booking
END:VEVENT
BEGIN:VEVENT
DTSTART;TZID=Europe/London:20250310T190000
DTEND;TZID=Europe/London:20250310T210000
DTSTAMP:20260421T055836
CREATED:20240226T183727Z
LAST-MODIFIED:20250525T140116Z
UID:10002097-1741633200-1741640400@www.gavinton.net
SUMMARY:CC meeting
DESCRIPTION:
URL:https://www.gavinton.net/event/cc-meeting-8/2025-03-10/
CATEGORIES:CC meeting,hall booking
END:VEVENT
BEGIN:VEVENT
DTSTART;TZID=Europe/London:20250310T104500
DTEND;TZID=Europe/London:20250310T121500
DTSTAMP:20260421T055836
CREATED:20240703T153007Z
LAST-MODIFIED:20240703T153007Z
UID:10002367-1741603500-1741608900@www.gavinton.net
SUMMARY:U3A Tap Dancing
DESCRIPTION:
URL:https://www.gavinton.net/event/u3a-tap-dancing-8/2025-03-10/
CATEGORIES:dance class,hall booking
END:VEVENT
BEGIN:VEVENT
DTSTART;TZID=Europe/London:20250309T150000
DTEND;TZID=Europe/London:20250309T170000
DTSTAMP:20260421T055836
CREATED:20240410T150623Z
LAST-MODIFIED:20240424T183505Z
UID:10002310-1741532400-1741539600@www.gavinton.net
SUMMARY:Duns pipe band
DESCRIPTION:Duns pipe band practice
URL:https://www.gavinton.net/event/privat-hire-4/2025-03-09/
CATEGORIES:hall booking
END:VEVENT
BEGIN:VEVENT
DTSTART;TZID=Europe/London:20250309T103000
DTEND;TZID=Europe/London:20250309T103000
DTSTAMP:20260421T055836
CREATED:20190302T123243Z
LAST-MODIFIED:20190625T115916Z
UID:10000446-1741516200-1741516200@www.gavinton.net
SUMMARY:Fogo Kirk Service
DESCRIPTION:Services are usually every Sunday at 10:30 am\, and all visitors are most welcome\nCheck the current schedule of church services here
URL:https://www.gavinton.net/event/fogo-kirk-service-2-2-2-2-2/2025-03-09/
CATEGORIES:church service
END:VEVENT
BEGIN:VEVENT
DTSTART;TZID=Europe/London:20250309T094500
DTEND;TZID=Europe/London:20250309T094500
DTSTAMP:20260421T055836
CREATED:20241230T143742Z
LAST-MODIFIED:20241230T144128Z
UID:10002715-1741513500-1741513500@www.gavinton.net
SUMMARY:Langton Church service
DESCRIPTION:Check the current schedule of church services here\, usually the second and fourth Sunday of each month at 09.45 am. When there is a fifth Sunday\, the service is held in Duns parish church at 11.00 am.
URL:https://www.gavinton.net/event/langton-church-service-4/2025-03-09/
LOCATION:Langton Church\, Gavinton
CATEGORIES:church service
END:VEVENT
BEGIN:VEVENT
DTSTART;TZID=Europe/London:20250308T190000
DTEND;TZID=Europe/London:20250308T220000
DTSTAMP:20260421T055836
CREATED:20250212T121638Z
LAST-MODIFIED:20250212T121638Z
UID:10002792-1741460400-1741471200@www.gavinton.net
SUMMARY:village hall - FILM
DESCRIPTION:TBC
URL:https://www.gavinton.net/event/village-hall-film-12/
CATEGORIES:film,hall booking
END:VEVENT
BEGIN:VEVENT
DTSTART;TZID=Europe/London:20250307T173000
DTEND;TZID=Europe/London:20250307T193000
DTSTAMP:20260421T055836
CREATED:20250219T160349Z
LAST-MODIFIED:20250219T161722Z
UID:10002799-1741368600-1741375800@www.gavinton.net
SUMMARY:private hire
DESCRIPTION:pony club training
URL:https://www.gavinton.net/event/private-hire-101/2025-03-07/
CATEGORIES:hall booking
END:VEVENT
BEGIN:VEVENT
DTSTART;TZID=Europe/London:20250307T100000
DTEND;TZID=Europe/London:20250307T120000
DTSTAMP:20260421T055836
CREATED:20240913T163434Z
LAST-MODIFIED:20240913T163434Z
UID:10002554-1741341600-1741348800@www.gavinton.net
SUMMARY:U3A Middle Eastern Studies
DESCRIPTION:
URL:https://www.gavinton.net/event/u3a-middle-eastern-studies-14/2025-03-07/
CATEGORIES:hall booking
END:VEVENT
BEGIN:VEVENT
DTSTART;TZID=Europe/London:20250306T164500
DTEND;TZID=Europe/London:20250306T191000
DTSTAMP:20260421T055836
CREATED:20250121T155149Z
LAST-MODIFIED:20250413T154704Z
UID:10002767-1741279500-1741288200@www.gavinton.net
SUMMARY:social sewing class
DESCRIPTION:sewing class
URL:https://www.gavinton.net/event/social-sewing-class/2025-03-06/
CATEGORIES:hall booking
END:VEVENT
BEGIN:VEVENT
DTSTART;TZID=Europe/London:20250306T093000
DTEND;TZID=Europe/London:20250306T110000
DTSTAMP:20260421T055836
CREATED:20241002T111253Z
LAST-MODIFIED:20241002T111534Z
UID:10002603-1741253400-1741258800@www.gavinton.net
SUMMARY:U3A Scottish Country Dancing
DESCRIPTION:
URL:https://www.gavinton.net/event/u3a-scottish-country-dancing-4/2025-03-06/
CATEGORIES:dance class,hall booking
END:VEVENT
BEGIN:VEVENT
DTSTART;TZID=Europe/London:20250303T190000
DTEND;TZID=Europe/London:20250303T210000
DTSTAMP:20260421T055836
CREATED:20240410T140815Z
LAST-MODIFIED:20240423T165029Z
UID:10002294-1741028400-1741035600@www.gavinton.net
SUMMARY:Duns Pipe Band
DESCRIPTION:Duns pipe band practice
URL:https://www.gavinton.net/event/private-hire-58/2025-03-03/
CATEGORIES:hall booking
END:VEVENT
BEGIN:VEVENT
DTSTART;TZID=Europe/London:20250303T104500
DTEND;TZID=Europe/London:20250303T121500
DTSTAMP:20260421T055836
CREATED:20240703T153007Z
LAST-MODIFIED:20240703T153007Z
UID:10002366-1740998700-1741004100@www.gavinton.net
SUMMARY:U3A Tap Dancing
DESCRIPTION:
URL:https://www.gavinton.net/event/u3a-tap-dancing-8/2025-03-03/
CATEGORIES:dance class,hall booking
END:VEVENT
BEGIN:VEVENT
DTSTART;TZID=Europe/London:20250302T143000
DTEND;TZID=Europe/London:20250302T170000
DTSTAMP:20260421T055836
CREATED:20241214T171906Z
LAST-MODIFIED:20250203T130336Z
UID:10002637-1740925800-1740934800@www.gavinton.net
SUMMARY:Berwickshire Adventure Film Festival 2025 - Gavinton Village Hall
DESCRIPTION:Film details
URL:https://www.gavinton.net/event/berwickshire-adventure-film-festival/
CATEGORIES:hall booking
END:VEVENT
BEGIN:VEVENT
DTSTART;TZID=Europe/London:20250302T103000
DTEND;TZID=Europe/London:20250302T103000
DTSTAMP:20260421T055836
CREATED:20190302T123243Z
LAST-MODIFIED:20190625T115916Z
UID:10000445-1740911400-1740911400@www.gavinton.net
SUMMARY:Fogo Kirk Service
DESCRIPTION:Services are usually every Sunday at 10:30 am\, and all visitors are most welcome\nCheck the current schedule of church services here
URL:https://www.gavinton.net/event/fogo-kirk-service-2-2-2-2-2/2025-03-02/
CATEGORIES:church service
END:VEVENT
BEGIN:VEVENT
DTSTART;TZID=Europe/London:20250301T190000
DTEND;TZID=Europe/London:20250301T213000
DTSTAMP:20260421T055836
CREATED:20241214T174425Z
LAST-MODIFIED:20250203T130217Z
UID:10002635-1740855600-1740864600@www.gavinton.net
SUMMARY:Berwickshire Adventure Film Festival 2025 - Gavinton Village Hall
DESCRIPTION:Film details
URL:https://www.gavinton.net/event/berwickshire-adventure-film-festival-2-3/
CATEGORIES:hall booking
END:VEVENT
BEGIN:VEVENT
DTSTART;TZID=Europe/London:20250228T190000
DTEND;TZID=Europe/London:20250228T213000
DTSTAMP:20260421T055836
CREATED:20241214T174314Z
LAST-MODIFIED:20250203T130106Z
UID:10002629-1740769200-1740778200@www.gavinton.net
SUMMARY:Berwickshire Adventure Film Festival 2025 - Gavinton Village Hall
DESCRIPTION:Film details
URL:https://www.gavinton.net/event/berwickshire-adventure-film-festival-2-2/
CATEGORIES:hall booking
END:VEVENT
BEGIN:VEVENT
DTSTART;TZID=Europe/London:20250227T164500
DTEND;TZID=Europe/London:20250227T191000
DTSTAMP:20260421T055836
CREATED:20250121T155149Z
LAST-MODIFIED:20250413T154704Z
UID:10002766-1740674700-1740683400@www.gavinton.net
SUMMARY:social sewing class
DESCRIPTION:sewing class
URL:https://www.gavinton.net/event/social-sewing-class/2025-02-27/
CATEGORIES:hall booking
END:VEVENT
BEGIN:VEVENT
DTSTART;TZID=Europe/London:20250227T093000
DTEND;TZID=Europe/London:20250227T110000
DTSTAMP:20260421T055836
CREATED:20241002T111253Z
LAST-MODIFIED:20241002T111534Z
UID:10002602-1740648600-1740654000@www.gavinton.net
SUMMARY:U3A Scottish Country Dancing
DESCRIPTION:
URL:https://www.gavinton.net/event/u3a-scottish-country-dancing-4/2025-02-27/
CATEGORIES:dance class,hall booking
END:VEVENT
BEGIN:VEVENT
DTSTART;TZID=Europe/London:20250224T190000
DTEND;TZID=Europe/London:20250224T210000
DTSTAMP:20260421T055836
CREATED:20240410T140815Z
LAST-MODIFIED:20240423T165029Z
UID:10002293-1740423600-1740430800@www.gavinton.net
SUMMARY:Duns Pipe Band
DESCRIPTION:Duns pipe band practice
URL:https://www.gavinton.net/event/private-hire-58/2025-02-24/
CATEGORIES:hall booking
END:VEVENT
BEGIN:VEVENT
DTSTART;TZID=Europe/London:20250223T103000
DTEND;TZID=Europe/London:20250223T103000
DTSTAMP:20260421T055836
CREATED:20190302T123243Z
LAST-MODIFIED:20190625T115916Z
UID:10000444-1740306600-1740306600@www.gavinton.net
SUMMARY:Fogo Kirk Service
DESCRIPTION:Services are usually every Sunday at 10:30 am\, and all visitors are most welcome\nCheck the current schedule of church services here
URL:https://www.gavinton.net/event/fogo-kirk-service-2-2-2-2-2/2025-02-23/
CATEGORIES:church service
END:VEVENT
BEGIN:VEVENT
DTSTART;TZID=Europe/London:20250223T094500
DTEND;TZID=Europe/London:20250223T094500
DTSTAMP:20260421T055836
CREATED:20241230T143742Z
LAST-MODIFIED:20241230T144128Z
UID:10002714-1740303900-1740303900@www.gavinton.net
SUMMARY:Langton Church service
DESCRIPTION:Check the current schedule of church services here\, usually the second and fourth Sunday of each month at 09.45 am. When there is a fifth Sunday\, the service is held in Duns parish church at 11.00 am.
URL:https://www.gavinton.net/event/langton-church-service-4/2025-02-23/
LOCATION:Langton Church\, Gavinton
CATEGORIES:church service
END:VEVENT
BEGIN:VEVENT
DTSTART;TZID=Europe/London:20250222T100000
DTEND;TZID=Europe/London:20250222T120000
DTSTAMP:20260421T055836
CREATED:20240908T202949Z
LAST-MODIFIED:20240915T193400Z
UID:10002537-1740218400-1740225600@www.gavinton.net
SUMMARY:village hall - coffee morning
DESCRIPTION:Coffee morning FREE
URL:https://www.gavinton.net/event/cancelled-village-hall-coffee-morning-2024-25/2025-02-22/
CATEGORIES:coffee morning,hall booking
END:VEVENT
BEGIN:VEVENT
DTSTART;TZID=Europe/London:20250221T190000
DTEND;TZID=Europe/London:20250221T220000
DTSTAMP:20260421T055836
CREATED:20250108T103844Z
LAST-MODIFIED:20250215T180328Z
UID:10002757-1740164400-1740175200@www.gavinton.net
SUMMARY:village hall - National Theatre Live Screening - The Importance of being Ernest (PG)
DESCRIPTION:Come along and enjoy some of the best of British theatre\n£10 ticket; bar open at 6.30pm\nTrailer: here\nReviews: here
URL:https://www.gavinton.net/event/village-hall-national-theatre-live-screening-the-importance-of-being-ernest-pg/
CATEGORIES:film
END:VEVENT
BEGIN:VEVENT
DTSTART;TZID=Europe/London:20250221T140000
DTEND;TZID=Europe/London:20250221T153000
DTSTAMP:20260421T055836
CREATED:20250107T155912Z
LAST-MODIFIED:20250107T155912Z
UID:10002753-1740146400-1740151800@www.gavinton.net
SUMMARY:SBC Councillor John Greenwell - advisory surgery
DESCRIPTION:Advisory surgery\nAll welcome
URL:https://www.gavinton.net/event/sbc-councillor-john-greenwell-advisory-surgery/
CATEGORIES:hall booking
END:VEVENT
BEGIN:VEVENT
DTSTART;TZID=Europe/London:20250221T100000
DTEND;TZID=Europe/London:20250221T120000
DTSTAMP:20260421T055836
CREATED:20240913T163434Z
LAST-MODIFIED:20240913T163434Z
UID:10002553-1740132000-1740139200@www.gavinton.net
SUMMARY:U3A Middle Eastern Studies
DESCRIPTION:
URL:https://www.gavinton.net/event/u3a-middle-eastern-studies-14/2025-02-21/
CATEGORIES:hall booking
END:VEVENT
BEGIN:VEVENT
DTSTART;TZID=Europe/London:20250220T170000
DTEND;TZID=Europe/London:20250220T200000
DTSTAMP:20260421T055836
CREATED:20250218T154437Z
LAST-MODIFIED:20250218T154439Z
UID:10002765-1740070800-1740081600@www.gavinton.net
SUMMARY:social sewing class
DESCRIPTION:sewing class
URL:https://www.gavinton.net/event/social-sewing-class-2/
CATEGORIES:hall booking
END:VEVENT
END:VCALENDAR