BEGIN:VCALENDAR
VERSION:2.0
PRODID:-//Gavinton, Fogo &amp; Polwarth Community Website - ECPv6.15.11//NONSGML v1.0//EN
CALSCALE:GREGORIAN
METHOD:PUBLISH
X-WR-CALNAME:Gavinton, Fogo &amp; Polwarth Community Website
X-ORIGINAL-URL:https://www.gavinton.net
X-WR-CALDESC:Events for Gavinton, Fogo &amp; Polwarth Community Website
REFRESH-INTERVAL;VALUE=DURATION:PT1H
X-Robots-Tag:noindex
X-PUBLISHED-TTL:PT1H
BEGIN:VTIMEZONE
TZID:Europe/London
BEGIN:DAYLIGHT
TZOFFSETFROM:+0000
TZOFFSETTO:+0100
TZNAME:BST
DTSTART:20260329T010000
END:DAYLIGHT
BEGIN:STANDARD
TZOFFSETFROM:+0100
TZOFFSETTO:+0000
TZNAME:GMT
DTSTART:20261025T010000
END:STANDARD
BEGIN:DAYLIGHT
TZOFFSETFROM:+0000
TZOFFSETTO:+0100
TZNAME:BST
DTSTART:20270328T010000
END:DAYLIGHT
BEGIN:STANDARD
TZOFFSETFROM:+0100
TZOFFSETTO:+0000
TZNAME:GMT
DTSTART:20271031T010000
END:STANDARD
BEGIN:DAYLIGHT
TZOFFSETFROM:+0000
TZOFFSETTO:+0100
TZNAME:BST
DTSTART:20280326T010000
END:DAYLIGHT
BEGIN:STANDARD
TZOFFSETFROM:+0100
TZOFFSETTO:+0000
TZNAME:GMT
DTSTART:20281029T010000
END:STANDARD
END:VTIMEZONE
BEGIN:VEVENT
DTSTART;TZID=Europe/London:20270510T183000
DTEND;TZID=Europe/London:20270510T210000
DTSTAMP:20260421T014625
CREATED:20260326T202728Z
LAST-MODIFIED:20260326T202729Z
UID:10003901-1809973800-1809982800@www.gavinton.net
SUMMARY:Duns Pipe Band
DESCRIPTION:
URL:https://www.gavinton.net/event/duns-pipe-band-9-2/2027-05-10/
CATEGORIES:hall booking
END:VEVENT
BEGIN:VEVENT
DTSTART;TZID=Europe/London:20270516T103000
DTEND;TZID=Europe/London:20270516T103000
DTSTAMP:20260421T014625
CREATED:20190302T123243Z
LAST-MODIFIED:20190625T115916Z
UID:10000560-1810463400-1810463400@www.gavinton.net
SUMMARY:Fogo Kirk Service
DESCRIPTION:Services are usually every Sunday at 10:30 am\, and all visitors are most welcome\nCheck the current schedule of church services here
URL:https://www.gavinton.net/event/fogo-kirk-service-2-2-2-2-2/2027-05-16/
CATEGORIES:church service
END:VEVENT
BEGIN:VEVENT
DTSTART;TZID=Europe/London:20270517T183000
DTEND;TZID=Europe/London:20270517T210000
DTSTAMP:20260421T014625
CREATED:20260326T202728Z
LAST-MODIFIED:20260326T202729Z
UID:10003902-1810578600-1810587600@www.gavinton.net
SUMMARY:Duns Pipe Band
DESCRIPTION:
URL:https://www.gavinton.net/event/duns-pipe-band-9-2/2027-05-17/
CATEGORIES:hall booking
END:VEVENT
BEGIN:VEVENT
DTSTART;TZID=Europe/London:20270523T103000
DTEND;TZID=Europe/London:20270523T103000
DTSTAMP:20260421T014625
CREATED:20190302T123243Z
LAST-MODIFIED:20190625T115916Z
UID:10000561-1811068200-1811068200@www.gavinton.net
SUMMARY:Fogo Kirk Service
DESCRIPTION:Services are usually every Sunday at 10:30 am\, and all visitors are most welcome\nCheck the current schedule of church services here
URL:https://www.gavinton.net/event/fogo-kirk-service-2-2-2-2-2/2027-05-23/
CATEGORIES:church service
END:VEVENT
BEGIN:VEVENT
DTSTART;TZID=Europe/London:20270524T183000
DTEND;TZID=Europe/London:20270524T210000
DTSTAMP:20260421T014625
CREATED:20260326T202728Z
LAST-MODIFIED:20260326T202729Z
UID:10003903-1811183400-1811192400@www.gavinton.net
SUMMARY:Duns Pipe Band
DESCRIPTION:
URL:https://www.gavinton.net/event/duns-pipe-band-9-2/2027-05-24/
CATEGORIES:hall booking
END:VEVENT
BEGIN:VEVENT
DTSTART;TZID=Europe/London:20270530T103000
DTEND;TZID=Europe/London:20270530T103000
DTSTAMP:20260421T014625
CREATED:20190302T123243Z
LAST-MODIFIED:20190625T115916Z
UID:10000562-1811673000-1811673000@www.gavinton.net
SUMMARY:Fogo Kirk Service
DESCRIPTION:Services are usually every Sunday at 10:30 am\, and all visitors are most welcome\nCheck the current schedule of church services here
URL:https://www.gavinton.net/event/fogo-kirk-service-2-2-2-2-2/2027-05-30/
CATEGORIES:church service
END:VEVENT
BEGIN:VEVENT
DTSTART;TZID=Europe/London:20270531T183000
DTEND;TZID=Europe/London:20270531T210000
DTSTAMP:20260421T014625
CREATED:20260326T202728Z
LAST-MODIFIED:20260326T202729Z
UID:10003904-1811788200-1811797200@www.gavinton.net
SUMMARY:Duns Pipe Band
DESCRIPTION:
URL:https://www.gavinton.net/event/duns-pipe-band-9-2/2027-05-31/
CATEGORIES:hall booking
END:VEVENT
BEGIN:VEVENT
DTSTART;TZID=Europe/London:20270606T103000
DTEND;TZID=Europe/London:20270606T103000
DTSTAMP:20260421T014625
CREATED:20190302T123243Z
LAST-MODIFIED:20190625T115916Z
UID:10000563-1812277800-1812277800@www.gavinton.net
SUMMARY:Fogo Kirk Service
DESCRIPTION:Services are usually every Sunday at 10:30 am\, and all visitors are most welcome\nCheck the current schedule of church services here
URL:https://www.gavinton.net/event/fogo-kirk-service-2-2-2-2-2/2027-06-06/
CATEGORIES:church service
END:VEVENT
BEGIN:VEVENT
DTSTART;TZID=Europe/London:20270607T183000
DTEND;TZID=Europe/London:20270607T210000
DTSTAMP:20260421T014625
CREATED:20260326T202728Z
LAST-MODIFIED:20260326T202729Z
UID:10003905-1812393000-1812402000@www.gavinton.net
SUMMARY:Duns Pipe Band
DESCRIPTION:
URL:https://www.gavinton.net/event/duns-pipe-band-9-2/2027-06-07/
CATEGORIES:hall booking
END:VEVENT
BEGIN:VEVENT
DTSTART;TZID=Europe/London:20270613T103000
DTEND;TZID=Europe/London:20270613T103000
DTSTAMP:20260421T014625
CREATED:20190302T123243Z
LAST-MODIFIED:20190625T115916Z
UID:10000564-1812882600-1812882600@www.gavinton.net
SUMMARY:Fogo Kirk Service
DESCRIPTION:Services are usually every Sunday at 10:30 am\, and all visitors are most welcome\nCheck the current schedule of church services here
URL:https://www.gavinton.net/event/fogo-kirk-service-2-2-2-2-2/2027-06-13/
CATEGORIES:church service
END:VEVENT
BEGIN:VEVENT
DTSTART;TZID=Europe/London:20270614T183000
DTEND;TZID=Europe/London:20270614T210000
DTSTAMP:20260421T014625
CREATED:20260326T202728Z
LAST-MODIFIED:20260326T202729Z
UID:10003906-1812997800-1813006800@www.gavinton.net
SUMMARY:Duns Pipe Band
DESCRIPTION:
URL:https://www.gavinton.net/event/duns-pipe-band-9-2/2027-06-14/
CATEGORIES:hall booking
END:VEVENT
BEGIN:VEVENT
DTSTART;TZID=Europe/London:20270620T103000
DTEND;TZID=Europe/London:20270620T103000
DTSTAMP:20260421T014625
CREATED:20190302T123243Z
LAST-MODIFIED:20190625T115916Z
UID:10000565-1813487400-1813487400@www.gavinton.net
SUMMARY:Fogo Kirk Service
DESCRIPTION:Services are usually every Sunday at 10:30 am\, and all visitors are most welcome\nCheck the current schedule of church services here
URL:https://www.gavinton.net/event/fogo-kirk-service-2-2-2-2-2/2027-06-20/
CATEGORIES:church service
END:VEVENT
BEGIN:VEVENT
DTSTART;TZID=Europe/London:20270621T183000
DTEND;TZID=Europe/London:20270621T210000
DTSTAMP:20260421T014625
CREATED:20260326T202728Z
LAST-MODIFIED:20260326T202729Z
UID:10003907-1813602600-1813611600@www.gavinton.net
SUMMARY:Duns Pipe Band
DESCRIPTION:
URL:https://www.gavinton.net/event/duns-pipe-band-9-2/2027-06-21/
CATEGORIES:hall booking
END:VEVENT
BEGIN:VEVENT
DTSTART;TZID=Europe/London:20270627T103000
DTEND;TZID=Europe/London:20270627T103000
DTSTAMP:20260421T014625
CREATED:20190302T123243Z
LAST-MODIFIED:20190625T115916Z
UID:10000566-1814092200-1814092200@www.gavinton.net
SUMMARY:Fogo Kirk Service
DESCRIPTION:Services are usually every Sunday at 10:30 am\, and all visitors are most welcome\nCheck the current schedule of church services here
URL:https://www.gavinton.net/event/fogo-kirk-service-2-2-2-2-2/2027-06-27/
CATEGORIES:church service
END:VEVENT
BEGIN:VEVENT
DTSTART;TZID=Europe/London:20270628T183000
DTEND;TZID=Europe/London:20270628T210000
DTSTAMP:20260421T014625
CREATED:20260326T202728Z
LAST-MODIFIED:20260326T202729Z
UID:10003908-1814207400-1814216400@www.gavinton.net
SUMMARY:Duns Pipe Band
DESCRIPTION:
URL:https://www.gavinton.net/event/duns-pipe-band-9-2/2027-06-28/
CATEGORIES:hall booking
END:VEVENT
BEGIN:VEVENT
DTSTART;TZID=Europe/London:20270704T103000
DTEND;TZID=Europe/London:20270704T103000
DTSTAMP:20260421T014625
CREATED:20190302T123243Z
LAST-MODIFIED:20190625T115916Z
UID:10000567-1814697000-1814697000@www.gavinton.net
SUMMARY:Fogo Kirk Service
DESCRIPTION:Services are usually every Sunday at 10:30 am\, and all visitors are most welcome\nCheck the current schedule of church services here
URL:https://www.gavinton.net/event/fogo-kirk-service-2-2-2-2-2/2027-07-04/
CATEGORIES:church service
END:VEVENT
BEGIN:VEVENT
DTSTART;TZID=Europe/London:20270705T183000
DTEND;TZID=Europe/London:20270705T210000
DTSTAMP:20260421T014625
CREATED:20260326T202728Z
LAST-MODIFIED:20260326T202729Z
UID:10003909-1814812200-1814821200@www.gavinton.net
SUMMARY:Duns Pipe Band
DESCRIPTION:
URL:https://www.gavinton.net/event/duns-pipe-band-9-2/2027-07-05/
CATEGORIES:hall booking
END:VEVENT
BEGIN:VEVENT
DTSTART;TZID=Europe/London:20270711T103000
DTEND;TZID=Europe/London:20270711T103000
DTSTAMP:20260421T014625
CREATED:20190302T123243Z
LAST-MODIFIED:20190625T115916Z
UID:10000568-1815301800-1815301800@www.gavinton.net
SUMMARY:Fogo Kirk Service
DESCRIPTION:Services are usually every Sunday at 10:30 am\, and all visitors are most welcome\nCheck the current schedule of church services here
URL:https://www.gavinton.net/event/fogo-kirk-service-2-2-2-2-2/2027-07-11/
CATEGORIES:church service
END:VEVENT
BEGIN:VEVENT
DTSTART;TZID=Europe/London:20270712T183000
DTEND;TZID=Europe/London:20270712T210000
DTSTAMP:20260421T014625
CREATED:20260326T202728Z
LAST-MODIFIED:20260326T202729Z
UID:10003910-1815417000-1815426000@www.gavinton.net
SUMMARY:Duns Pipe Band
DESCRIPTION:
URL:https://www.gavinton.net/event/duns-pipe-band-9-2/2027-07-12/
CATEGORIES:hall booking
END:VEVENT
BEGIN:VEVENT
DTSTART;TZID=Europe/London:20270718T103000
DTEND;TZID=Europe/London:20270718T103000
DTSTAMP:20260421T014625
CREATED:20190302T123243Z
LAST-MODIFIED:20190625T115916Z
UID:10000569-1815906600-1815906600@www.gavinton.net
SUMMARY:Fogo Kirk Service
DESCRIPTION:Services are usually every Sunday at 10:30 am\, and all visitors are most welcome\nCheck the current schedule of church services here
URL:https://www.gavinton.net/event/fogo-kirk-service-2-2-2-2-2/2027-07-18/
CATEGORIES:church service
END:VEVENT
BEGIN:VEVENT
DTSTART;TZID=Europe/London:20270719T183000
DTEND;TZID=Europe/London:20270719T210000
DTSTAMP:20260421T014625
CREATED:20260326T202728Z
LAST-MODIFIED:20260326T202729Z
UID:10003911-1816021800-1816030800@www.gavinton.net
SUMMARY:Duns Pipe Band
DESCRIPTION:
URL:https://www.gavinton.net/event/duns-pipe-band-9-2/2027-07-19/
CATEGORIES:hall booking
END:VEVENT
BEGIN:VEVENT
DTSTART;TZID=Europe/London:20270725T103000
DTEND;TZID=Europe/London:20270725T103000
DTSTAMP:20260421T014625
CREATED:20190302T123243Z
LAST-MODIFIED:20190625T115916Z
UID:10000570-1816511400-1816511400@www.gavinton.net
SUMMARY:Fogo Kirk Service
DESCRIPTION:Services are usually every Sunday at 10:30 am\, and all visitors are most welcome\nCheck the current schedule of church services here
URL:https://www.gavinton.net/event/fogo-kirk-service-2-2-2-2-2/2027-07-25/
CATEGORIES:church service
END:VEVENT
BEGIN:VEVENT
DTSTART;TZID=Europe/London:20270726T183000
DTEND;TZID=Europe/London:20270726T210000
DTSTAMP:20260421T014625
CREATED:20260326T202728Z
LAST-MODIFIED:20260326T202729Z
UID:10003912-1816626600-1816635600@www.gavinton.net
SUMMARY:Duns Pipe Band
DESCRIPTION:
URL:https://www.gavinton.net/event/duns-pipe-band-9-2/2027-07-26/
CATEGORIES:hall booking
END:VEVENT
BEGIN:VEVENT
DTSTART;TZID=Europe/London:20270801T103000
DTEND;TZID=Europe/London:20270801T103000
DTSTAMP:20260421T014625
CREATED:20190302T123243Z
LAST-MODIFIED:20190625T115916Z
UID:10000571-1817116200-1817116200@www.gavinton.net
SUMMARY:Fogo Kirk Service
DESCRIPTION:Services are usually every Sunday at 10:30 am\, and all visitors are most welcome\nCheck the current schedule of church services here
URL:https://www.gavinton.net/event/fogo-kirk-service-2-2-2-2-2/2027-08-01/
CATEGORIES:church service
END:VEVENT
BEGIN:VEVENT
DTSTART;TZID=Europe/London:20270802T183000
DTEND;TZID=Europe/London:20270802T210000
DTSTAMP:20260421T014625
CREATED:20260326T202728Z
LAST-MODIFIED:20260326T202729Z
UID:10003913-1817231400-1817240400@www.gavinton.net
SUMMARY:Duns Pipe Band
DESCRIPTION:
URL:https://www.gavinton.net/event/duns-pipe-band-9-2/2027-08-02/
CATEGORIES:hall booking
END:VEVENT
BEGIN:VEVENT
DTSTART;TZID=Europe/London:20270808T103000
DTEND;TZID=Europe/London:20270808T103000
DTSTAMP:20260421T014625
CREATED:20190302T123243Z
LAST-MODIFIED:20190625T115916Z
UID:10000572-1817721000-1817721000@www.gavinton.net
SUMMARY:Fogo Kirk Service
DESCRIPTION:Services are usually every Sunday at 10:30 am\, and all visitors are most welcome\nCheck the current schedule of church services here
URL:https://www.gavinton.net/event/fogo-kirk-service-2-2-2-2-2/2027-08-08/
CATEGORIES:church service
END:VEVENT
BEGIN:VEVENT
DTSTART;TZID=Europe/London:20270809T183000
DTEND;TZID=Europe/London:20270809T210000
DTSTAMP:20260421T014625
CREATED:20260326T202728Z
LAST-MODIFIED:20260326T202729Z
UID:10003914-1817836200-1817845200@www.gavinton.net
SUMMARY:Duns Pipe Band
DESCRIPTION:
URL:https://www.gavinton.net/event/duns-pipe-band-9-2/2027-08-09/
CATEGORIES:hall booking
END:VEVENT
BEGIN:VEVENT
DTSTART;TZID=Europe/London:20270815T103000
DTEND;TZID=Europe/London:20270815T103000
DTSTAMP:20260421T014625
CREATED:20190302T123243Z
LAST-MODIFIED:20190625T115916Z
UID:10000573-1818325800-1818325800@www.gavinton.net
SUMMARY:Fogo Kirk Service
DESCRIPTION:Services are usually every Sunday at 10:30 am\, and all visitors are most welcome\nCheck the current schedule of church services here
URL:https://www.gavinton.net/event/fogo-kirk-service-2-2-2-2-2/2027-08-15/
CATEGORIES:church service
END:VEVENT
BEGIN:VEVENT
DTSTART;TZID=Europe/London:20270816T183000
DTEND;TZID=Europe/London:20270816T210000
DTSTAMP:20260421T014625
CREATED:20260326T202728Z
LAST-MODIFIED:20260326T202729Z
UID:10003915-1818441000-1818450000@www.gavinton.net
SUMMARY:Duns Pipe Band
DESCRIPTION:
URL:https://www.gavinton.net/event/duns-pipe-band-9-2/2027-08-16/
CATEGORIES:hall booking
END:VEVENT
BEGIN:VEVENT
DTSTART;TZID=Europe/London:20270822T103000
DTEND;TZID=Europe/London:20270822T103000
DTSTAMP:20260421T014625
CREATED:20190302T123243Z
LAST-MODIFIED:20190625T115916Z
UID:10000574-1818930600-1818930600@www.gavinton.net
SUMMARY:Fogo Kirk Service
DESCRIPTION:Services are usually every Sunday at 10:30 am\, and all visitors are most welcome\nCheck the current schedule of church services here
URL:https://www.gavinton.net/event/fogo-kirk-service-2-2-2-2-2/2027-08-22/
CATEGORIES:church service
END:VEVENT
END:VCALENDAR