BEGIN:VCALENDAR
VERSION:2.0
PRODID:-//Gavinton, Fogo &amp; Polwarth Community Website - ECPv6.15.11//NONSGML v1.0//EN
CALSCALE:GREGORIAN
METHOD:PUBLISH
X-WR-CALNAME:Gavinton, Fogo &amp; Polwarth Community Website
X-ORIGINAL-URL:https://www.gavinton.net
X-WR-CALDESC:Events for Gavinton, Fogo &amp; Polwarth Community Website
REFRESH-INTERVAL;VALUE=DURATION:PT1H
X-Robots-Tag:noindex
X-PUBLISHED-TTL:PT1H
BEGIN:VTIMEZONE
TZID:Europe/London
BEGIN:DAYLIGHT
TZOFFSETFROM:+0000
TZOFFSETTO:+0100
TZNAME:BST
DTSTART:20240331T010000
END:DAYLIGHT
BEGIN:STANDARD
TZOFFSETFROM:+0100
TZOFFSETTO:+0000
TZNAME:GMT
DTSTART:20241027T010000
END:STANDARD
BEGIN:DAYLIGHT
TZOFFSETFROM:+0000
TZOFFSETTO:+0100
TZNAME:BST
DTSTART:20250330T010000
END:DAYLIGHT
BEGIN:STANDARD
TZOFFSETFROM:+0100
TZOFFSETTO:+0000
TZNAME:GMT
DTSTART:20251026T010000
END:STANDARD
BEGIN:DAYLIGHT
TZOFFSETFROM:+0000
TZOFFSETTO:+0100
TZNAME:BST
DTSTART:20260329T010000
END:DAYLIGHT
BEGIN:STANDARD
TZOFFSETFROM:+0100
TZOFFSETTO:+0000
TZNAME:GMT
DTSTART:20261025T010000
END:STANDARD
END:VTIMEZONE
BEGIN:VEVENT
DTSTART;TZID=Europe/London:20250217T104500
DTEND;TZID=Europe/London:20250217T121500
DTSTAMP:20260421T180346
CREATED:20240703T153007Z
LAST-MODIFIED:20240703T153007Z
UID:10002365-1739789100-1739794500@www.gavinton.net
SUMMARY:U3A Tap Dancing
DESCRIPTION:
URL:https://www.gavinton.net/event/u3a-tap-dancing-8/2025-02-17/
CATEGORIES:dance class,hall booking
END:VEVENT
BEGIN:VEVENT
DTSTART;TZID=Europe/London:20250216T103000
DTEND;TZID=Europe/London:20250216T103000
DTSTAMP:20260421T180346
CREATED:20190302T123243Z
LAST-MODIFIED:20190625T115916Z
UID:10000443-1739701800-1739701800@www.gavinton.net
SUMMARY:Fogo Kirk Service
DESCRIPTION:Services are usually every Sunday at 10:30 am\, and all visitors are most welcome\nCheck the current schedule of church services here
URL:https://www.gavinton.net/event/fogo-kirk-service-2-2-2-2-2/2025-02-16/
CATEGORIES:church service
END:VEVENT
BEGIN:VEVENT
DTSTART;TZID=Europe/London:20250214T173000
DTEND;TZID=Europe/London:20250214T193000
DTSTAMP:20260421T180346
CREATED:20250219T160349Z
LAST-MODIFIED:20250219T161722Z
UID:10002798-1739554200-1739561400@www.gavinton.net
SUMMARY:private hire
DESCRIPTION:pony club training
URL:https://www.gavinton.net/event/private-hire-101/2025-02-14/
CATEGORIES:hall booking
END:VEVENT
BEGIN:VEVENT
DTSTART;TZID=Europe/London:20250214T173000
DTEND;TZID=Europe/London:20250214T193000
DTSTAMP:20260421T180346
CREATED:20250219T154534Z
LAST-MODIFIED:20250219T154534Z
UID:10002795-1739554200-1739561400@www.gavinton.net
SUMMARY:private hire
DESCRIPTION:pony club training
URL:https://www.gavinton.net/event/private-hire-100/2025-02-14/
CATEGORIES:hall booking
END:VEVENT
BEGIN:VEVENT
DTSTART;TZID=Europe/London:20250213T193000
DTEND;TZID=Europe/London:20250213T210000
DTSTAMP:20260421T180346
CREATED:20240727T104201Z
LAST-MODIFIED:20240727T104201Z
UID:10002391-1739475000-1739480400@www.gavinton.net
SUMMARY:Scottish Woman's Institute
DESCRIPTION:meeting
URL:https://www.gavinton.net/event/scottish-womans-institute/2025-02-13/
CATEGORIES:hall booking,SWI meeting
END:VEVENT
BEGIN:VEVENT
DTSTART;TZID=Europe/London:20250213T130000
DTEND;TZID=Europe/London:20250213T150000
DTSTAMP:20260421T180346
CREATED:20240913T171301Z
LAST-MODIFIED:20240913T171301Z
UID:10002573-1739451600-1739458800@www.gavinton.net
SUMMARY:u3a Histories of the Everyday
DESCRIPTION:
URL:https://www.gavinton.net/event/u3a-histories-of-the-everyday/2025-02-13/
CATEGORIES:hall booking,u3a
END:VEVENT
BEGIN:VEVENT
DTSTART;TZID=Europe/London:20250213T093000
DTEND;TZID=Europe/London:20250213T110000
DTSTAMP:20260421T180346
CREATED:20241002T111253Z
LAST-MODIFIED:20241002T111534Z
UID:10002600-1739439000-1739444400@www.gavinton.net
SUMMARY:U3A Scottish Country Dancing
DESCRIPTION:
URL:https://www.gavinton.net/event/u3a-scottish-country-dancing-4/2025-02-13/
CATEGORIES:dance class,hall booking
END:VEVENT
BEGIN:VEVENT
DTSTART;TZID=Europe/London:20250212T183000
DTEND;TZID=Europe/London:20250212T203000
DTSTAMP:20260421T180346
CREATED:20250114T184229Z
LAST-MODIFIED:20250114T184229Z
UID:10002759-1739385000-1739392200@www.gavinton.net
SUMMARY:private hire
DESCRIPTION:meeting
URL:https://www.gavinton.net/event/private-hire-96/
CATEGORIES:hall booking
END:VEVENT
BEGIN:VEVENT
DTSTART;TZID=Europe/London:20250212T134500
DTEND;TZID=Europe/London:20250212T161500
DTSTAMP:20260421T180346
CREATED:20240807T173940Z
LAST-MODIFIED:20250201T105106Z
UID:10002788-1739367900-1739376900@www.gavinton.net
SUMMARY:u3a Opera Appreciation
DESCRIPTION:
URL:https://www.gavinton.net/event/u3a-opera-appreciation-5/2025-02-12/
CATEGORIES:hall booking,u3a
END:VEVENT
BEGIN:VEVENT
DTSTART;TZID=Europe/London:20250210T190000
DTEND;TZID=Europe/London:20250210T210000
DTSTAMP:20260421T180346
CREATED:20240410T140815Z
LAST-MODIFIED:20240423T165029Z
UID:10002291-1739214000-1739221200@www.gavinton.net
SUMMARY:Duns Pipe Band
DESCRIPTION:Duns pipe band practice
URL:https://www.gavinton.net/event/private-hire-58/2025-02-10/
CATEGORIES:hall booking
END:VEVENT
BEGIN:VEVENT
DTSTART;TZID=Europe/London:20250210T104500
DTEND;TZID=Europe/London:20250210T121500
DTSTAMP:20260421T180346
CREATED:20240703T153007Z
LAST-MODIFIED:20240703T153007Z
UID:10002364-1739184300-1739189700@www.gavinton.net
SUMMARY:U3A Tap Dancing
DESCRIPTION:
URL:https://www.gavinton.net/event/u3a-tap-dancing-8/2025-02-10/
CATEGORIES:dance class,hall booking
END:VEVENT
BEGIN:VEVENT
DTSTART;TZID=Europe/London:20250209T103000
DTEND;TZID=Europe/London:20250209T103000
DTSTAMP:20260421T180346
CREATED:20190302T123243Z
LAST-MODIFIED:20190625T115916Z
UID:10000442-1739097000-1739097000@www.gavinton.net
SUMMARY:Fogo Kirk Service
DESCRIPTION:Services are usually every Sunday at 10:30 am\, and all visitors are most welcome\nCheck the current schedule of church services here
URL:https://www.gavinton.net/event/fogo-kirk-service-2-2-2-2-2/2025-02-09/
CATEGORIES:church service
END:VEVENT
BEGIN:VEVENT
DTSTART;TZID=Europe/London:20250209T094500
DTEND;TZID=Europe/London:20250209T094500
DTSTAMP:20260421T180346
CREATED:20241230T143742Z
LAST-MODIFIED:20241230T144128Z
UID:10002713-1739094300-1739094300@www.gavinton.net
SUMMARY:Langton Church service
DESCRIPTION:Check the current schedule of church services here\, usually the second and fourth Sunday of each month at 09.45 am. When there is a fifth Sunday\, the service is held in Duns parish church at 11.00 am.
URL:https://www.gavinton.net/event/langton-church-service-4/2025-02-09/
LOCATION:Langton Church\, Gavinton
CATEGORIES:church service
END:VEVENT
BEGIN:VEVENT
DTSTART;TZID=Europe/London:20250207T100000
DTEND;TZID=Europe/London:20250207T120000
DTSTAMP:20260421T180346
CREATED:20240913T163434Z
LAST-MODIFIED:20240913T163434Z
UID:10002552-1738922400-1738929600@www.gavinton.net
SUMMARY:U3A Middle Eastern Studies
DESCRIPTION:
URL:https://www.gavinton.net/event/u3a-middle-eastern-studies-14/2025-02-07/
CATEGORIES:hall booking
END:VEVENT
BEGIN:VEVENT
DTSTART;TZID=Europe/London:20250206T164500
DTEND;TZID=Europe/London:20250206T191000
DTSTAMP:20260421T180346
CREATED:20250121T155149Z
LAST-MODIFIED:20250413T154704Z
UID:10002763-1738860300-1738869000@www.gavinton.net
SUMMARY:social sewing class
DESCRIPTION:sewing class
URL:https://www.gavinton.net/event/social-sewing-class/2025-02-06/
CATEGORIES:hall booking
END:VEVENT
BEGIN:VEVENT
DTSTART;TZID=Europe/London:20250206T093000
DTEND;TZID=Europe/London:20250206T110000
DTSTAMP:20260421T180346
CREATED:20241002T111253Z
LAST-MODIFIED:20241002T111534Z
UID:10002599-1738834200-1738839600@www.gavinton.net
SUMMARY:U3A Scottish Country Dancing
DESCRIPTION:
URL:https://www.gavinton.net/event/u3a-scottish-country-dancing-4/2025-02-06/
CATEGORIES:dance class,hall booking
END:VEVENT
BEGIN:VEVENT
DTSTART;TZID=Europe/London:20250203T190000
DTEND;TZID=Europe/London:20250203T210000
DTSTAMP:20260421T180346
CREATED:20240410T140815Z
LAST-MODIFIED:20240423T165029Z
UID:10002290-1738609200-1738616400@www.gavinton.net
SUMMARY:Duns Pipe Band
DESCRIPTION:Duns pipe band practice
URL:https://www.gavinton.net/event/private-hire-58/2025-02-03/
CATEGORIES:hall booking
END:VEVENT
BEGIN:VEVENT
DTSTART;TZID=Europe/London:20250203T104500
DTEND;TZID=Europe/London:20250203T121500
DTSTAMP:20260421T180346
CREATED:20240703T153007Z
LAST-MODIFIED:20240703T153007Z
UID:10002363-1738579500-1738584900@www.gavinton.net
SUMMARY:U3A Tap Dancing
DESCRIPTION:
URL:https://www.gavinton.net/event/u3a-tap-dancing-8/2025-02-03/
CATEGORIES:dance class,hall booking
END:VEVENT
BEGIN:VEVENT
DTSTART;TZID=Europe/London:20250202T103000
DTEND;TZID=Europe/London:20250202T103000
DTSTAMP:20260421T180346
CREATED:20190302T123243Z
LAST-MODIFIED:20190625T115916Z
UID:10000441-1738492200-1738492200@www.gavinton.net
SUMMARY:Fogo Kirk Service
DESCRIPTION:Services are usually every Sunday at 10:30 am\, and all visitors are most welcome\nCheck the current schedule of church services here
URL:https://www.gavinton.net/event/fogo-kirk-service-2-2-2-2-2/2025-02-02/
CATEGORIES:church service
END:VEVENT
BEGIN:VEVENT
DTSTART;TZID=Europe/London:20250201T183000
DTEND;TZID=Europe/London:20250201T235500
DTSTAMP:20260421T180346
CREATED:20250130T105645Z
LAST-MODIFIED:20250130T105645Z
UID:10002783-1738434600-1738454100@www.gavinton.net
SUMMARY:Burns Supper
DESCRIPTION:6pm for 6.30pm
URL:https://www.gavinton.net/event/burns-supper-3/
CATEGORIES:hall booking
END:VEVENT
BEGIN:VEVENT
DTSTART;TZID=Europe/London:20250131T190000
DTEND;TZID=Europe/London:20250131T220000
DTSTAMP:20260421T180346
CREATED:20250107T165902Z
LAST-MODIFIED:20250108T103215Z
UID:10002754-1738350000-1738360800@www.gavinton.net
SUMMARY:village hall - FILM - 'Outrun' (15)
DESCRIPTION:trailer: here\nreviews: here
URL:https://www.gavinton.net/event/film-outrun-15-in-gavinton-village-hall/
CATEGORIES:film
END:VEVENT
BEGIN:VEVENT
DTSTART;TZID=Europe/London:20250131T083000
DTEND;TZID=Europe/London:20250131T160000
DTSTAMP:20260421T180346
CREATED:20241017T090440Z
LAST-MODIFIED:20241017T090440Z
UID:10002611-1738312200-1738339200@www.gavinton.net
SUMMARY:private hire
DESCRIPTION:Berwickshire Housing – strategy day
URL:https://www.gavinton.net/event/private-hire-86/
CATEGORIES:hall booking
END:VEVENT
BEGIN:VEVENT
DTSTART;TZID=Europe/London:20250130T164500
DTEND;TZID=Europe/London:20250130T191000
DTSTAMP:20260421T180346
CREATED:20250121T155149Z
LAST-MODIFIED:20250413T154704Z
UID:10002762-1738255500-1738264200@www.gavinton.net
SUMMARY:social sewing class
DESCRIPTION:sewing class
URL:https://www.gavinton.net/event/social-sewing-class/2025-01-30/
CATEGORIES:hall booking
END:VEVENT
BEGIN:VEVENT
DTSTART;TZID=Europe/London:20250130T093000
DTEND;TZID=Europe/London:20250130T110000
DTSTAMP:20260421T180346
CREATED:20241002T111253Z
LAST-MODIFIED:20241002T111534Z
UID:10002598-1738229400-1738234800@www.gavinton.net
SUMMARY:U3A Scottish Country Dancing
DESCRIPTION:
URL:https://www.gavinton.net/event/u3a-scottish-country-dancing-4/2025-01-30/
CATEGORIES:dance class,hall booking
END:VEVENT
BEGIN:VEVENT
DTSTART;TZID=Europe/London:20250127T190000
DTEND;TZID=Europe/London:20250127T210000
DTSTAMP:20260421T180346
CREATED:20240226T183727Z
LAST-MODIFIED:20250525T140116Z
UID:10002096-1738004400-1738011600@www.gavinton.net
SUMMARY:CC meeting
DESCRIPTION:
URL:https://www.gavinton.net/event/cc-meeting-8/2025-01-27/
CATEGORIES:CC meeting,hall booking
END:VEVENT
BEGIN:VEVENT
DTSTART;TZID=Europe/London:20250127T104500
DTEND;TZID=Europe/London:20250127T121500
DTSTAMP:20260421T180346
CREATED:20240703T153007Z
LAST-MODIFIED:20240703T153007Z
UID:10002362-1737974700-1737980100@www.gavinton.net
SUMMARY:U3A Tap Dancing
DESCRIPTION:
URL:https://www.gavinton.net/event/u3a-tap-dancing-8/2025-01-27/
CATEGORIES:dance class,hall booking
END:VEVENT
BEGIN:VEVENT
DTSTART;TZID=Europe/London:20250126T150000
DTEND;TZID=Europe/London:20250126T170000
DTSTAMP:20260421T180346
CREATED:20240410T150623Z
LAST-MODIFIED:20240424T183505Z
UID:10002309-1737903600-1737910800@www.gavinton.net
SUMMARY:Duns pipe band
DESCRIPTION:Duns pipe band practice
URL:https://www.gavinton.net/event/privat-hire-4/2025-01-26/
CATEGORIES:hall booking
END:VEVENT
BEGIN:VEVENT
DTSTART;TZID=Europe/London:20250126T103000
DTEND;TZID=Europe/London:20250126T103000
DTSTAMP:20260421T180346
CREATED:20190302T123243Z
LAST-MODIFIED:20190625T115916Z
UID:10000440-1737887400-1737887400@www.gavinton.net
SUMMARY:Fogo Kirk Service
DESCRIPTION:Services are usually every Sunday at 10:30 am\, and all visitors are most welcome\nCheck the current schedule of church services here
URL:https://www.gavinton.net/event/fogo-kirk-service-2-2-2-2-2/2025-01-26/
CATEGORIES:church service
END:VEVENT
BEGIN:VEVENT
DTSTART;TZID=Europe/London:20250126T094500
DTEND;TZID=Europe/London:20250126T094500
DTSTAMP:20260421T180346
CREATED:20241230T143742Z
LAST-MODIFIED:20241230T144128Z
UID:10002712-1737884700-1737884700@www.gavinton.net
SUMMARY:Langton Church service
DESCRIPTION:Check the current schedule of church services here\, usually the second and fourth Sunday of each month at 09.45 am. When there is a fifth Sunday\, the service is held in Duns parish church at 11.00 am.
URL:https://www.gavinton.net/event/langton-church-service-4/2025-01-26/
LOCATION:Langton Church\, Gavinton
CATEGORIES:church service
END:VEVENT
BEGIN:VEVENT
DTSTART;TZID=Europe/London:20250124T173000
DTEND;TZID=Europe/London:20250124T235500
DTSTAMP:20260421T180346
CREATED:20241212T173251Z
LAST-MODIFIED:20250124T103825Z
UID:10002624-1737739800-1737762900@www.gavinton.net
SUMMARY:Burns Supper - CANCELLED due to storm EOWYN
DESCRIPTION:to be resceduled
URL:https://www.gavinton.net/event/burns-supper-2/
CATEGORIES:hall booking
END:VEVENT
END:VCALENDAR