BEGIN:VCALENDAR
VERSION:2.0
PRODID:-//Gavinton, Fogo &amp; Polwarth Community Website - ECPv6.15.11//NONSGML v1.0//EN
CALSCALE:GREGORIAN
METHOD:PUBLISH
X-ORIGINAL-URL:https://www.gavinton.net
X-WR-CALDESC:Events for Gavinton, Fogo &amp; Polwarth Community Website
REFRESH-INTERVAL;VALUE=DURATION:PT1H
X-Robots-Tag:noindex
X-PUBLISHED-TTL:PT1H
BEGIN:VTIMEZONE
TZID:Europe/London
BEGIN:DAYLIGHT
TZOFFSETFROM:+0000
TZOFFSETTO:+0100
TZNAME:BST
DTSTART:20260329T010000
END:DAYLIGHT
BEGIN:STANDARD
TZOFFSETFROM:+0100
TZOFFSETTO:+0000
TZNAME:GMT
DTSTART:20261025T010000
END:STANDARD
BEGIN:DAYLIGHT
TZOFFSETFROM:+0000
TZOFFSETTO:+0100
TZNAME:BST
DTSTART:20270328T010000
END:DAYLIGHT
BEGIN:STANDARD
TZOFFSETFROM:+0100
TZOFFSETTO:+0000
TZNAME:GMT
DTSTART:20271031T010000
END:STANDARD
BEGIN:DAYLIGHT
TZOFFSETFROM:+0000
TZOFFSETTO:+0100
TZNAME:BST
DTSTART:20280326T010000
END:DAYLIGHT
BEGIN:STANDARD
TZOFFSETFROM:+0100
TZOFFSETTO:+0000
TZNAME:GMT
DTSTART:20281029T010000
END:STANDARD
END:VTIMEZONE
BEGIN:VEVENT
DTSTART;TZID=Europe/London:20270912T103000
DTEND;TZID=Europe/London:20270912T103000
DTSTAMP:20260421T134107
CREATED:20190302T123243Z
LAST-MODIFIED:20190625T115916Z
UID:10000577-1820745000-1820745000@www.gavinton.net
SUMMARY:Fogo Kirk Service
DESCRIPTION:Services are usually every Sunday at 10:30 am\, and all visitors are most welcome\nCheck the current schedule of church services here
URL:https://www.gavinton.net/event/fogo-kirk-service-2-2-2-2-2/2027-09-12/
CATEGORIES:church service
END:VEVENT
BEGIN:VEVENT
DTSTART;TZID=Europe/London:20270913T183000
DTEND;TZID=Europe/London:20270913T210000
DTSTAMP:20260421T134107
CREATED:20260326T202728Z
LAST-MODIFIED:20260326T202729Z
UID:10003919-1820860200-1820869200@www.gavinton.net
SUMMARY:Duns Pipe Band
DESCRIPTION:
URL:https://www.gavinton.net/event/duns-pipe-band-9-2/2027-09-13/
CATEGORIES:hall booking
END:VEVENT
BEGIN:VEVENT
DTSTART;TZID=Europe/London:20270919T103000
DTEND;TZID=Europe/London:20270919T103000
DTSTAMP:20260421T134107
CREATED:20190302T123243Z
LAST-MODIFIED:20190625T115916Z
UID:10000578-1821349800-1821349800@www.gavinton.net
SUMMARY:Fogo Kirk Service
DESCRIPTION:Services are usually every Sunday at 10:30 am\, and all visitors are most welcome\nCheck the current schedule of church services here
URL:https://www.gavinton.net/event/fogo-kirk-service-2-2-2-2-2/2027-09-19/
CATEGORIES:church service
END:VEVENT
BEGIN:VEVENT
DTSTART;TZID=Europe/London:20270920T183000
DTEND;TZID=Europe/London:20270920T210000
DTSTAMP:20260421T134107
CREATED:20260326T202728Z
LAST-MODIFIED:20260326T202729Z
UID:10003920-1821465000-1821474000@www.gavinton.net
SUMMARY:Duns Pipe Band
DESCRIPTION:
URL:https://www.gavinton.net/event/duns-pipe-band-9-2/2027-09-20/
CATEGORIES:hall booking
END:VEVENT
BEGIN:VEVENT
DTSTART;TZID=Europe/London:20270926T103000
DTEND;TZID=Europe/London:20270926T103000
DTSTAMP:20260421T134107
CREATED:20190302T123243Z
LAST-MODIFIED:20190625T115916Z
UID:10000579-1821954600-1821954600@www.gavinton.net
SUMMARY:Fogo Kirk Service
DESCRIPTION:Services are usually every Sunday at 10:30 am\, and all visitors are most welcome\nCheck the current schedule of church services here
URL:https://www.gavinton.net/event/fogo-kirk-service-2-2-2-2-2/2027-09-26/
CATEGORIES:church service
END:VEVENT
BEGIN:VEVENT
DTSTART;TZID=Europe/London:20270927T183000
DTEND;TZID=Europe/London:20270927T210000
DTSTAMP:20260421T134107
CREATED:20260326T202728Z
LAST-MODIFIED:20260326T202729Z
UID:10003921-1822069800-1822078800@www.gavinton.net
SUMMARY:Duns Pipe Band
DESCRIPTION:
URL:https://www.gavinton.net/event/duns-pipe-band-9-2/2027-09-27/
CATEGORIES:hall booking
END:VEVENT
BEGIN:VEVENT
DTSTART;TZID=Europe/London:20271003T103000
DTEND;TZID=Europe/London:20271003T103000
DTSTAMP:20260421T134107
CREATED:20190302T123243Z
LAST-MODIFIED:20190625T115916Z
UID:10000580-1822559400-1822559400@www.gavinton.net
SUMMARY:Fogo Kirk Service
DESCRIPTION:Services are usually every Sunday at 10:30 am\, and all visitors are most welcome\nCheck the current schedule of church services here
URL:https://www.gavinton.net/event/fogo-kirk-service-2-2-2-2-2/2027-10-03/
CATEGORIES:church service
END:VEVENT
BEGIN:VEVENT
DTSTART;TZID=Europe/London:20271004T183000
DTEND;TZID=Europe/London:20271004T210000
DTSTAMP:20260421T134107
CREATED:20260326T202728Z
LAST-MODIFIED:20260326T202729Z
UID:10003922-1822674600-1822683600@www.gavinton.net
SUMMARY:Duns Pipe Band
DESCRIPTION:
URL:https://www.gavinton.net/event/duns-pipe-band-9-2/2027-10-04/
CATEGORIES:hall booking
END:VEVENT
BEGIN:VEVENT
DTSTART;TZID=Europe/London:20271010T103000
DTEND;TZID=Europe/London:20271010T103000
DTSTAMP:20260421T134107
CREATED:20190302T123243Z
LAST-MODIFIED:20190625T115916Z
UID:10000581-1823164200-1823164200@www.gavinton.net
SUMMARY:Fogo Kirk Service
DESCRIPTION:Services are usually every Sunday at 10:30 am\, and all visitors are most welcome\nCheck the current schedule of church services here
URL:https://www.gavinton.net/event/fogo-kirk-service-2-2-2-2-2/2027-10-10/
CATEGORIES:church service
END:VEVENT
BEGIN:VEVENT
DTSTART;TZID=Europe/London:20271011T183000
DTEND;TZID=Europe/London:20271011T210000
DTSTAMP:20260421T134107
CREATED:20260326T202728Z
LAST-MODIFIED:20260326T202729Z
UID:10003923-1823279400-1823288400@www.gavinton.net
SUMMARY:Duns Pipe Band
DESCRIPTION:
URL:https://www.gavinton.net/event/duns-pipe-band-9-2/2027-10-11/
CATEGORIES:hall booking
END:VEVENT
BEGIN:VEVENT
DTSTART;TZID=Europe/London:20271017T103000
DTEND;TZID=Europe/London:20271017T103000
DTSTAMP:20260421T134107
CREATED:20190302T123243Z
LAST-MODIFIED:20190625T115916Z
UID:10000582-1823769000-1823769000@www.gavinton.net
SUMMARY:Fogo Kirk Service
DESCRIPTION:Services are usually every Sunday at 10:30 am\, and all visitors are most welcome\nCheck the current schedule of church services here
URL:https://www.gavinton.net/event/fogo-kirk-service-2-2-2-2-2/2027-10-17/
CATEGORIES:church service
END:VEVENT
BEGIN:VEVENT
DTSTART;TZID=Europe/London:20271018T183000
DTEND;TZID=Europe/London:20271018T210000
DTSTAMP:20260421T134107
CREATED:20260326T202728Z
LAST-MODIFIED:20260326T202729Z
UID:10003924-1823884200-1823893200@www.gavinton.net
SUMMARY:Duns Pipe Band
DESCRIPTION:
URL:https://www.gavinton.net/event/duns-pipe-band-9-2/2027-10-18/
CATEGORIES:hall booking
END:VEVENT
BEGIN:VEVENT
DTSTART;TZID=Europe/London:20271024T103000
DTEND;TZID=Europe/London:20271024T103000
DTSTAMP:20260421T134107
CREATED:20190302T123243Z
LAST-MODIFIED:20190625T115916Z
UID:10000583-1824373800-1824373800@www.gavinton.net
SUMMARY:Fogo Kirk Service
DESCRIPTION:Services are usually every Sunday at 10:30 am\, and all visitors are most welcome\nCheck the current schedule of church services here
URL:https://www.gavinton.net/event/fogo-kirk-service-2-2-2-2-2/2027-10-24/
CATEGORIES:church service
END:VEVENT
BEGIN:VEVENT
DTSTART;TZID=Europe/London:20271025T183000
DTEND;TZID=Europe/London:20271025T210000
DTSTAMP:20260421T134107
CREATED:20260326T202728Z
LAST-MODIFIED:20260326T202729Z
UID:10003925-1824489000-1824498000@www.gavinton.net
SUMMARY:Duns Pipe Band
DESCRIPTION:
URL:https://www.gavinton.net/event/duns-pipe-band-9-2/2027-10-25/
CATEGORIES:hall booking
END:VEVENT
BEGIN:VEVENT
DTSTART;TZID=Europe/London:20271031T103000
DTEND;TZID=Europe/London:20271031T103000
DTSTAMP:20260421T134107
CREATED:20190302T123243Z
LAST-MODIFIED:20190625T115916Z
UID:10000584-1824978600-1824978600@www.gavinton.net
SUMMARY:Fogo Kirk Service
DESCRIPTION:Services are usually every Sunday at 10:30 am\, and all visitors are most welcome\nCheck the current schedule of church services here
URL:https://www.gavinton.net/event/fogo-kirk-service-2-2-2-2-2/2027-10-31/
CATEGORIES:church service
END:VEVENT
BEGIN:VEVENT
DTSTART;TZID=Europe/London:20271101T183000
DTEND;TZID=Europe/London:20271101T210000
DTSTAMP:20260421T134107
CREATED:20260326T202728Z
LAST-MODIFIED:20260326T202729Z
UID:10003926-1825093800-1825102800@www.gavinton.net
SUMMARY:Duns Pipe Band
DESCRIPTION:
URL:https://www.gavinton.net/event/duns-pipe-band-9-2/2027-11-01/
CATEGORIES:hall booking
END:VEVENT
BEGIN:VEVENT
DTSTART;TZID=Europe/London:20271107T103000
DTEND;TZID=Europe/London:20271107T103000
DTSTAMP:20260421T134107
CREATED:20190302T123243Z
LAST-MODIFIED:20190625T115916Z
UID:10002111-1825583400-1825583400@www.gavinton.net
SUMMARY:Fogo Kirk Service
DESCRIPTION:Services are usually every Sunday at 10:30 am\, and all visitors are most welcome\nCheck the current schedule of church services here
URL:https://www.gavinton.net/event/fogo-kirk-service-2-2-2-2-2/2027-11-07/
CATEGORIES:church service
END:VEVENT
BEGIN:VEVENT
DTSTART;TZID=Europe/London:20271108T183000
DTEND;TZID=Europe/London:20271108T210000
DTSTAMP:20260421T134107
CREATED:20260326T202728Z
LAST-MODIFIED:20260326T202729Z
UID:10003927-1825698600-1825707600@www.gavinton.net
SUMMARY:Duns Pipe Band
DESCRIPTION:
URL:https://www.gavinton.net/event/duns-pipe-band-9-2/2027-11-08/
CATEGORIES:hall booking
END:VEVENT
BEGIN:VEVENT
DTSTART;TZID=Europe/London:20271114T103000
DTEND;TZID=Europe/London:20271114T103000
DTSTAMP:20260421T134107
CREATED:20190302T123243Z
LAST-MODIFIED:20190625T115916Z
UID:10002112-1826188200-1826188200@www.gavinton.net
SUMMARY:Fogo Kirk Service
DESCRIPTION:Services are usually every Sunday at 10:30 am\, and all visitors are most welcome\nCheck the current schedule of church services here
URL:https://www.gavinton.net/event/fogo-kirk-service-2-2-2-2-2/2027-11-14/
CATEGORIES:church service
END:VEVENT
BEGIN:VEVENT
DTSTART;TZID=Europe/London:20271115T183000
DTEND;TZID=Europe/London:20271115T210000
DTSTAMP:20260421T134107
CREATED:20260326T202728Z
LAST-MODIFIED:20260326T202729Z
UID:10003928-1826303400-1826312400@www.gavinton.net
SUMMARY:Duns Pipe Band
DESCRIPTION:
URL:https://www.gavinton.net/event/duns-pipe-band-9-2/2027-11-15/
CATEGORIES:hall booking
END:VEVENT
BEGIN:VEVENT
DTSTART;TZID=Europe/London:20271121T103000
DTEND;TZID=Europe/London:20271121T103000
DTSTAMP:20260421T134107
CREATED:20190302T123243Z
LAST-MODIFIED:20190625T115916Z
UID:10002113-1826793000-1826793000@www.gavinton.net
SUMMARY:Fogo Kirk Service
DESCRIPTION:Services are usually every Sunday at 10:30 am\, and all visitors are most welcome\nCheck the current schedule of church services here
URL:https://www.gavinton.net/event/fogo-kirk-service-2-2-2-2-2/2027-11-21/
CATEGORIES:church service
END:VEVENT
BEGIN:VEVENT
DTSTART;TZID=Europe/London:20271122T183000
DTEND;TZID=Europe/London:20271122T210000
DTSTAMP:20260421T134107
CREATED:20260326T202728Z
LAST-MODIFIED:20260326T202729Z
UID:10003929-1826908200-1826917200@www.gavinton.net
SUMMARY:Duns Pipe Band
DESCRIPTION:
URL:https://www.gavinton.net/event/duns-pipe-band-9-2/2027-11-22/
CATEGORIES:hall booking
END:VEVENT
BEGIN:VEVENT
DTSTART;TZID=Europe/London:20271128T103000
DTEND;TZID=Europe/London:20271128T103000
DTSTAMP:20260421T134107
CREATED:20190302T123243Z
LAST-MODIFIED:20190625T115916Z
UID:10002114-1827397800-1827397800@www.gavinton.net
SUMMARY:Fogo Kirk Service
DESCRIPTION:Services are usually every Sunday at 10:30 am\, and all visitors are most welcome\nCheck the current schedule of church services here
URL:https://www.gavinton.net/event/fogo-kirk-service-2-2-2-2-2/2027-11-28/
CATEGORIES:church service
END:VEVENT
BEGIN:VEVENT
DTSTART;TZID=Europe/London:20271129T183000
DTEND;TZID=Europe/London:20271129T210000
DTSTAMP:20260421T134107
CREATED:20260326T202728Z
LAST-MODIFIED:20260326T202729Z
UID:10003930-1827513000-1827522000@www.gavinton.net
SUMMARY:Duns Pipe Band
DESCRIPTION:
URL:https://www.gavinton.net/event/duns-pipe-band-9-2/2027-11-29/
CATEGORIES:hall booking
END:VEVENT
BEGIN:VEVENT
DTSTART;TZID=Europe/London:20271205T103000
DTEND;TZID=Europe/London:20271205T103000
DTSTAMP:20260421T134107
CREATED:20190302T123243Z
LAST-MODIFIED:20190625T115916Z
UID:10002115-1828002600-1828002600@www.gavinton.net
SUMMARY:Fogo Kirk Service
DESCRIPTION:Services are usually every Sunday at 10:30 am\, and all visitors are most welcome\nCheck the current schedule of church services here
URL:https://www.gavinton.net/event/fogo-kirk-service-2-2-2-2-2/2027-12-05/
CATEGORIES:church service
END:VEVENT
BEGIN:VEVENT
DTSTART;TZID=Europe/London:20271206T183000
DTEND;TZID=Europe/London:20271206T210000
DTSTAMP:20260421T134107
CREATED:20260326T202728Z
LAST-MODIFIED:20260326T202729Z
UID:10003931-1828117800-1828126800@www.gavinton.net
SUMMARY:Duns Pipe Band
DESCRIPTION:
URL:https://www.gavinton.net/event/duns-pipe-band-9-2/2027-12-06/
CATEGORIES:hall booking
END:VEVENT
BEGIN:VEVENT
DTSTART;TZID=Europe/London:20271212T103000
DTEND;TZID=Europe/London:20271212T103000
DTSTAMP:20260421T134107
CREATED:20190302T123243Z
LAST-MODIFIED:20190625T115916Z
UID:10002116-1828607400-1828607400@www.gavinton.net
SUMMARY:Fogo Kirk Service
DESCRIPTION:Services are usually every Sunday at 10:30 am\, and all visitors are most welcome\nCheck the current schedule of church services here
URL:https://www.gavinton.net/event/fogo-kirk-service-2-2-2-2-2/2027-12-12/
CATEGORIES:church service
END:VEVENT
BEGIN:VEVENT
DTSTART;TZID=Europe/London:20271213T183000
DTEND;TZID=Europe/London:20271213T210000
DTSTAMP:20260421T134107
CREATED:20260326T202728Z
LAST-MODIFIED:20260326T202729Z
UID:10003932-1828722600-1828731600@www.gavinton.net
SUMMARY:Duns Pipe Band
DESCRIPTION:
URL:https://www.gavinton.net/event/duns-pipe-band-9-2/2027-12-13/
CATEGORIES:hall booking
END:VEVENT
BEGIN:VEVENT
DTSTART;TZID=Europe/London:20271219T103000
DTEND;TZID=Europe/London:20271219T103000
DTSTAMP:20260421T134107
CREATED:20190302T123243Z
LAST-MODIFIED:20190625T115916Z
UID:10002117-1829212200-1829212200@www.gavinton.net
SUMMARY:Fogo Kirk Service
DESCRIPTION:Services are usually every Sunday at 10:30 am\, and all visitors are most welcome\nCheck the current schedule of church services here
URL:https://www.gavinton.net/event/fogo-kirk-service-2-2-2-2-2/2027-12-19/
CATEGORIES:church service
END:VEVENT
BEGIN:VEVENT
DTSTART;TZID=Europe/London:20271220T183000
DTEND;TZID=Europe/London:20271220T210000
DTSTAMP:20260421T134107
CREATED:20260326T202728Z
LAST-MODIFIED:20260326T202729Z
UID:10003933-1829327400-1829336400@www.gavinton.net
SUMMARY:Duns Pipe Band
DESCRIPTION:
URL:https://www.gavinton.net/event/duns-pipe-band-9-2/2027-12-20/
CATEGORIES:hall booking
END:VEVENT
END:VCALENDAR