BEGIN:VCALENDAR
VERSION:2.0
PRODID:-//Gavinton, Fogo &amp; Polwarth Community Website - ECPv6.15.11//NONSGML v1.0//EN
CALSCALE:GREGORIAN
METHOD:PUBLISH
X-WR-CALNAME:Gavinton, Fogo &amp; Polwarth Community Website
X-ORIGINAL-URL:https://www.gavinton.net
X-WR-CALDESC:Events for Gavinton, Fogo &amp; Polwarth Community Website
REFRESH-INTERVAL;VALUE=DURATION:PT1H
X-Robots-Tag:noindex
X-PUBLISHED-TTL:PT1H
BEGIN:VTIMEZONE
TZID:Europe/London
BEGIN:DAYLIGHT
TZOFFSETFROM:+0000
TZOFFSETTO:+0100
TZNAME:BST
DTSTART:20230326T010000
END:DAYLIGHT
BEGIN:STANDARD
TZOFFSETFROM:+0100
TZOFFSETTO:+0000
TZNAME:GMT
DTSTART:20231029T010000
END:STANDARD
BEGIN:DAYLIGHT
TZOFFSETFROM:+0000
TZOFFSETTO:+0100
TZNAME:BST
DTSTART:20240331T010000
END:DAYLIGHT
BEGIN:STANDARD
TZOFFSETFROM:+0100
TZOFFSETTO:+0000
TZNAME:GMT
DTSTART:20241027T010000
END:STANDARD
BEGIN:DAYLIGHT
TZOFFSETFROM:+0000
TZOFFSETTO:+0100
TZNAME:BST
DTSTART:20250330T010000
END:DAYLIGHT
BEGIN:STANDARD
TZOFFSETFROM:+0100
TZOFFSETTO:+0000
TZNAME:GMT
DTSTART:20251026T010000
END:STANDARD
BEGIN:DAYLIGHT
TZOFFSETFROM:+0000
TZOFFSETTO:+0100
TZNAME:BST
DTSTART:20260329T010000
END:DAYLIGHT
BEGIN:STANDARD
TZOFFSETFROM:+0100
TZOFFSETTO:+0000
TZNAME:GMT
DTSTART:20261025T010000
END:STANDARD
END:VTIMEZONE
BEGIN:VEVENT
DTSTART;TZID=Europe/London:20250115T134500
DTEND;TZID=Europe/London:20250115T161500
DTSTAMP:20260424T095937
CREATED:20240807T173940Z
LAST-MODIFIED:20250201T105106Z
UID:10002458-1736948700-1736957700@www.gavinton.net
SUMMARY:u3a Opera Appreciation
DESCRIPTION:
URL:https://www.gavinton.net/event/u3a-opera-appreciation-5/2025-01-15/
CATEGORIES:hall booking,u3a
END:VEVENT
BEGIN:VEVENT
DTSTART;TZID=Europe/London:20250114T100000
DTEND;TZID=Europe/London:20250114T120000
DTSTAMP:20260424T095937
CREATED:20241214T143451Z
LAST-MODIFIED:20241214T143451Z
UID:10002626-1736848800-1736856000@www.gavinton.net
SUMMARY:private hire
DESCRIPTION:Village Hall energy audit
URL:https://www.gavinton.net/event/private-hire-92/
CATEGORIES:hall booking
END:VEVENT
BEGIN:VEVENT
DTSTART;TZID=Europe/London:20250113T190000
DTEND;TZID=Europe/London:20250113T210000
DTSTAMP:20260424T095937
CREATED:20240410T140815Z
LAST-MODIFIED:20240423T165029Z
UID:10002288-1736794800-1736802000@www.gavinton.net
SUMMARY:Duns Pipe Band
DESCRIPTION:Duns pipe band practice
URL:https://www.gavinton.net/event/private-hire-58/2025-01-13/
CATEGORIES:hall booking
END:VEVENT
BEGIN:VEVENT
DTSTART;TZID=Europe/London:20250113T104500
DTEND;TZID=Europe/London:20250113T121500
DTSTAMP:20260424T095937
CREATED:20240703T153007Z
LAST-MODIFIED:20240703T153007Z
UID:10002360-1736765100-1736770500@www.gavinton.net
SUMMARY:U3A Tap Dancing
DESCRIPTION:
URL:https://www.gavinton.net/event/u3a-tap-dancing-8/2025-01-13/
CATEGORIES:dance class,hall booking
END:VEVENT
BEGIN:VEVENT
DTSTART;TZID=Europe/London:20250112T103000
DTEND;TZID=Europe/London:20250112T103000
DTSTAMP:20260424T095937
CREATED:20190302T123243Z
LAST-MODIFIED:20190625T115916Z
UID:10000438-1736677800-1736677800@www.gavinton.net
SUMMARY:Fogo Kirk Service
DESCRIPTION:Services are usually every Sunday at 10:30 am\, and all visitors are most welcome\nCheck the current schedule of church services here
URL:https://www.gavinton.net/event/fogo-kirk-service-2-2-2-2-2/2025-01-12/
CATEGORIES:church service
END:VEVENT
BEGIN:VEVENT
DTSTART;TZID=Europe/London:20250112T094500
DTEND;TZID=Europe/London:20250112T094500
DTSTAMP:20260424T095937
CREATED:20241230T143742Z
LAST-MODIFIED:20241230T144128Z
UID:10002711-1736675100-1736675100@www.gavinton.net
SUMMARY:Langton Church service
DESCRIPTION:Check the current schedule of church services here\, usually the second and fourth Sunday of each month at 09.45 am. When there is a fifth Sunday\, the service is held in Duns parish church at 11.00 am.
URL:https://www.gavinton.net/event/langton-church-service-4/2025-01-12/
LOCATION:Langton Church\, Gavinton
CATEGORIES:church service
END:VEVENT
BEGIN:VEVENT
DTSTART;TZID=Europe/London:20250110T183000
DTEND;TZID=Europe/London:20250110T213000
DTSTAMP:20260424T095937
CREATED:20241229T154217Z
LAST-MODIFIED:20241229T154345Z
UID:10002638-1736533800-1736544600@www.gavinton.net
SUMMARY:private hire
DESCRIPTION:riding club talk
URL:https://www.gavinton.net/event/private-hire-93/
CATEGORIES:hall booking
END:VEVENT
BEGIN:VEVENT
DTSTART;TZID=Europe/London:20250110T100000
DTEND;TZID=Europe/London:20250110T120000
DTSTAMP:20260424T095937
CREATED:20240913T163434Z
LAST-MODIFIED:20240913T163434Z
UID:10002550-1736503200-1736510400@www.gavinton.net
SUMMARY:U3A Middle Eastern Studies
DESCRIPTION:
URL:https://www.gavinton.net/event/u3a-middle-eastern-studies-14/2025-01-10/
CATEGORIES:hall booking
END:VEVENT
BEGIN:VEVENT
DTSTART;TZID=Europe/London:20250109T193000
DTEND;TZID=Europe/London:20250109T210000
DTSTAMP:20260424T095937
CREATED:20240727T104201Z
LAST-MODIFIED:20240727T104201Z
UID:10002390-1736451000-1736456400@www.gavinton.net
SUMMARY:Scottish Woman's Institute
DESCRIPTION:meeting
URL:https://www.gavinton.net/event/scottish-womans-institute/2025-01-09/
CATEGORIES:hall booking,SWI meeting
END:VEVENT
BEGIN:VEVENT
DTSTART;TZID=Europe/London:20250109T093000
DTEND;TZID=Europe/London:20250109T110000
DTSTAMP:20260424T095937
CREATED:20241002T111253Z
LAST-MODIFIED:20241002T111534Z
UID:10002595-1736415000-1736420400@www.gavinton.net
SUMMARY:U3A Scottish Country Dancing
DESCRIPTION:
URL:https://www.gavinton.net/event/u3a-scottish-country-dancing-4/2025-01-09/
CATEGORIES:dance class,hall booking
END:VEVENT
BEGIN:VEVENT
DTSTART;TZID=Europe/London:20250106T190000
DTEND;TZID=Europe/London:20250106T210000
DTSTAMP:20260424T095937
CREATED:20240410T140815Z
LAST-MODIFIED:20240423T165029Z
UID:10002287-1736190000-1736197200@www.gavinton.net
SUMMARY:Duns Pipe Band
DESCRIPTION:Duns pipe band practice
URL:https://www.gavinton.net/event/private-hire-58/2025-01-06/
CATEGORIES:hall booking
END:VEVENT
BEGIN:VEVENT
DTSTART;TZID=Europe/London:20250106T104500
DTEND;TZID=Europe/London:20250106T121500
DTSTAMP:20260424T095937
CREATED:20240703T153007Z
LAST-MODIFIED:20240703T153007Z
UID:10002359-1736160300-1736165700@www.gavinton.net
SUMMARY:U3A Tap Dancing
DESCRIPTION:
URL:https://www.gavinton.net/event/u3a-tap-dancing-8/2025-01-06/
CATEGORIES:dance class,hall booking
END:VEVENT
BEGIN:VEVENT
DTSTART;TZID=Europe/London:20250105T103000
DTEND;TZID=Europe/London:20250105T103000
DTSTAMP:20260424T095937
CREATED:20190302T123243Z
LAST-MODIFIED:20190625T115916Z
UID:10000437-1736073000-1736073000@www.gavinton.net
SUMMARY:Fogo Kirk Service
DESCRIPTION:Services are usually every Sunday at 10:30 am\, and all visitors are most welcome\nCheck the current schedule of church services here
URL:https://www.gavinton.net/event/fogo-kirk-service-2-2-2-2-2/2025-01-05/
CATEGORIES:church service
END:VEVENT
BEGIN:VEVENT
DTSTART;TZID=Europe/London:20241230T190000
DTEND;TZID=Europe/London:20241230T210000
DTSTAMP:20260424T095937
CREATED:20240410T140815Z
LAST-MODIFIED:20240423T165029Z
UID:10002286-1735585200-1735592400@www.gavinton.net
SUMMARY:Duns Pipe Band
DESCRIPTION:Duns pipe band practice
URL:https://www.gavinton.net/event/private-hire-58/2024-12-30/
CATEGORIES:hall booking
END:VEVENT
BEGIN:VEVENT
DTSTART;TZID=Europe/London:20241229T103000
DTEND;TZID=Europe/London:20241229T103000
DTSTAMP:20260424T095937
CREATED:20190302T123243Z
LAST-MODIFIED:20190625T115916Z
UID:10000436-1735468200-1735468200@www.gavinton.net
SUMMARY:Fogo Kirk Service
DESCRIPTION:Services are usually every Sunday at 10:30 am\, and all visitors are most welcome\nCheck the current schedule of church services here
URL:https://www.gavinton.net/event/fogo-kirk-service-2-2-2-2-2/2024-12-29/
CATEGORIES:church service
END:VEVENT
BEGIN:VEVENT
DTSTART;TZID=Europe/London:20241229T080000
DTEND;TZID=Europe/London:20241229T170000
DTSTAMP:20260424T095937
CREATED:20221228T101246Z
LAST-MODIFIED:20231230T135349Z
UID:10002056-1735459200-1735491600@www.gavinton.net
SUMMARY:Duns Parish Church service
DESCRIPTION:When there is a fifth Sunday\, the service is held in Duns parish church at 11.00 am (in place of Langton church\, Gavinton)
URL:https://www.gavinton.net/event/duns-parish-church-service-3/2024-12-29/
LOCATION:Duns Parish Church\, Duns
CATEGORIES:church service
END:VEVENT
BEGIN:VEVENT
DTSTART;TZID=Europe/London:20241223T190000
DTEND;TZID=Europe/London:20241223T210000
DTSTAMP:20260424T095937
CREATED:20240410T140815Z
LAST-MODIFIED:20240423T165029Z
UID:10002285-1734980400-1734987600@www.gavinton.net
SUMMARY:Duns Pipe Band
DESCRIPTION:Duns pipe band practice
URL:https://www.gavinton.net/event/private-hire-58/2024-12-23/
CATEGORIES:hall booking
END:VEVENT
BEGIN:VEVENT
DTSTART;TZID=Europe/London:20241222T110000
DTEND;TZID=Europe/London:20241222T110000
DTSTAMP:20260424T095937
CREATED:20241210T095336Z
LAST-MODIFIED:20241215T111301Z
UID:10002623-1734865200-1734865200@www.gavinton.net
SUMMARY:Family Christmas Walk from Gavinton
DESCRIPTION:Starting at 11am on the village green followed by mulled wine and hot chocolate accompanied with mince pies and shortbread. Santa will be in the village at 2pm
URL:https://www.gavinton.net/event/family-christmas-walk-from-gavinton/
CATEGORIES:Local
END:VEVENT
BEGIN:VEVENT
DTSTART;TZID=Europe/London:20241222T103000
DTEND;TZID=Europe/London:20241222T103000
DTSTAMP:20260424T095937
CREATED:20190302T123243Z
LAST-MODIFIED:20190625T115916Z
UID:10000435-1734863400-1734863400@www.gavinton.net
SUMMARY:Fogo Kirk Service
DESCRIPTION:Services are usually every Sunday at 10:30 am\, and all visitors are most welcome\nCheck the current schedule of church services here
URL:https://www.gavinton.net/event/fogo-kirk-service-2-2-2-2-2/2024-12-22/
CATEGORIES:church service
END:VEVENT
BEGIN:VEVENT
DTSTART;TZID=Europe/London:20241222T094500
DTEND;TZID=Europe/London:20241222T094500
DTSTAMP:20260424T095937
CREATED:20231230T114747Z
LAST-MODIFIED:20231230T121831Z
UID:10002052-1734860700-1734860700@www.gavinton.net
SUMMARY:Langton Church service
DESCRIPTION:Check the current schedule of church services here\, usually the second and fourth Sunday of each month at 09.45 am. When there is a fifth Sunday\, the service is held in Duns parish church at 11.00 am.
URL:https://www.gavinton.net/event/langton-church-service-3/2024-12-22/
LOCATION:Langton Church\, Gavinton
CATEGORIES:church service
END:VEVENT
BEGIN:VEVENT
DTSTART;TZID=Europe/London:20241220T094500
DTEND;TZID=Europe/London:20241220T121500
DTSTAMP:20260424T095937
CREATED:20241207T144756Z
LAST-MODIFIED:20241207T144950Z
UID:10002622-1734687900-1734696900@www.gavinton.net
SUMMARY:u3a Middle Eastern Studies
DESCRIPTION:U3A middle eastern studies
URL:https://www.gavinton.net/event/private-hire-90/
CATEGORIES:hall booking
END:VEVENT
BEGIN:VEVENT
DTSTART;TZID=Europe/London:20241219T164500
DTEND;TZID=Europe/London:20241219T191500
DTSTAMP:20260424T095937
CREATED:20240808T171245Z
LAST-MODIFIED:20240808T171245Z
UID:10002515-1734626700-1734635700@www.gavinton.net
SUMMARY:Borders Community Sewing Group
DESCRIPTION:
URL:https://www.gavinton.net/event/borders-community-sewing-group/2024-12-19/
CATEGORIES:hall booking
END:VEVENT
BEGIN:VEVENT
DTSTART;TZID=Europe/London:20241218T134500
DTEND;TZID=Europe/London:20241218T161500
DTSTAMP:20260424T095937
CREATED:20240807T173620Z
LAST-MODIFIED:20240913T164831Z
UID:10002401-1734529500-1734538500@www.gavinton.net
SUMMARY:u3a Opera Appreciation
DESCRIPTION:
URL:https://www.gavinton.net/event/u3a-opera-appreciation-4/2024-12-18/
CATEGORIES:hall booking,u3a
END:VEVENT
BEGIN:VEVENT
DTSTART;TZID=Europe/London:20241216T190000
DTEND;TZID=Europe/London:20241216T210000
DTSTAMP:20260424T095937
CREATED:20240410T140815Z
LAST-MODIFIED:20240423T165029Z
UID:10002284-1734375600-1734382800@www.gavinton.net
SUMMARY:Duns Pipe Band
DESCRIPTION:Duns pipe band practice
URL:https://www.gavinton.net/event/private-hire-58/2024-12-16/
CATEGORIES:hall booking
END:VEVENT
BEGIN:VEVENT
DTSTART;TZID=Europe/London:20241216T140000
DTEND;TZID=Europe/London:20241216T160000
DTSTAMP:20260424T095937
CREATED:20241212T173619Z
LAST-MODIFIED:20241212T173728Z
UID:10002625-1734357600-1734364800@www.gavinton.net
SUMMARY:private hire
DESCRIPTION:meeting to discuss Burns supper on Friday 24 January 2025
URL:https://www.gavinton.net/event/private-hire-91/
CATEGORIES:hall booking
END:VEVENT
BEGIN:VEVENT
DTSTART;TZID=Europe/London:20241216T104500
DTEND;TZID=Europe/London:20241216T121500
DTSTAMP:20260424T095937
CREATED:20240703T153007Z
LAST-MODIFIED:20240703T153007Z
UID:10002358-1734345900-1734351300@www.gavinton.net
SUMMARY:U3A Tap Dancing
DESCRIPTION:
URL:https://www.gavinton.net/event/u3a-tap-dancing-8/2024-12-16/
CATEGORIES:dance class,hall booking
END:VEVENT
BEGIN:VEVENT
DTSTART;TZID=Europe/London:20241215T103000
DTEND;TZID=Europe/London:20241215T103000
DTSTAMP:20260424T095937
CREATED:20190302T123243Z
LAST-MODIFIED:20190625T115916Z
UID:10000434-1734258600-1734258600@www.gavinton.net
SUMMARY:Fogo Kirk Service
DESCRIPTION:Services are usually every Sunday at 10:30 am\, and all visitors are most welcome\nCheck the current schedule of church services here
URL:https://www.gavinton.net/event/fogo-kirk-service-2-2-2-2-2/2024-12-15/
CATEGORIES:church service
END:VEVENT
BEGIN:VEVENT
DTSTART;TZID=Europe/London:20241213T190000
DTEND;TZID=Europe/London:20241213T220000
DTSTAMP:20260424T095937
CREATED:20240906T160340Z
LAST-MODIFIED:20241212T175943Z
UID:10002531-1734116400-1734127200@www.gavinton.net
SUMMARY:village hall - FILM - One Life (P12)
DESCRIPTION:Trailer: https://www.youtube.com/watch?v=6ethollg-PI\n\nReviews: https://www.rottentomatoes.com/m/one_life
URL:https://www.gavinton.net/event/village-hall-film-one-life-p12/
CATEGORIES:film
END:VEVENT
BEGIN:VEVENT
DTSTART;TZID=Europe/London:20241212T193000
DTEND;TZID=Europe/London:20241212T210000
DTSTAMP:20260424T095937
CREATED:20240727T104201Z
LAST-MODIFIED:20240727T104201Z
UID:10002389-1734031800-1734037200@www.gavinton.net
SUMMARY:Scottish Woman's Institute
DESCRIPTION:meeting
URL:https://www.gavinton.net/event/scottish-womans-institute/2024-12-12/
CATEGORIES:hall booking,SWI meeting
END:VEVENT
BEGIN:VEVENT
DTSTART;TZID=Europe/London:20241212T164500
DTEND;TZID=Europe/London:20241212T191500
DTSTAMP:20260424T095937
CREATED:20240808T171245Z
LAST-MODIFIED:20240808T171245Z
UID:10002514-1734021900-1734030900@www.gavinton.net
SUMMARY:Borders Community Sewing Group
DESCRIPTION:
URL:https://www.gavinton.net/event/borders-community-sewing-group/2024-12-12/
CATEGORIES:hall booking
END:VEVENT
END:VCALENDAR