BEGIN:VCALENDAR
VERSION:2.0
PRODID:-//Gavinton, Fogo &amp; Polwarth Community Website - ECPv6.15.11//NONSGML v1.0//EN
CALSCALE:GREGORIAN
METHOD:PUBLISH
X-WR-CALNAME:Gavinton, Fogo &amp; Polwarth Community Website
X-ORIGINAL-URL:https://www.gavinton.net
X-WR-CALDESC:Events for Gavinton, Fogo &amp; Polwarth Community Website
REFRESH-INTERVAL;VALUE=DURATION:PT1H
X-Robots-Tag:noindex
X-PUBLISHED-TTL:PT1H
BEGIN:VTIMEZONE
TZID:Europe/London
BEGIN:DAYLIGHT
TZOFFSETFROM:+0000
TZOFFSETTO:+0100
TZNAME:BST
DTSTART:20260329T010000
END:DAYLIGHT
BEGIN:STANDARD
TZOFFSETFROM:+0100
TZOFFSETTO:+0000
TZNAME:GMT
DTSTART:20261025T010000
END:STANDARD
BEGIN:DAYLIGHT
TZOFFSETFROM:+0000
TZOFFSETTO:+0100
TZNAME:BST
DTSTART:20270328T010000
END:DAYLIGHT
BEGIN:STANDARD
TZOFFSETFROM:+0100
TZOFFSETTO:+0000
TZNAME:GMT
DTSTART:20271031T010000
END:STANDARD
BEGIN:DAYLIGHT
TZOFFSETFROM:+0000
TZOFFSETTO:+0100
TZNAME:BST
DTSTART:20280326T010000
END:DAYLIGHT
BEGIN:STANDARD
TZOFFSETFROM:+0100
TZOFFSETTO:+0000
TZNAME:GMT
DTSTART:20281029T010000
END:STANDARD
BEGIN:DAYLIGHT
TZOFFSETFROM:+0000
TZOFFSETTO:+0100
TZNAME:BST
DTSTART:20290325T010000
END:DAYLIGHT
BEGIN:STANDARD
TZOFFSETFROM:+0100
TZOFFSETTO:+0000
TZNAME:GMT
DTSTART:20291028T010000
END:STANDARD
END:VTIMEZONE
BEGIN:VEVENT
DTSTART;TZID=Europe/London:20271226T103000
DTEND;TZID=Europe/London:20271226T103000
DTSTAMP:20260421T230414
CREATED:20190302T123243Z
LAST-MODIFIED:20190625T115916Z
UID:10002118-1829817000-1829817000@www.gavinton.net
SUMMARY:Fogo Kirk Service
DESCRIPTION:Services are usually every Sunday at 10:30 am\, and all visitors are most welcome\nCheck the current schedule of church services here
URL:https://www.gavinton.net/event/fogo-kirk-service-2-2-2-2-2/2027-12-26/
CATEGORIES:church service
END:VEVENT
BEGIN:VEVENT
DTSTART;TZID=Europe/London:20271227T183000
DTEND;TZID=Europe/London:20271227T210000
DTSTAMP:20260421T230414
CREATED:20260326T202728Z
LAST-MODIFIED:20260326T202729Z
UID:10003934-1829932200-1829941200@www.gavinton.net
SUMMARY:Duns Pipe Band
DESCRIPTION:
URL:https://www.gavinton.net/event/duns-pipe-band-9-2/2027-12-27/
CATEGORIES:hall booking
END:VEVENT
BEGIN:VEVENT
DTSTART;TZID=Europe/London:20280102T103000
DTEND;TZID=Europe/London:20280102T103000
DTSTAMP:20260421T230414
CREATED:20190302T123243Z
LAST-MODIFIED:20190625T115916Z
UID:10002119-1830421800-1830421800@www.gavinton.net
SUMMARY:Fogo Kirk Service
DESCRIPTION:Services are usually every Sunday at 10:30 am\, and all visitors are most welcome\nCheck the current schedule of church services here
URL:https://www.gavinton.net/event/fogo-kirk-service-2-2-2-2-2/2028-01-02/
CATEGORIES:church service
END:VEVENT
BEGIN:VEVENT
DTSTART;TZID=Europe/London:20280103T183000
DTEND;TZID=Europe/London:20280103T210000
DTSTAMP:20260421T230414
CREATED:20260326T202728Z
LAST-MODIFIED:20260326T202729Z
UID:10003935-1830537000-1830546000@www.gavinton.net
SUMMARY:Duns Pipe Band
DESCRIPTION:
URL:https://www.gavinton.net/event/duns-pipe-band-9-2/2028-01-03/
CATEGORIES:hall booking
END:VEVENT
BEGIN:VEVENT
DTSTART;TZID=Europe/London:20280109T103000
DTEND;TZID=Europe/London:20280109T103000
DTSTAMP:20260421T230414
CREATED:20190302T123243Z
LAST-MODIFIED:20190625T115916Z
UID:10002120-1831026600-1831026600@www.gavinton.net
SUMMARY:Fogo Kirk Service
DESCRIPTION:Services are usually every Sunday at 10:30 am\, and all visitors are most welcome\nCheck the current schedule of church services here
URL:https://www.gavinton.net/event/fogo-kirk-service-2-2-2-2-2/2028-01-09/
CATEGORIES:church service
END:VEVENT
BEGIN:VEVENT
DTSTART;TZID=Europe/London:20280110T183000
DTEND;TZID=Europe/London:20280110T210000
DTSTAMP:20260421T230414
CREATED:20260326T202728Z
LAST-MODIFIED:20260326T202729Z
UID:10003936-1831141800-1831150800@www.gavinton.net
SUMMARY:Duns Pipe Band
DESCRIPTION:
URL:https://www.gavinton.net/event/duns-pipe-band-9-2/2028-01-10/
CATEGORIES:hall booking
END:VEVENT
BEGIN:VEVENT
DTSTART;TZID=Europe/London:20280116T103000
DTEND;TZID=Europe/London:20280116T103000
DTSTAMP:20260421T230414
CREATED:20190302T123243Z
LAST-MODIFIED:20190625T115916Z
UID:10002121-1831631400-1831631400@www.gavinton.net
SUMMARY:Fogo Kirk Service
DESCRIPTION:Services are usually every Sunday at 10:30 am\, and all visitors are most welcome\nCheck the current schedule of church services here
URL:https://www.gavinton.net/event/fogo-kirk-service-2-2-2-2-2/2028-01-16/
CATEGORIES:church service
END:VEVENT
BEGIN:VEVENT
DTSTART;TZID=Europe/London:20280117T183000
DTEND;TZID=Europe/London:20280117T210000
DTSTAMP:20260421T230414
CREATED:20260326T202728Z
LAST-MODIFIED:20260326T202729Z
UID:10003937-1831746600-1831755600@www.gavinton.net
SUMMARY:Duns Pipe Band
DESCRIPTION:
URL:https://www.gavinton.net/event/duns-pipe-band-9-2/2028-01-17/
CATEGORIES:hall booking
END:VEVENT
BEGIN:VEVENT
DTSTART;TZID=Europe/London:20280123T103000
DTEND;TZID=Europe/London:20280123T103000
DTSTAMP:20260421T230414
CREATED:20190302T123243Z
LAST-MODIFIED:20190625T115916Z
UID:10002122-1832236200-1832236200@www.gavinton.net
SUMMARY:Fogo Kirk Service
DESCRIPTION:Services are usually every Sunday at 10:30 am\, and all visitors are most welcome\nCheck the current schedule of church services here
URL:https://www.gavinton.net/event/fogo-kirk-service-2-2-2-2-2/2028-01-23/
CATEGORIES:church service
END:VEVENT
BEGIN:VEVENT
DTSTART;TZID=Europe/London:20280124T183000
DTEND;TZID=Europe/London:20280124T210000
DTSTAMP:20260421T230414
CREATED:20260326T202728Z
LAST-MODIFIED:20260326T202729Z
UID:10003938-1832351400-1832360400@www.gavinton.net
SUMMARY:Duns Pipe Band
DESCRIPTION:
URL:https://www.gavinton.net/event/duns-pipe-band-9-2/2028-01-24/
CATEGORIES:hall booking
END:VEVENT
BEGIN:VEVENT
DTSTART;TZID=Europe/London:20280130T103000
DTEND;TZID=Europe/London:20280130T103000
DTSTAMP:20260421T230414
CREATED:20190302T123243Z
LAST-MODIFIED:20190625T115916Z
UID:10002123-1832841000-1832841000@www.gavinton.net
SUMMARY:Fogo Kirk Service
DESCRIPTION:Services are usually every Sunday at 10:30 am\, and all visitors are most welcome\nCheck the current schedule of church services here
URL:https://www.gavinton.net/event/fogo-kirk-service-2-2-2-2-2/2028-01-30/
CATEGORIES:church service
END:VEVENT
BEGIN:VEVENT
DTSTART;TZID=Europe/London:20280131T183000
DTEND;TZID=Europe/London:20280131T210000
DTSTAMP:20260421T230414
CREATED:20260326T202728Z
LAST-MODIFIED:20260326T202729Z
UID:10003939-1832956200-1832965200@www.gavinton.net
SUMMARY:Duns Pipe Band
DESCRIPTION:
URL:https://www.gavinton.net/event/duns-pipe-band-9-2/2028-01-31/
CATEGORIES:hall booking
END:VEVENT
BEGIN:VEVENT
DTSTART;TZID=Europe/London:20280206T103000
DTEND;TZID=Europe/London:20280206T103000
DTSTAMP:20260421T230414
CREATED:20190302T123243Z
LAST-MODIFIED:20190625T115916Z
UID:10002124-1833445800-1833445800@www.gavinton.net
SUMMARY:Fogo Kirk Service
DESCRIPTION:Services are usually every Sunday at 10:30 am\, and all visitors are most welcome\nCheck the current schedule of church services here
URL:https://www.gavinton.net/event/fogo-kirk-service-2-2-2-2-2/2028-02-06/
CATEGORIES:church service
END:VEVENT
BEGIN:VEVENT
DTSTART;TZID=Europe/London:20280207T183000
DTEND;TZID=Europe/London:20280207T210000
DTSTAMP:20260421T230414
CREATED:20260326T202728Z
LAST-MODIFIED:20260326T202729Z
UID:10003940-1833561000-1833570000@www.gavinton.net
SUMMARY:Duns Pipe Band
DESCRIPTION:
URL:https://www.gavinton.net/event/duns-pipe-band-9-2/2028-02-07/
CATEGORIES:hall booking
END:VEVENT
BEGIN:VEVENT
DTSTART;TZID=Europe/London:20280213T103000
DTEND;TZID=Europe/London:20280213T103000
DTSTAMP:20260421T230414
CREATED:20190302T123243Z
LAST-MODIFIED:20190625T115916Z
UID:10002125-1834050600-1834050600@www.gavinton.net
SUMMARY:Fogo Kirk Service
DESCRIPTION:Services are usually every Sunday at 10:30 am\, and all visitors are most welcome\nCheck the current schedule of church services here
URL:https://www.gavinton.net/event/fogo-kirk-service-2-2-2-2-2/2028-02-13/
CATEGORIES:church service
END:VEVENT
BEGIN:VEVENT
DTSTART;TZID=Europe/London:20280214T183000
DTEND;TZID=Europe/London:20280214T210000
DTSTAMP:20260421T230414
CREATED:20260326T202728Z
LAST-MODIFIED:20260326T202729Z
UID:10003941-1834165800-1834174800@www.gavinton.net
SUMMARY:Duns Pipe Band
DESCRIPTION:
URL:https://www.gavinton.net/event/duns-pipe-band-9-2/2028-02-14/
CATEGORIES:hall booking
END:VEVENT
BEGIN:VEVENT
DTSTART;TZID=Europe/London:20280220T103000
DTEND;TZID=Europe/London:20280220T103000
DTSTAMP:20260421T230414
CREATED:20190302T123243Z
LAST-MODIFIED:20190625T115916Z
UID:10002126-1834655400-1834655400@www.gavinton.net
SUMMARY:Fogo Kirk Service
DESCRIPTION:Services are usually every Sunday at 10:30 am\, and all visitors are most welcome\nCheck the current schedule of church services here
URL:https://www.gavinton.net/event/fogo-kirk-service-2-2-2-2-2/2028-02-20/
CATEGORIES:church service
END:VEVENT
BEGIN:VEVENT
DTSTART;TZID=Europe/London:20280221T183000
DTEND;TZID=Europe/London:20280221T210000
DTSTAMP:20260421T230414
CREATED:20260326T202728Z
LAST-MODIFIED:20260326T202729Z
UID:10003942-1834770600-1834779600@www.gavinton.net
SUMMARY:Duns Pipe Band
DESCRIPTION:
URL:https://www.gavinton.net/event/duns-pipe-band-9-2/2028-02-21/
CATEGORIES:hall booking
END:VEVENT
BEGIN:VEVENT
DTSTART;TZID=Europe/London:20280227T103000
DTEND;TZID=Europe/London:20280227T103000
DTSTAMP:20260421T230414
CREATED:20190302T123243Z
LAST-MODIFIED:20190625T115916Z
UID:10002127-1835260200-1835260200@www.gavinton.net
SUMMARY:Fogo Kirk Service
DESCRIPTION:Services are usually every Sunday at 10:30 am\, and all visitors are most welcome\nCheck the current schedule of church services here
URL:https://www.gavinton.net/event/fogo-kirk-service-2-2-2-2-2/2028-02-27/
CATEGORIES:church service
END:VEVENT
BEGIN:VEVENT
DTSTART;TZID=Europe/London:20280228T183000
DTEND;TZID=Europe/London:20280228T210000
DTSTAMP:20260421T230414
CREATED:20260326T202728Z
LAST-MODIFIED:20260326T202729Z
UID:10003943-1835375400-1835384400@www.gavinton.net
SUMMARY:Duns Pipe Band
DESCRIPTION:
URL:https://www.gavinton.net/event/duns-pipe-band-9-2/2028-02-28/
CATEGORIES:hall booking
END:VEVENT
BEGIN:VEVENT
DTSTART;TZID=Europe/London:20280305T103000
DTEND;TZID=Europe/London:20280305T103000
DTSTAMP:20260421T230414
CREATED:20190302T123243Z
LAST-MODIFIED:20190625T115916Z
UID:10002128-1835865000-1835865000@www.gavinton.net
SUMMARY:Fogo Kirk Service
DESCRIPTION:Services are usually every Sunday at 10:30 am\, and all visitors are most welcome\nCheck the current schedule of church services here
URL:https://www.gavinton.net/event/fogo-kirk-service-2-2-2-2-2/2028-03-05/
CATEGORIES:church service
END:VEVENT
BEGIN:VEVENT
DTSTART;TZID=Europe/London:20280306T183000
DTEND;TZID=Europe/London:20280306T210000
DTSTAMP:20260421T230414
CREATED:20260326T202728Z
LAST-MODIFIED:20260326T202729Z
UID:10003944-1835980200-1835989200@www.gavinton.net
SUMMARY:Duns Pipe Band
DESCRIPTION:
URL:https://www.gavinton.net/event/duns-pipe-band-9-2/2028-03-06/
CATEGORIES:hall booking
END:VEVENT
BEGIN:VEVENT
DTSTART;TZID=Europe/London:20280312T103000
DTEND;TZID=Europe/London:20280312T103000
DTSTAMP:20260421T230414
CREATED:20190302T123243Z
LAST-MODIFIED:20190625T115916Z
UID:10002129-1836469800-1836469800@www.gavinton.net
SUMMARY:Fogo Kirk Service
DESCRIPTION:Services are usually every Sunday at 10:30 am\, and all visitors are most welcome\nCheck the current schedule of church services here
URL:https://www.gavinton.net/event/fogo-kirk-service-2-2-2-2-2/2028-03-12/
CATEGORIES:church service
END:VEVENT
BEGIN:VEVENT
DTSTART;TZID=Europe/London:20280313T183000
DTEND;TZID=Europe/London:20280313T210000
DTSTAMP:20260421T230414
CREATED:20260326T202728Z
LAST-MODIFIED:20260326T202729Z
UID:10003945-1836585000-1836594000@www.gavinton.net
SUMMARY:Duns Pipe Band
DESCRIPTION:
URL:https://www.gavinton.net/event/duns-pipe-band-9-2/2028-03-13/
CATEGORIES:hall booking
END:VEVENT
BEGIN:VEVENT
DTSTART;TZID=Europe/London:20280319T103000
DTEND;TZID=Europe/London:20280319T103000
DTSTAMP:20260421T230414
CREATED:20190302T123243Z
LAST-MODIFIED:20190625T115916Z
UID:10002130-1837074600-1837074600@www.gavinton.net
SUMMARY:Fogo Kirk Service
DESCRIPTION:Services are usually every Sunday at 10:30 am\, and all visitors are most welcome\nCheck the current schedule of church services here
URL:https://www.gavinton.net/event/fogo-kirk-service-2-2-2-2-2/2028-03-19/
CATEGORIES:church service
END:VEVENT
BEGIN:VEVENT
DTSTART;TZID=Europe/London:20280320T183000
DTEND;TZID=Europe/London:20280320T210000
DTSTAMP:20260421T230414
CREATED:20260326T202728Z
LAST-MODIFIED:20260326T202729Z
UID:10003946-1837189800-1837198800@www.gavinton.net
SUMMARY:Duns Pipe Band
DESCRIPTION:
URL:https://www.gavinton.net/event/duns-pipe-band-9-2/2028-03-20/
CATEGORIES:hall booking
END:VEVENT
BEGIN:VEVENT
DTSTART;TZID=Europe/London:20280326T103000
DTEND;TZID=Europe/London:20280326T103000
DTSTAMP:20260421T230414
CREATED:20190302T123243Z
LAST-MODIFIED:20190625T115916Z
UID:10002131-1837679400-1837679400@www.gavinton.net
SUMMARY:Fogo Kirk Service
DESCRIPTION:Services are usually every Sunday at 10:30 am\, and all visitors are most welcome\nCheck the current schedule of church services here
URL:https://www.gavinton.net/event/fogo-kirk-service-2-2-2-2-2/2028-03-26/
CATEGORIES:church service
END:VEVENT
BEGIN:VEVENT
DTSTART;TZID=Europe/London:20280327T183000
DTEND;TZID=Europe/London:20280327T210000
DTSTAMP:20260421T230414
CREATED:20260326T202728Z
LAST-MODIFIED:20260326T202729Z
UID:10003947-1837794600-1837803600@www.gavinton.net
SUMMARY:Duns Pipe Band
DESCRIPTION:
URL:https://www.gavinton.net/event/duns-pipe-band-9-2/2028-03-27/
CATEGORIES:hall booking
END:VEVENT
BEGIN:VEVENT
DTSTART;TZID=Europe/London:20280402T103000
DTEND;TZID=Europe/London:20280402T103000
DTSTAMP:20260421T230414
CREATED:20190302T123243Z
LAST-MODIFIED:20190625T115916Z
UID:10002132-1838284200-1838284200@www.gavinton.net
SUMMARY:Fogo Kirk Service
DESCRIPTION:Services are usually every Sunday at 10:30 am\, and all visitors are most welcome\nCheck the current schedule of church services here
URL:https://www.gavinton.net/event/fogo-kirk-service-2-2-2-2-2/2028-04-02/
CATEGORIES:church service
END:VEVENT
BEGIN:VEVENT
DTSTART;TZID=Europe/London:20280403T183000
DTEND;TZID=Europe/London:20280403T210000
DTSTAMP:20260421T230414
CREATED:20260326T202728Z
LAST-MODIFIED:20260326T202729Z
UID:10003948-1838399400-1838408400@www.gavinton.net
SUMMARY:Duns Pipe Band
DESCRIPTION:
URL:https://www.gavinton.net/event/duns-pipe-band-9-2/2028-04-03/
CATEGORIES:hall booking
END:VEVENT
END:VCALENDAR