BEGIN:VCALENDAR
VERSION:2.0
PRODID:-//Gavinton, Fogo &amp; Polwarth Community Website - ECPv6.15.11//NONSGML v1.0//EN
CALSCALE:GREGORIAN
METHOD:PUBLISH
X-WR-CALNAME:Gavinton, Fogo &amp; Polwarth Community Website
X-ORIGINAL-URL:https://www.gavinton.net
X-WR-CALDESC:Events for Gavinton, Fogo &amp; Polwarth Community Website
REFRESH-INTERVAL;VALUE=DURATION:PT1H
X-Robots-Tag:noindex
X-PUBLISHED-TTL:PT1H
BEGIN:VTIMEZONE
TZID:Europe/London
BEGIN:DAYLIGHT
TZOFFSETFROM:+0000
TZOFFSETTO:+0100
TZNAME:BST
DTSTART:20230326T010000
END:DAYLIGHT
BEGIN:STANDARD
TZOFFSETFROM:+0100
TZOFFSETTO:+0000
TZNAME:GMT
DTSTART:20231029T010000
END:STANDARD
BEGIN:DAYLIGHT
TZOFFSETFROM:+0000
TZOFFSETTO:+0100
TZNAME:BST
DTSTART:20240331T010000
END:DAYLIGHT
BEGIN:STANDARD
TZOFFSETFROM:+0100
TZOFFSETTO:+0000
TZNAME:GMT
DTSTART:20241027T010000
END:STANDARD
BEGIN:DAYLIGHT
TZOFFSETFROM:+0000
TZOFFSETTO:+0100
TZNAME:BST
DTSTART:20250330T010000
END:DAYLIGHT
BEGIN:STANDARD
TZOFFSETFROM:+0100
TZOFFSETTO:+0000
TZNAME:GMT
DTSTART:20251026T010000
END:STANDARD
END:VTIMEZONE
BEGIN:VEVENT
DTSTART;TZID=Europe/London:20241220T094500
DTEND;TZID=Europe/London:20241220T121500
DTSTAMP:20260424T155423
CREATED:20241207T144756Z
LAST-MODIFIED:20241207T144950Z
UID:10002622-1734687900-1734696900@www.gavinton.net
SUMMARY:u3a Middle Eastern Studies
DESCRIPTION:U3A middle eastern studies
URL:https://www.gavinton.net/event/private-hire-90/
CATEGORIES:hall booking
END:VEVENT
BEGIN:VEVENT
DTSTART;TZID=Europe/London:20241219T164500
DTEND;TZID=Europe/London:20241219T191500
DTSTAMP:20260424T155423
CREATED:20240808T171245Z
LAST-MODIFIED:20240808T171245Z
UID:10002515-1734626700-1734635700@www.gavinton.net
SUMMARY:Borders Community Sewing Group
DESCRIPTION:
URL:https://www.gavinton.net/event/borders-community-sewing-group/2024-12-19/
CATEGORIES:hall booking
END:VEVENT
BEGIN:VEVENT
DTSTART;TZID=Europe/London:20241218T134500
DTEND;TZID=Europe/London:20241218T161500
DTSTAMP:20260424T155423
CREATED:20240807T173620Z
LAST-MODIFIED:20240913T164831Z
UID:10002401-1734529500-1734538500@www.gavinton.net
SUMMARY:u3a Opera Appreciation
DESCRIPTION:
URL:https://www.gavinton.net/event/u3a-opera-appreciation-4/2024-12-18/
CATEGORIES:hall booking,u3a
END:VEVENT
BEGIN:VEVENT
DTSTART;TZID=Europe/London:20241216T190000
DTEND;TZID=Europe/London:20241216T210000
DTSTAMP:20260424T155423
CREATED:20240410T140815Z
LAST-MODIFIED:20240423T165029Z
UID:10002284-1734375600-1734382800@www.gavinton.net
SUMMARY:Duns Pipe Band
DESCRIPTION:Duns pipe band practice
URL:https://www.gavinton.net/event/private-hire-58/2024-12-16/
CATEGORIES:hall booking
END:VEVENT
BEGIN:VEVENT
DTSTART;TZID=Europe/London:20241216T140000
DTEND;TZID=Europe/London:20241216T160000
DTSTAMP:20260424T155423
CREATED:20241212T173619Z
LAST-MODIFIED:20241212T173728Z
UID:10002625-1734357600-1734364800@www.gavinton.net
SUMMARY:private hire
DESCRIPTION:meeting to discuss Burns supper on Friday 24 January 2025
URL:https://www.gavinton.net/event/private-hire-91/
CATEGORIES:hall booking
END:VEVENT
BEGIN:VEVENT
DTSTART;TZID=Europe/London:20241216T104500
DTEND;TZID=Europe/London:20241216T121500
DTSTAMP:20260424T155423
CREATED:20240703T153007Z
LAST-MODIFIED:20240703T153007Z
UID:10002358-1734345900-1734351300@www.gavinton.net
SUMMARY:U3A Tap Dancing
DESCRIPTION:
URL:https://www.gavinton.net/event/u3a-tap-dancing-8/2024-12-16/
CATEGORIES:dance class,hall booking
END:VEVENT
BEGIN:VEVENT
DTSTART;TZID=Europe/London:20241215T103000
DTEND;TZID=Europe/London:20241215T103000
DTSTAMP:20260424T155423
CREATED:20190302T123243Z
LAST-MODIFIED:20190625T115916Z
UID:10000434-1734258600-1734258600@www.gavinton.net
SUMMARY:Fogo Kirk Service
DESCRIPTION:Services are usually every Sunday at 10:30 am\, and all visitors are most welcome\nCheck the current schedule of church services here
URL:https://www.gavinton.net/event/fogo-kirk-service-2-2-2-2-2/2024-12-15/
CATEGORIES:church service
END:VEVENT
BEGIN:VEVENT
DTSTART;TZID=Europe/London:20241213T190000
DTEND;TZID=Europe/London:20241213T220000
DTSTAMP:20260424T155423
CREATED:20240906T160340Z
LAST-MODIFIED:20241212T175943Z
UID:10002531-1734116400-1734127200@www.gavinton.net
SUMMARY:village hall - FILM - One Life (P12)
DESCRIPTION:Trailer: https://www.youtube.com/watch?v=6ethollg-PI\n\nReviews: https://www.rottentomatoes.com/m/one_life
URL:https://www.gavinton.net/event/village-hall-film-one-life-p12/
CATEGORIES:film
END:VEVENT
BEGIN:VEVENT
DTSTART;TZID=Europe/London:20241212T193000
DTEND;TZID=Europe/London:20241212T210000
DTSTAMP:20260424T155423
CREATED:20240727T104201Z
LAST-MODIFIED:20240727T104201Z
UID:10002389-1734031800-1734037200@www.gavinton.net
SUMMARY:Scottish Woman's Institute
DESCRIPTION:meeting
URL:https://www.gavinton.net/event/scottish-womans-institute/2024-12-12/
CATEGORIES:hall booking,SWI meeting
END:VEVENT
BEGIN:VEVENT
DTSTART;TZID=Europe/London:20241212T164500
DTEND;TZID=Europe/London:20241212T191500
DTSTAMP:20260424T155423
CREATED:20240808T171245Z
LAST-MODIFIED:20240808T171245Z
UID:10002514-1734021900-1734030900@www.gavinton.net
SUMMARY:Borders Community Sewing Group
DESCRIPTION:
URL:https://www.gavinton.net/event/borders-community-sewing-group/2024-12-12/
CATEGORIES:hall booking
END:VEVENT
BEGIN:VEVENT
DTSTART;TZID=Europe/London:20241212T130000
DTEND;TZID=Europe/London:20241212T150000
DTSTAMP:20260424T155423
CREATED:20240913T171301Z
LAST-MODIFIED:20240913T171301Z
UID:10002571-1734008400-1734015600@www.gavinton.net
SUMMARY:u3a Histories of the Everyday
DESCRIPTION:
URL:https://www.gavinton.net/event/u3a-histories-of-the-everyday/2024-12-12/
CATEGORIES:hall booking,u3a
END:VEVENT
BEGIN:VEVENT
DTSTART;TZID=Europe/London:20241209T190000
DTEND;TZID=Europe/London:20241209T210000
DTSTAMP:20260424T155423
CREATED:20240226T183727Z
LAST-MODIFIED:20250525T140116Z
UID:10002095-1733770800-1733778000@www.gavinton.net
SUMMARY:CC meeting
DESCRIPTION:
URL:https://www.gavinton.net/event/cc-meeting-8/2024-12-09/
CATEGORIES:CC meeting,hall booking
END:VEVENT
BEGIN:VEVENT
DTSTART;TZID=Europe/London:20241209T104500
DTEND;TZID=Europe/London:20241209T121500
DTSTAMP:20260424T155423
CREATED:20240703T153007Z
LAST-MODIFIED:20240703T153007Z
UID:10002357-1733741100-1733746500@www.gavinton.net
SUMMARY:U3A Tap Dancing
DESCRIPTION:
URL:https://www.gavinton.net/event/u3a-tap-dancing-8/2024-12-09/
CATEGORIES:dance class,hall booking
END:VEVENT
BEGIN:VEVENT
DTSTART;TZID=Europe/London:20241208T150000
DTEND;TZID=Europe/London:20241208T170000
DTSTAMP:20260424T155423
CREATED:20240410T150623Z
LAST-MODIFIED:20240424T183505Z
UID:10002308-1733670000-1733677200@www.gavinton.net
SUMMARY:Duns pipe band
DESCRIPTION:Duns pipe band practice
URL:https://www.gavinton.net/event/privat-hire-4/2024-12-08/
CATEGORIES:hall booking
END:VEVENT
BEGIN:VEVENT
DTSTART;TZID=Europe/London:20241208T103000
DTEND;TZID=Europe/London:20241208T103000
DTSTAMP:20260424T155423
CREATED:20190302T123243Z
LAST-MODIFIED:20190625T115916Z
UID:10000433-1733653800-1733653800@www.gavinton.net
SUMMARY:Fogo Kirk Service
DESCRIPTION:Services are usually every Sunday at 10:30 am\, and all visitors are most welcome\nCheck the current schedule of church services here
URL:https://www.gavinton.net/event/fogo-kirk-service-2-2-2-2-2/2024-12-08/
CATEGORIES:church service
END:VEVENT
BEGIN:VEVENT
DTSTART;TZID=Europe/London:20241208T094500
DTEND;TZID=Europe/London:20241208T094500
DTSTAMP:20260424T155423
CREATED:20231230T114747Z
LAST-MODIFIED:20231230T121831Z
UID:10002051-1733651100-1733651100@www.gavinton.net
SUMMARY:Langton Church service
DESCRIPTION:Check the current schedule of church services here\, usually the second and fourth Sunday of each month at 09.45 am. When there is a fifth Sunday\, the service is held in Duns parish church at 11.00 am.
URL:https://www.gavinton.net/event/langton-church-service-3/2024-12-08/
LOCATION:Langton Church\, Gavinton
CATEGORIES:church service
END:VEVENT
BEGIN:VEVENT
DTSTART;TZID=Europe/London:20241206T100000
DTEND;TZID=Europe/London:20241206T120000
DTSTAMP:20260424T155423
CREATED:20240913T163434Z
LAST-MODIFIED:20240913T163434Z
UID:10002549-1733479200-1733486400@www.gavinton.net
SUMMARY:U3A Middle Eastern Studies
DESCRIPTION:
URL:https://www.gavinton.net/event/u3a-middle-eastern-studies-14/2024-12-06/
CATEGORIES:hall booking
END:VEVENT
BEGIN:VEVENT
DTSTART;TZID=Europe/London:20241205T164500
DTEND;TZID=Europe/London:20241205T191500
DTSTAMP:20260424T155423
CREATED:20240808T171245Z
LAST-MODIFIED:20240808T171245Z
UID:10002513-1733417100-1733426100@www.gavinton.net
SUMMARY:Borders Community Sewing Group
DESCRIPTION:
URL:https://www.gavinton.net/event/borders-community-sewing-group/2024-12-05/
CATEGORIES:hall booking
END:VEVENT
BEGIN:VEVENT
DTSTART;TZID=Europe/London:20241204T180000
DTEND;TZID=Europe/London:20241204T220000
DTSTAMP:20260424T155423
CREATED:20240923T083709Z
LAST-MODIFIED:20240923T083709Z
UID:10002581-1733335200-1733349600@www.gavinton.net
SUMMARY:private hire
DESCRIPTION:Christmas Wreath Making
URL:https://www.gavinton.net/event/private-hire-83/
CATEGORIES:hall booking
END:VEVENT
BEGIN:VEVENT
DTSTART;TZID=Europe/London:20241204T140000
DTEND;TZID=Europe/London:20241204T160000
DTSTAMP:20260424T155423
CREATED:20241203T153302Z
LAST-MODIFIED:20241203T153354Z
UID:10002620-1733320800-1733328000@www.gavinton.net
SUMMARY:private hire
DESCRIPTION:Village hall committee meeting
URL:https://www.gavinton.net/event/private-hire-89/
CATEGORIES:hall booking
END:VEVENT
BEGIN:VEVENT
DTSTART;TZID=Europe/London:20241203T083000
DTEND;TZID=Europe/London:20241203T163000
DTSTAMP:20260424T155423
CREATED:20240527T175651Z
LAST-MODIFIED:20240924T165237Z
UID:10002336-1733214600-1733243400@www.gavinton.net
SUMMARY:privat hire - BHA
DESCRIPTION:Berwickshire Housing Association –  staff training
URL:https://www.gavinton.net/event/privat-hire-bha/2024-12-03/
CATEGORIES:hall booking
END:VEVENT
BEGIN:VEVENT
DTSTART;TZID=Europe/London:20241202T190000
DTEND;TZID=Europe/London:20241202T210000
DTSTAMP:20260424T155423
CREATED:20240410T140815Z
LAST-MODIFIED:20240423T165029Z
UID:10002283-1733166000-1733173200@www.gavinton.net
SUMMARY:Duns Pipe Band
DESCRIPTION:Duns pipe band practice
URL:https://www.gavinton.net/event/private-hire-58/2024-12-02/
CATEGORIES:hall booking
END:VEVENT
BEGIN:VEVENT
DTSTART;TZID=Europe/London:20241202T104500
DTEND;TZID=Europe/London:20241202T121500
DTSTAMP:20260424T155423
CREATED:20240703T153007Z
LAST-MODIFIED:20240703T153007Z
UID:10002356-1733136300-1733141700@www.gavinton.net
SUMMARY:U3A Tap Dancing
DESCRIPTION:
URL:https://www.gavinton.net/event/u3a-tap-dancing-8/2024-12-02/
CATEGORIES:dance class,hall booking
END:VEVENT
BEGIN:VEVENT
DTSTART;TZID=Europe/London:20241201T103000
DTEND;TZID=Europe/London:20241201T103000
DTSTAMP:20260424T155423
CREATED:20190302T123243Z
LAST-MODIFIED:20190625T115916Z
UID:10000432-1733049000-1733049000@www.gavinton.net
SUMMARY:Fogo Kirk Service
DESCRIPTION:Services are usually every Sunday at 10:30 am\, and all visitors are most welcome\nCheck the current schedule of church services here
URL:https://www.gavinton.net/event/fogo-kirk-service-2-2-2-2-2/2024-12-01/
CATEGORIES:church service
END:VEVENT
BEGIN:VEVENT
DTSTART;TZID=Europe/London:20241130T130000
DTEND;TZID=Europe/London:20241130T163000
DTSTAMP:20260424T155423
CREATED:20240927T084040Z
LAST-MODIFIED:20240927T084040Z
UID:10002587-1732971600-1732984200@www.gavinton.net
SUMMARY:private hire
DESCRIPTION:party
URL:https://www.gavinton.net/event/private-hire-81/
CATEGORIES:hall booking
END:VEVENT
BEGIN:VEVENT
DTSTART;TZID=Europe/London:20241130T100000
DTEND;TZID=Europe/London:20241130T120000
DTSTAMP:20260424T155423
CREATED:20240908T202949Z
LAST-MODIFIED:20240915T193400Z
UID:10002535-1732960800-1732968000@www.gavinton.net
SUMMARY:village hall - coffee morning
DESCRIPTION:Coffee morning FREE
URL:https://www.gavinton.net/event/cancelled-village-hall-coffee-morning-2024-25/2024-11-30/
CATEGORIES:coffee morning,hall booking
END:VEVENT
BEGIN:VEVENT
DTSTART;TZID=Europe/London:20241128T164500
DTEND;TZID=Europe/London:20241128T191500
DTSTAMP:20260424T155423
CREATED:20240808T171245Z
LAST-MODIFIED:20240808T171245Z
UID:10002512-1732812300-1732821300@www.gavinton.net
SUMMARY:Borders Community Sewing Group
DESCRIPTION:
URL:https://www.gavinton.net/event/borders-community-sewing-group/2024-11-28/
CATEGORIES:hall booking
END:VEVENT
BEGIN:VEVENT
DTSTART;TZID=Europe/London:20241127T181500
DTEND;TZID=Europe/London:20241127T211500
DTSTAMP:20260424T155423
CREATED:20241010T194536Z
LAST-MODIFIED:20241010T194536Z
UID:10002610-1732731300-1732742100@www.gavinton.net
SUMMARY:private hire
DESCRIPTION:meeting
URL:https://www.gavinton.net/event/private-hire-85/
CATEGORIES:hall booking
END:VEVENT
BEGIN:VEVENT
DTSTART;TZID=Europe/London:20241127T120000
DTEND;TZID=Europe/London:20241127T173000
DTSTAMP:20260424T155423
CREATED:20241115T174511Z
LAST-MODIFIED:20241119T093757Z
UID:10002619-1732708800-1732728600@www.gavinton.net
SUMMARY:Hall maintenance
DESCRIPTION:hall maintenance
URL:https://www.gavinton.net/event/hall-maintenence/
CATEGORIES:hall booking
END:VEVENT
BEGIN:VEVENT
DTSTART;TZID=Europe/London:20241125T190000
DTEND;TZID=Europe/London:20241125T210000
DTSTAMP:20260424T155423
CREATED:20240410T140815Z
LAST-MODIFIED:20240423T165029Z
UID:10002282-1732561200-1732568400@www.gavinton.net
SUMMARY:Duns Pipe Band
DESCRIPTION:Duns pipe band practice
URL:https://www.gavinton.net/event/private-hire-58/2024-11-25/
CATEGORIES:hall booking
END:VEVENT
END:VCALENDAR