BEGIN:VCALENDAR
VERSION:2.0
PRODID:-//Gavinton, Fogo &amp; Polwarth Community Website - ECPv6.15.11//NONSGML v1.0//EN
CALSCALE:GREGORIAN
METHOD:PUBLISH
X-WR-CALNAME:Gavinton, Fogo &amp; Polwarth Community Website
X-ORIGINAL-URL:https://www.gavinton.net
X-WR-CALDESC:Events for Gavinton, Fogo &amp; Polwarth Community Website
REFRESH-INTERVAL;VALUE=DURATION:PT1H
X-Robots-Tag:noindex
X-PUBLISHED-TTL:PT1H
BEGIN:VTIMEZONE
TZID:Europe/London
BEGIN:DAYLIGHT
TZOFFSETFROM:+0000
TZOFFSETTO:+0100
TZNAME:BST
DTSTART:20230326T010000
END:DAYLIGHT
BEGIN:STANDARD
TZOFFSETFROM:+0100
TZOFFSETTO:+0000
TZNAME:GMT
DTSTART:20231029T010000
END:STANDARD
BEGIN:DAYLIGHT
TZOFFSETFROM:+0000
TZOFFSETTO:+0100
TZNAME:BST
DTSTART:20240331T010000
END:DAYLIGHT
BEGIN:STANDARD
TZOFFSETFROM:+0100
TZOFFSETTO:+0000
TZNAME:GMT
DTSTART:20241027T010000
END:STANDARD
BEGIN:DAYLIGHT
TZOFFSETFROM:+0000
TZOFFSETTO:+0100
TZNAME:BST
DTSTART:20250330T010000
END:DAYLIGHT
BEGIN:STANDARD
TZOFFSETFROM:+0100
TZOFFSETTO:+0000
TZNAME:GMT
DTSTART:20251026T010000
END:STANDARD
END:VTIMEZONE
BEGIN:VEVENT
DTSTART;TZID=Europe/London:20241122T100000
DTEND;TZID=Europe/London:20241122T120000
DTSTAMP:20260425T031259
CREATED:20240913T163434Z
LAST-MODIFIED:20240913T163434Z
UID:10002548-1732269600-1732276800@www.gavinton.net
SUMMARY:U3A Middle Eastern Studies
DESCRIPTION:
URL:https://www.gavinton.net/event/u3a-middle-eastern-studies-14/2024-11-22/
CATEGORIES:hall booking
END:VEVENT
BEGIN:VEVENT
DTSTART;TZID=Europe/London:20241121T164500
DTEND;TZID=Europe/London:20241121T191500
DTSTAMP:20260425T031259
CREATED:20240808T171245Z
LAST-MODIFIED:20240808T171245Z
UID:10002511-1732207500-1732216500@www.gavinton.net
SUMMARY:Borders Community Sewing Group
DESCRIPTION:
URL:https://www.gavinton.net/event/borders-community-sewing-group/2024-11-21/
CATEGORIES:hall booking
END:VEVENT
BEGIN:VEVENT
DTSTART;TZID=Europe/London:20241120T134500
DTEND;TZID=Europe/London:20241120T161500
DTSTAMP:20260425T031259
CREATED:20240807T173620Z
LAST-MODIFIED:20240913T164831Z
UID:10002464-1732110300-1732119300@www.gavinton.net
SUMMARY:u3a Opera Appreciation
DESCRIPTION:
URL:https://www.gavinton.net/event/u3a-opera-appreciation-4/2024-11-20/
CATEGORIES:hall booking,u3a
END:VEVENT
BEGIN:VEVENT
DTSTART;TZID=Europe/London:20241119T083000
DTEND;TZID=Europe/London:20241119T133000
DTSTAMP:20260425T031259
CREATED:20241106T151815Z
LAST-MODIFIED:20241106T151815Z
UID:10002617-1732005000-1732023000@www.gavinton.net
SUMMARY:private hire
DESCRIPTION:Berwickshire Housing Association\nstaff training
URL:https://www.gavinton.net/event/private-hire-88/
CATEGORIES:hall booking
END:VEVENT
BEGIN:VEVENT
DTSTART;TZID=Europe/London:20241118T190000
DTEND;TZID=Europe/London:20241118T210000
DTSTAMP:20260425T031259
CREATED:20240410T140815Z
LAST-MODIFIED:20240423T165029Z
UID:10002281-1731956400-1731963600@www.gavinton.net
SUMMARY:Duns Pipe Band
DESCRIPTION:Duns pipe band practice
URL:https://www.gavinton.net/event/private-hire-58/2024-11-18/
CATEGORIES:hall booking
END:VEVENT
BEGIN:VEVENT
DTSTART;TZID=Europe/London:20241118T104500
DTEND;TZID=Europe/London:20241118T121500
DTSTAMP:20260425T031259
CREATED:20240703T153007Z
LAST-MODIFIED:20240703T153007Z
UID:10002354-1731926700-1731932100@www.gavinton.net
SUMMARY:U3A Tap Dancing
DESCRIPTION:
URL:https://www.gavinton.net/event/u3a-tap-dancing-8/2024-11-18/
CATEGORIES:dance class,hall booking
END:VEVENT
BEGIN:VEVENT
DTSTART;TZID=Europe/London:20241117T103000
DTEND;TZID=Europe/London:20241117T103000
DTSTAMP:20260425T031259
CREATED:20190302T123243Z
LAST-MODIFIED:20190625T115916Z
UID:10000430-1731839400-1731839400@www.gavinton.net
SUMMARY:Fogo Kirk Service
DESCRIPTION:Services are usually every Sunday at 10:30 am\, and all visitors are most welcome\nCheck the current schedule of church services here
URL:https://www.gavinton.net/event/fogo-kirk-service-2-2-2-2-2/2024-11-17/
CATEGORIES:church service
END:VEVENT
BEGIN:VEVENT
DTSTART;TZID=Europe/London:20241114T193000
DTEND;TZID=Europe/London:20241114T210000
DTSTAMP:20260425T031259
CREATED:20240727T104201Z
LAST-MODIFIED:20240727T104201Z
UID:10002388-1731612600-1731618000@www.gavinton.net
SUMMARY:Scottish Woman's Institute
DESCRIPTION:meeting
URL:https://www.gavinton.net/event/scottish-womans-institute/2024-11-14/
CATEGORIES:hall booking,SWI meeting
END:VEVENT
BEGIN:VEVENT
DTSTART;TZID=Europe/London:20241114T164500
DTEND;TZID=Europe/London:20241114T191500
DTSTAMP:20260425T031259
CREATED:20240808T171245Z
LAST-MODIFIED:20240808T171245Z
UID:10002510-1731602700-1731611700@www.gavinton.net
SUMMARY:Borders Community Sewing Group
DESCRIPTION:
URL:https://www.gavinton.net/event/borders-community-sewing-group/2024-11-14/
CATEGORIES:hall booking
END:VEVENT
BEGIN:VEVENT
DTSTART;TZID=Europe/London:20241114T130000
DTEND;TZID=Europe/London:20241114T150000
DTSTAMP:20260425T031259
CREATED:20240913T171301Z
LAST-MODIFIED:20240913T171301Z
UID:10002570-1731589200-1731596400@www.gavinton.net
SUMMARY:u3a Histories of the Everyday
DESCRIPTION:
URL:https://www.gavinton.net/event/u3a-histories-of-the-everyday/2024-11-14/
CATEGORIES:hall booking,u3a
END:VEVENT
BEGIN:VEVENT
DTSTART;TZID=Europe/London:20241113T083000
DTEND;TZID=Europe/London:20241113T163000
DTSTAMP:20260425T031259
CREATED:20240527T175651Z
LAST-MODIFIED:20240924T165237Z
UID:10002582-1731486600-1731515400@www.gavinton.net
SUMMARY:privat hire - BHA
DESCRIPTION:Berwickshire Housing Association –  staff training
URL:https://www.gavinton.net/event/privat-hire-bha/2024-11-13/
CATEGORIES:hall booking
END:VEVENT
BEGIN:VEVENT
DTSTART;TZID=Europe/London:20241112T080000
DTEND;TZID=Europe/London:20241112T180000
DTSTAMP:20260425T031259
CREATED:20241019T084452Z
LAST-MODIFIED:20241019T084452Z
UID:10002612-1731398400-1731434400@www.gavinton.net
SUMMARY:Village Hall maintenance
DESCRIPTION:Soind system improvements
URL:https://www.gavinton.net/event/village-hall-maintenance/
CATEGORIES:hall booking
END:VEVENT
BEGIN:VEVENT
DTSTART;TZID=Europe/London:20241111T190000
DTEND;TZID=Europe/London:20241111T210000
DTSTAMP:20260425T031259
CREATED:20240226T183727Z
LAST-MODIFIED:20250525T140116Z
UID:10002094-1731351600-1731358800@www.gavinton.net
SUMMARY:CC meeting
DESCRIPTION:
URL:https://www.gavinton.net/event/cc-meeting-8/2024-11-11/
CATEGORIES:CC meeting,hall booking
END:VEVENT
BEGIN:VEVENT
DTSTART;TZID=Europe/London:20241111T104500
DTEND;TZID=Europe/London:20241111T121500
DTSTAMP:20260425T031259
CREATED:20240703T153007Z
LAST-MODIFIED:20240703T153007Z
UID:10002353-1731321900-1731327300@www.gavinton.net
SUMMARY:U3A Tap Dancing
DESCRIPTION:
URL:https://www.gavinton.net/event/u3a-tap-dancing-8/2024-11-11/
CATEGORIES:dance class,hall booking
END:VEVENT
BEGIN:VEVENT
DTSTART;TZID=Europe/London:20241110T150000
DTEND;TZID=Europe/London:20241110T170000
DTSTAMP:20260425T031259
CREATED:20240410T150623Z
LAST-MODIFIED:20240424T183505Z
UID:10002307-1731250800-1731258000@www.gavinton.net
SUMMARY:Duns pipe band
DESCRIPTION:Duns pipe band practice
URL:https://www.gavinton.net/event/privat-hire-4/2024-11-10/
CATEGORIES:hall booking
END:VEVENT
BEGIN:VEVENT
DTSTART;TZID=Europe/London:20241110T103000
DTEND;TZID=Europe/London:20241110T103000
DTSTAMP:20260425T031259
CREATED:20190302T123243Z
LAST-MODIFIED:20190625T115916Z
UID:10000429-1731234600-1731234600@www.gavinton.net
SUMMARY:Fogo Kirk Service
DESCRIPTION:Services are usually every Sunday at 10:30 am\, and all visitors are most welcome\nCheck the current schedule of church services here
URL:https://www.gavinton.net/event/fogo-kirk-service-2-2-2-2-2/2024-11-10/
CATEGORIES:church service
END:VEVENT
BEGIN:VEVENT
DTSTART;TZID=Europe/London:20241110T094500
DTEND;TZID=Europe/London:20241110T094500
DTSTAMP:20260425T031259
CREATED:20231230T114747Z
LAST-MODIFIED:20231230T121831Z
UID:10002049-1731231900-1731231900@www.gavinton.net
SUMMARY:Langton Church service
DESCRIPTION:Check the current schedule of church services here\, usually the second and fourth Sunday of each month at 09.45 am. When there is a fifth Sunday\, the service is held in Duns parish church at 11.00 am.
URL:https://www.gavinton.net/event/langton-church-service-3/2024-11-10/
LOCATION:Langton Church\, Gavinton
CATEGORIES:church service
END:VEVENT
BEGIN:VEVENT
DTSTART;TZID=Europe/London:20241108T193000
DTEND;TZID=Europe/London:20241108T213000
DTSTAMP:20260425T031259
CREATED:20241019T143653Z
LAST-MODIFIED:20241019T143653Z
UID:10002615-1731094200-1731101400@www.gavinton.net
SUMMARY:We Will Remember Them Too in Duns Volunteer Hall
DESCRIPTION:Berwickshire’s experience of WW2 in words\, images and music\nTickets £10/£6\, available online\, or Nairns Market Square Duns\, or at the door on the night\nTickets: https://www.tickettailor.com/events/dunsplayers/1436645
URL:https://www.gavinton.net/event/we-will-remember-them-too-in-duns-volunteer-hall-2/
CATEGORIES:general
END:VEVENT
BEGIN:VEVENT
DTSTART;TZID=Europe/London:20241108T100000
DTEND;TZID=Europe/London:20241108T120000
DTSTAMP:20260425T031259
CREATED:20240913T163434Z
LAST-MODIFIED:20240913T163434Z
UID:10002547-1731060000-1731067200@www.gavinton.net
SUMMARY:U3A Middle Eastern Studies
DESCRIPTION:
URL:https://www.gavinton.net/event/u3a-middle-eastern-studies-14/2024-11-08/
CATEGORIES:hall booking
END:VEVENT
BEGIN:VEVENT
DTSTART;TZID=Europe/London:20241107T193000
DTEND;TZID=Europe/London:20241107T213000
DTSTAMP:20260425T031300
CREATED:20241019T143609Z
LAST-MODIFIED:20241019T143609Z
UID:10002614-1731007800-1731015000@www.gavinton.net
SUMMARY:We Will Remember Them Too in Duns Volunteer Hall
DESCRIPTION:Berwickshire’s experience of WW2 in words\, images and music\nTickets £10/£6\, available online\, or Nairns Market Square Duns\, or at the door on the night\nTickets: https://www.tickettailor.com/events/dunsplayers/1436645
URL:https://www.gavinton.net/event/we-will-remember-them-too-in-duns-volunteer-hall/
CATEGORIES:general
END:VEVENT
BEGIN:VEVENT
DTSTART;TZID=Europe/London:20241107T164500
DTEND;TZID=Europe/London:20241107T191500
DTSTAMP:20260425T031300
CREATED:20240808T171245Z
LAST-MODIFIED:20240808T171245Z
UID:10002509-1730997900-1731006900@www.gavinton.net
SUMMARY:Borders Community Sewing Group
DESCRIPTION:
URL:https://www.gavinton.net/event/borders-community-sewing-group/2024-11-07/
CATEGORIES:hall booking
END:VEVENT
BEGIN:VEVENT
DTSTART;TZID=Europe/London:20241104T190000
DTEND;TZID=Europe/London:20241104T210000
DTSTAMP:20260425T031300
CREATED:20240410T140815Z
LAST-MODIFIED:20240423T165029Z
UID:10002280-1730746800-1730754000@www.gavinton.net
SUMMARY:Duns Pipe Band
DESCRIPTION:Duns pipe band practice
URL:https://www.gavinton.net/event/private-hire-58/2024-11-04/
CATEGORIES:hall booking
END:VEVENT
BEGIN:VEVENT
DTSTART;TZID=Europe/London:20241104T104500
DTEND;TZID=Europe/London:20241104T121500
DTSTAMP:20260425T031300
CREATED:20240703T153007Z
LAST-MODIFIED:20240703T153007Z
UID:10002352-1730717100-1730722500@www.gavinton.net
SUMMARY:U3A Tap Dancing
DESCRIPTION:
URL:https://www.gavinton.net/event/u3a-tap-dancing-8/2024-11-04/
CATEGORIES:dance class,hall booking
END:VEVENT
BEGIN:VEVENT
DTSTART;TZID=Europe/London:20241103T103000
DTEND;TZID=Europe/London:20241103T103000
DTSTAMP:20260425T031300
CREATED:20190302T123243Z
LAST-MODIFIED:20190625T115916Z
UID:10000428-1730629800-1730629800@www.gavinton.net
SUMMARY:Fogo Kirk Service
DESCRIPTION:Services are usually every Sunday at 10:30 am\, and all visitors are most welcome\nCheck the current schedule of church services here
URL:https://www.gavinton.net/event/fogo-kirk-service-2-2-2-2-2/2024-11-03/
CATEGORIES:church service
END:VEVENT
BEGIN:VEVENT
DTSTART;TZID=Europe/London:20241102T133000
DTEND;TZID=Europe/London:20241102T163000
DTSTAMP:20260425T031300
CREATED:20240805T162411Z
LAST-MODIFIED:20240805T162411Z
UID:10002397-1730554200-1730565000@www.gavinton.net
SUMMARY:private hire
DESCRIPTION:SWI Berwickshire Federation
URL:https://www.gavinton.net/event/private-hire-74/
CATEGORIES:hall booking,SWI meeting
END:VEVENT
BEGIN:VEVENT
DTSTART;TZID=Europe/London:20241101T190000
DTEND;TZID=Europe/London:20241101T220000
DTSTAMP:20260425T031300
CREATED:20240906T155921Z
LAST-MODIFIED:20240907T143228Z
UID:10002529-1730487600-1730498400@www.gavinton.net
SUMMARY:village hall - FILM - Oppenheimer (15)
DESCRIPTION:Trailer: https://www.youtube.com/watch?v=xAikljVt0fI\n\nReviews: https://www.rottentomatoes.com/m/oppenheimer_2023\n \n 
URL:https://www.gavinton.net/event/village-hall-film-oppenheimer-15/
CATEGORIES:film
END:VEVENT
BEGIN:VEVENT
DTSTART;TZID=Europe/London:20241031T164500
DTEND;TZID=Europe/London:20241031T191500
DTSTAMP:20260425T031300
CREATED:20240808T171245Z
LAST-MODIFIED:20240808T171245Z
UID:10002508-1730393100-1730402100@www.gavinton.net
SUMMARY:Borders Community Sewing Group
DESCRIPTION:
URL:https://www.gavinton.net/event/borders-community-sewing-group/2024-10-31/
CATEGORIES:hall booking
END:VEVENT
BEGIN:VEVENT
DTSTART;TZID=Europe/London:20241031T083000
DTEND;TZID=Europe/London:20241031T170000
DTSTAMP:20260425T031300
CREATED:20240712T133559Z
LAST-MODIFIED:20240712T133559Z
UID:10002382-1730363400-1730394000@www.gavinton.net
SUMMARY:private hire
DESCRIPTION:Farne Foods
URL:https://www.gavinton.net/event/private-hire-71/2024-10-31/
CATEGORIES:hall booking
END:VEVENT
BEGIN:VEVENT
DTSTART;TZID=Europe/London:20241030T083000
DTEND;TZID=Europe/London:20241030T170000
DTSTAMP:20260425T031300
CREATED:20240712T133559Z
LAST-MODIFIED:20240712T133559Z
UID:10002381-1730277000-1730307600@www.gavinton.net
SUMMARY:private hire
DESCRIPTION:Farne Foods
URL:https://www.gavinton.net/event/private-hire-71/2024-10-30/
CATEGORIES:hall booking
END:VEVENT
BEGIN:VEVENT
DTSTART;TZID=Europe/London:20241029T083000
DTEND;TZID=Europe/London:20241029T170000
DTSTAMP:20260425T031300
CREATED:20240712T133559Z
LAST-MODIFIED:20240712T133559Z
UID:10002380-1730190600-1730221200@www.gavinton.net
SUMMARY:private hire
DESCRIPTION:Farne Foods
URL:https://www.gavinton.net/event/private-hire-71/2024-10-29/
CATEGORIES:hall booking
END:VEVENT
END:VCALENDAR