BEGIN:VCALENDAR
VERSION:2.0
PRODID:-//Gavinton, Fogo &amp; Polwarth Community Website - ECPv6.15.11//NONSGML v1.0//EN
CALSCALE:GREGORIAN
METHOD:PUBLISH
X-WR-CALNAME:Gavinton, Fogo &amp; Polwarth Community Website
X-ORIGINAL-URL:https://www.gavinton.net
X-WR-CALDESC:Events for Gavinton, Fogo &amp; Polwarth Community Website
REFRESH-INTERVAL;VALUE=DURATION:PT1H
X-Robots-Tag:noindex
X-PUBLISHED-TTL:PT1H
BEGIN:VTIMEZONE
TZID:Europe/London
BEGIN:DAYLIGHT
TZOFFSETFROM:+0000
TZOFFSETTO:+0100
TZNAME:BST
DTSTART:20230326T010000
END:DAYLIGHT
BEGIN:STANDARD
TZOFFSETFROM:+0100
TZOFFSETTO:+0000
TZNAME:GMT
DTSTART:20231029T010000
END:STANDARD
BEGIN:DAYLIGHT
TZOFFSETFROM:+0000
TZOFFSETTO:+0100
TZNAME:BST
DTSTART:20240331T010000
END:DAYLIGHT
BEGIN:STANDARD
TZOFFSETFROM:+0100
TZOFFSETTO:+0000
TZNAME:GMT
DTSTART:20241027T010000
END:STANDARD
BEGIN:DAYLIGHT
TZOFFSETFROM:+0000
TZOFFSETTO:+0100
TZNAME:BST
DTSTART:20250330T010000
END:DAYLIGHT
BEGIN:STANDARD
TZOFFSETFROM:+0100
TZOFFSETTO:+0000
TZNAME:GMT
DTSTART:20251026T010000
END:STANDARD
END:VTIMEZONE
BEGIN:VEVENT
DTSTART;TZID=Europe/London:20241028T190000
DTEND;TZID=Europe/London:20241028T210000
DTSTAMP:20260425T131802
CREATED:20240410T140815Z
LAST-MODIFIED:20240423T165029Z
UID:10002279-1730142000-1730149200@www.gavinton.net
SUMMARY:Duns Pipe Band
DESCRIPTION:Duns pipe band practice
URL:https://www.gavinton.net/event/private-hire-58/2024-10-28/
CATEGORIES:hall booking
END:VEVENT
BEGIN:VEVENT
DTSTART;TZID=Europe/London:20241027T103000
DTEND;TZID=Europe/London:20241027T103000
DTSTAMP:20260425T131802
CREATED:20190302T123243Z
LAST-MODIFIED:20190625T115916Z
UID:10000427-1730025000-1730025000@www.gavinton.net
SUMMARY:Fogo Kirk Service
DESCRIPTION:Services are usually every Sunday at 10:30 am\, and all visitors are most welcome\nCheck the current schedule of church services here
URL:https://www.gavinton.net/event/fogo-kirk-service-2-2-2-2-2/2024-10-27/
CATEGORIES:church service
END:VEVENT
BEGIN:VEVENT
DTSTART;TZID=Europe/London:20241027T094500
DTEND;TZID=Europe/London:20241027T094500
DTSTAMP:20260425T131802
CREATED:20231230T114747Z
LAST-MODIFIED:20231230T121831Z
UID:10002048-1730022300-1730022300@www.gavinton.net
SUMMARY:Langton Church service
DESCRIPTION:Check the current schedule of church services here\, usually the second and fourth Sunday of each month at 09.45 am. When there is a fifth Sunday\, the service is held in Duns parish church at 11.00 am.
URL:https://www.gavinton.net/event/langton-church-service-3/2024-10-27/
LOCATION:Langton Church\, Gavinton
CATEGORIES:church service
END:VEVENT
BEGIN:VEVENT
DTSTART;TZID=Europe/London:20241026T120000
DTEND;TZID=Europe/London:20241026T170000
DTSTAMP:20260425T131802
CREATED:20241010T193241Z
LAST-MODIFIED:20241010T193241Z
UID:10002609-1729944000-1729962000@www.gavinton.net
SUMMARY:private hire
DESCRIPTION:party
URL:https://www.gavinton.net/event/private-hire-84/
CATEGORIES:hall booking
END:VEVENT
BEGIN:VEVENT
DTSTART;TZID=Europe/London:20241026T090000
DTEND;TZID=Europe/London:20241026T110000
DTSTAMP:20260425T131802
CREATED:20241017T085004Z
LAST-MODIFIED:20241017T085219Z
UID:10002534-1729933200-1729940400@www.gavinton.net
SUMMARY:village hall - community breakfast
DESCRIPTION:community breakfast\nBacon or sausage in a bap with tea or coffee
URL:https://www.gavinton.net/event/cancelled-village-hall-coffee-morning-2024-25-2/
CATEGORIES:coffee morning,hall booking
END:VEVENT
BEGIN:VEVENT
DTSTART;TZID=Europe/London:20241025T100000
DTEND;TZID=Europe/London:20241025T120000
DTSTAMP:20260425T131802
CREATED:20240913T163434Z
LAST-MODIFIED:20240913T163434Z
UID:10002546-1729850400-1729857600@www.gavinton.net
SUMMARY:U3A Middle Eastern Studies
DESCRIPTION:
URL:https://www.gavinton.net/event/u3a-middle-eastern-studies-14/2024-10-25/
CATEGORIES:hall booking
END:VEVENT
BEGIN:VEVENT
DTSTART;TZID=Europe/London:20241024T164500
DTEND;TZID=Europe/London:20241024T191500
DTSTAMP:20260425T131802
CREATED:20240808T171245Z
LAST-MODIFIED:20240808T171245Z
UID:10002507-1729788300-1729797300@www.gavinton.net
SUMMARY:Borders Community Sewing Group
DESCRIPTION:
URL:https://www.gavinton.net/event/borders-community-sewing-group/2024-10-24/
CATEGORIES:hall booking
END:VEVENT
BEGIN:VEVENT
DTSTART;TZID=Europe/London:20241023T134500
DTEND;TZID=Europe/London:20241023T161500
DTSTAMP:20260425T131802
CREATED:20240807T173620Z
LAST-MODIFIED:20240913T164831Z
UID:10002399-1729691100-1729700100@www.gavinton.net
SUMMARY:u3a Opera Appreciation
DESCRIPTION:
URL:https://www.gavinton.net/event/u3a-opera-appreciation-4/2024-10-23/
CATEGORIES:hall booking,u3a
END:VEVENT
BEGIN:VEVENT
DTSTART;TZID=Europe/London:20241022T093000
DTEND;TZID=Europe/London:20241022T093000
DTSTAMP:20260425T131802
CREATED:20231114T102112Z
LAST-MODIFIED:20240818T160741Z
UID:10001988-1729589400-1729589400@www.gavinton.net
SUMMARY:Berwickshire Swap event
DESCRIPTION:
URL:https://www.gavinton.net/event/berwickshire-swap-event/
CATEGORIES:hall booking
END:VEVENT
BEGIN:VEVENT
DTSTART;TZID=Europe/London:20241021T190000
DTEND;TZID=Europe/London:20241021T210000
DTSTAMP:20260425T131802
CREATED:20240410T140815Z
LAST-MODIFIED:20240423T165029Z
UID:10002278-1729537200-1729544400@www.gavinton.net
SUMMARY:Duns Pipe Band
DESCRIPTION:Duns pipe band practice
URL:https://www.gavinton.net/event/private-hire-58/2024-10-21/
CATEGORIES:hall booking
END:VEVENT
BEGIN:VEVENT
DTSTART;TZID=Europe/London:20241021T104500
DTEND;TZID=Europe/London:20241021T121500
DTSTAMP:20260425T131802
CREATED:20240703T153007Z
LAST-MODIFIED:20240703T153007Z
UID:10002351-1729507500-1729512900@www.gavinton.net
SUMMARY:U3A Tap Dancing
DESCRIPTION:
URL:https://www.gavinton.net/event/u3a-tap-dancing-8/2024-10-21/
CATEGORIES:dance class,hall booking
END:VEVENT
BEGIN:VEVENT
DTSTART;TZID=Europe/London:20241020T190000
DTEND;TZID=Europe/London:20241020T213000
DTSTAMP:20260425T131802
CREATED:20241019T142353Z
LAST-MODIFIED:20241019T142353Z
UID:10002613-1729450800-1729459800@www.gavinton.net
SUMMARY:Duns Players Secret Cabaret in Volunteer Duns Hall
DESCRIPTION:Special Guest Brigid\, Lady McEwen in conversation with Peter Lerpiniere\nPlus live music from the 50s\, 60s and 70s\nTickets £10\, available online\, or Nairns\, or at the door on the night\nTickets: https://www.tickettailor.com/events/dunsplayers/1427877
URL:https://www.gavinton.net/event/duns-players-secret-cabaret-in-volunteer-duns-hall/
CATEGORIES:general
END:VEVENT
BEGIN:VEVENT
DTSTART;TZID=Europe/London:20241020T103000
DTEND;TZID=Europe/London:20241020T103000
DTSTAMP:20260425T131802
CREATED:20190302T123243Z
LAST-MODIFIED:20190625T115916Z
UID:10000426-1729420200-1729420200@www.gavinton.net
SUMMARY:Fogo Kirk Service
DESCRIPTION:Services are usually every Sunday at 10:30 am\, and all visitors are most welcome\nCheck the current schedule of church services here
URL:https://www.gavinton.net/event/fogo-kirk-service-2-2-2-2-2/2024-10-20/
CATEGORIES:church service
END:VEVENT
BEGIN:VEVENT
DTSTART;TZID=Europe/London:20241019T170000
DTEND;TZID=Europe/London:20241019T230000
DTSTAMP:20260425T131802
CREATED:20240802T081544Z
LAST-MODIFIED:20240802T081544Z
UID:10002396-1729357200-1729378800@www.gavinton.net
SUMMARY:private hire
DESCRIPTION:party
URL:https://www.gavinton.net/event/private-hire-73/
CATEGORIES:hall booking
END:VEVENT
BEGIN:VEVENT
DTSTART;TZID=Europe/London:20241018T190000
DTEND;TZID=Europe/London:20241018T220000
DTSTAMP:20260425T131802
CREATED:20240906T155637Z
LAST-MODIFIED:20241016T094444Z
UID:10002528-1729278000-1729288800@www.gavinton.net
SUMMARY:village hall - FILM - All of Us Strangers (15)
DESCRIPTION:Trailer: https://www.youtube.com/watch?v=O97iSjvqBlY&t=6s\nReviews: https://www.rottentomatoes.com/m/all_of_us_strangers
URL:https://www.gavinton.net/event/village-hall-film-all-of-us-strangers-15/
CATEGORIES:film
END:VEVENT
BEGIN:VEVENT
DTSTART;TZID=Europe/London:20241017T164500
DTEND;TZID=Europe/London:20241017T191500
DTSTAMP:20260425T131802
CREATED:20240808T171245Z
LAST-MODIFIED:20240808T171245Z
UID:10002506-1729183500-1729192500@www.gavinton.net
SUMMARY:Borders Community Sewing Group
DESCRIPTION:
URL:https://www.gavinton.net/event/borders-community-sewing-group/2024-10-17/
CATEGORIES:hall booking
END:VEVENT
BEGIN:VEVENT
DTSTART;TZID=Europe/London:20241017T083000
DTEND;TZID=Europe/London:20241017T170000
DTSTAMP:20260425T131802
CREATED:20240712T133559Z
LAST-MODIFIED:20240712T133559Z
UID:10002379-1729153800-1729184400@www.gavinton.net
SUMMARY:private hire
DESCRIPTION:Farne Foods
URL:https://www.gavinton.net/event/private-hire-71/2024-10-17/
CATEGORIES:hall booking
END:VEVENT
BEGIN:VEVENT
DTSTART;TZID=Europe/London:20241016T083000
DTEND;TZID=Europe/London:20241016T170000
DTSTAMP:20260425T131802
CREATED:20240712T133559Z
LAST-MODIFIED:20240712T133559Z
UID:10002378-1729067400-1729098000@www.gavinton.net
SUMMARY:private hire
DESCRIPTION:Farne Foods
URL:https://www.gavinton.net/event/private-hire-71/2024-10-16/
CATEGORIES:hall booking
END:VEVENT
BEGIN:VEVENT
DTSTART;TZID=Europe/London:20241015T083000
DTEND;TZID=Europe/London:20241015T170000
DTSTAMP:20260425T131802
CREATED:20240712T133559Z
LAST-MODIFIED:20240712T133559Z
UID:10002377-1728981000-1729011600@www.gavinton.net
SUMMARY:private hire
DESCRIPTION:Farne Foods
URL:https://www.gavinton.net/event/private-hire-71/2024-10-15/
CATEGORIES:hall booking
END:VEVENT
BEGIN:VEVENT
DTSTART;TZID=Europe/London:20241014T190000
DTEND;TZID=Europe/London:20241014T210000
DTSTAMP:20260425T131802
CREATED:20240410T140815Z
LAST-MODIFIED:20240423T165029Z
UID:10002277-1728932400-1728939600@www.gavinton.net
SUMMARY:Duns Pipe Band
DESCRIPTION:Duns pipe band practice
URL:https://www.gavinton.net/event/private-hire-58/2024-10-14/
CATEGORIES:hall booking
END:VEVENT
BEGIN:VEVENT
DTSTART;TZID=Europe/London:20241014T104500
DTEND;TZID=Europe/London:20241014T121500
DTSTAMP:20260425T131802
CREATED:20240703T153007Z
LAST-MODIFIED:20240703T153007Z
UID:10002350-1728902700-1728908100@www.gavinton.net
SUMMARY:U3A Tap Dancing
DESCRIPTION:
URL:https://www.gavinton.net/event/u3a-tap-dancing-8/2024-10-14/
CATEGORIES:dance class,hall booking
END:VEVENT
BEGIN:VEVENT
DTSTART;TZID=Europe/London:20241013T170000
DTEND;TZID=Europe/London:20241013T170000
DTSTAMP:20260425T131802
CREATED:20241009T130000Z
LAST-MODIFIED:20241009T130000Z
UID:10002608-1728838800-1728838800@www.gavinton.net
SUMMARY:‘Celtish’ music group\, Langton Parish Church\, Gavinton
DESCRIPTION:Event followed by hot meal\nFree admission\, please book: alison@greenhope.co.uk
URL:https://www.gavinton.net/event/celtish-music-group-langton-parish-church-gavinton/
CATEGORIES:general
END:VEVENT
BEGIN:VEVENT
DTSTART;TZID=Europe/London:20241013T103000
DTEND;TZID=Europe/London:20241013T103000
DTSTAMP:20260425T131802
CREATED:20190302T123243Z
LAST-MODIFIED:20190625T115916Z
UID:10000425-1728815400-1728815400@www.gavinton.net
SUMMARY:Fogo Kirk Service
DESCRIPTION:Services are usually every Sunday at 10:30 am\, and all visitors are most welcome\nCheck the current schedule of church services here
URL:https://www.gavinton.net/event/fogo-kirk-service-2-2-2-2-2/2024-10-13/
CATEGORIES:church service
END:VEVENT
BEGIN:VEVENT
DTSTART;TZID=Europe/London:20241013T094500
DTEND;TZID=Europe/London:20241013T094500
DTSTAMP:20260425T131802
CREATED:20231230T114747Z
LAST-MODIFIED:20231230T121831Z
UID:10002047-1728812700-1728812700@www.gavinton.net
SUMMARY:Langton Church service
DESCRIPTION:Check the current schedule of church services here\, usually the second and fourth Sunday of each month at 09.45 am. When there is a fifth Sunday\, the service is held in Duns parish church at 11.00 am.
URL:https://www.gavinton.net/event/langton-church-service-3/2024-10-13/
LOCATION:Langton Church\, Gavinton
CATEGORIES:church service
END:VEVENT
BEGIN:VEVENT
DTSTART;TZID=Europe/London:20241011T100000
DTEND;TZID=Europe/London:20241011T120000
DTSTAMP:20260425T131802
CREATED:20240913T163434Z
LAST-MODIFIED:20240913T163434Z
UID:10002545-1728640800-1728648000@www.gavinton.net
SUMMARY:U3A Middle Eastern Studies
DESCRIPTION:
URL:https://www.gavinton.net/event/u3a-middle-eastern-studies-14/2024-10-11/
CATEGORIES:hall booking
END:VEVENT
BEGIN:VEVENT
DTSTART;TZID=Europe/London:20241010T193000
DTEND;TZID=Europe/London:20241010T210000
DTSTAMP:20260425T131802
CREATED:20240727T104201Z
LAST-MODIFIED:20240727T104201Z
UID:10002387-1728588600-1728594000@www.gavinton.net
SUMMARY:Scottish Woman's Institute
DESCRIPTION:meeting
URL:https://www.gavinton.net/event/scottish-womans-institute/2024-10-10/
CATEGORIES:hall booking,SWI meeting
END:VEVENT
BEGIN:VEVENT
DTSTART;TZID=Europe/London:20241010T164500
DTEND;TZID=Europe/London:20241010T191500
DTSTAMP:20260425T131802
CREATED:20240808T171245Z
LAST-MODIFIED:20240808T171245Z
UID:10002505-1728578700-1728587700@www.gavinton.net
SUMMARY:Borders Community Sewing Group
DESCRIPTION:
URL:https://www.gavinton.net/event/borders-community-sewing-group/2024-10-10/
CATEGORIES:hall booking
END:VEVENT
BEGIN:VEVENT
DTSTART;TZID=Europe/London:20241010T130000
DTEND;TZID=Europe/London:20241010T150000
DTSTAMP:20260425T131802
CREATED:20240913T171301Z
LAST-MODIFIED:20240913T171301Z
UID:10002569-1728565200-1728572400@www.gavinton.net
SUMMARY:u3a Histories of the Everyday
DESCRIPTION:
URL:https://www.gavinton.net/event/u3a-histories-of-the-everyday/2024-10-10/
CATEGORIES:hall booking,u3a
END:VEVENT
BEGIN:VEVENT
DTSTART;TZID=Europe/London:20241010T110000
DTEND;TZID=Europe/London:20241010T123000
DTSTAMP:20260425T131802
CREATED:20240922T085004Z
LAST-MODIFIED:20240923T184610Z
UID:10002580-1728558000-1728563400@www.gavinton.net
SUMMARY:private hire
DESCRIPTION:Borders Greenway meeting
URL:https://www.gavinton.net/event/private-hire-82/
CATEGORIES:hall booking
END:VEVENT
BEGIN:VEVENT
DTSTART;TZID=Europe/London:20241007T190000
DTEND;TZID=Europe/London:20241007T210000
DTSTAMP:20260425T131802
CREATED:20240410T140815Z
LAST-MODIFIED:20240423T165029Z
UID:10002276-1728327600-1728334800@www.gavinton.net
SUMMARY:Duns Pipe Band
DESCRIPTION:Duns pipe band practice
URL:https://www.gavinton.net/event/private-hire-58/2024-10-07/
CATEGORIES:hall booking
END:VEVENT
END:VCALENDAR