BEGIN:VCALENDAR
VERSION:2.0
PRODID:-//Gavinton, Fogo &amp; Polwarth Community Website - ECPv6.15.11//NONSGML v1.0//EN
CALSCALE:GREGORIAN
METHOD:PUBLISH
X-WR-CALNAME:Gavinton, Fogo &amp; Polwarth Community Website
X-ORIGINAL-URL:https://www.gavinton.net
X-WR-CALDESC:Events for Gavinton, Fogo &amp; Polwarth Community Website
REFRESH-INTERVAL;VALUE=DURATION:PT1H
X-Robots-Tag:noindex
X-PUBLISHED-TTL:PT1H
BEGIN:VTIMEZONE
TZID:Europe/London
BEGIN:DAYLIGHT
TZOFFSETFROM:+0000
TZOFFSETTO:+0100
TZNAME:BST
DTSTART:20270328T010000
END:DAYLIGHT
BEGIN:STANDARD
TZOFFSETFROM:+0100
TZOFFSETTO:+0000
TZNAME:GMT
DTSTART:20271031T010000
END:STANDARD
BEGIN:DAYLIGHT
TZOFFSETFROM:+0000
TZOFFSETTO:+0100
TZNAME:BST
DTSTART:20280326T010000
END:DAYLIGHT
BEGIN:STANDARD
TZOFFSETFROM:+0100
TZOFFSETTO:+0000
TZNAME:GMT
DTSTART:20281029T010000
END:STANDARD
BEGIN:DAYLIGHT
TZOFFSETFROM:+0000
TZOFFSETTO:+0100
TZNAME:BST
DTSTART:20290325T010000
END:DAYLIGHT
BEGIN:STANDARD
TZOFFSETFROM:+0100
TZOFFSETTO:+0000
TZNAME:GMT
DTSTART:20291028T010000
END:STANDARD
BEGIN:DAYLIGHT
TZOFFSETFROM:+0000
TZOFFSETTO:+0100
TZNAME:BST
DTSTART:20300331T010000
END:DAYLIGHT
BEGIN:STANDARD
TZOFFSETFROM:+0100
TZOFFSETTO:+0000
TZNAME:GMT
DTSTART:20301027T010000
END:STANDARD
END:VTIMEZONE
BEGIN:VEVENT
DTSTART;TZID=Europe/London:20281022T103000
DTEND;TZID=Europe/London:20281022T103000
DTSTAMP:20260423T050732
CREATED:20190302T123243Z
LAST-MODIFIED:20190625T115916Z
UID:10002161-1855823400-1855823400@www.gavinton.net
SUMMARY:Fogo Kirk Service
DESCRIPTION:Services are usually every Sunday at 10:30 am\, and all visitors are most welcome\nCheck the current schedule of church services here
URL:https://www.gavinton.net/event/fogo-kirk-service-2-2-2-2-2/2028-10-22/
CATEGORIES:church service
END:VEVENT
BEGIN:VEVENT
DTSTART;TZID=Europe/London:20281023T183000
DTEND;TZID=Europe/London:20281023T210000
DTSTAMP:20260423T050732
CREATED:20260326T202728Z
LAST-MODIFIED:20260326T202729Z
UID:10003977-1855938600-1855947600@www.gavinton.net
SUMMARY:Duns Pipe Band
DESCRIPTION:
URL:https://www.gavinton.net/event/duns-pipe-band-9-2/2028-10-23/
CATEGORIES:hall booking
END:VEVENT
BEGIN:VEVENT
DTSTART;TZID=Europe/London:20281029T103000
DTEND;TZID=Europe/London:20281029T103000
DTSTAMP:20260423T050732
CREATED:20190302T123243Z
LAST-MODIFIED:20190625T115916Z
UID:10002162-1856428200-1856428200@www.gavinton.net
SUMMARY:Fogo Kirk Service
DESCRIPTION:Services are usually every Sunday at 10:30 am\, and all visitors are most welcome\nCheck the current schedule of church services here
URL:https://www.gavinton.net/event/fogo-kirk-service-2-2-2-2-2/2028-10-29/
CATEGORIES:church service
END:VEVENT
BEGIN:VEVENT
DTSTART;TZID=Europe/London:20281030T183000
DTEND;TZID=Europe/London:20281030T210000
DTSTAMP:20260423T050732
CREATED:20260326T202728Z
LAST-MODIFIED:20260326T202729Z
UID:10003978-1856543400-1856552400@www.gavinton.net
SUMMARY:Duns Pipe Band
DESCRIPTION:
URL:https://www.gavinton.net/event/duns-pipe-band-9-2/2028-10-30/
CATEGORIES:hall booking
END:VEVENT
BEGIN:VEVENT
DTSTART;TZID=Europe/London:20281105T103000
DTEND;TZID=Europe/London:20281105T103000
DTSTAMP:20260423T050732
CREATED:20190302T123243Z
LAST-MODIFIED:20190625T115916Z
UID:10002163-1857033000-1857033000@www.gavinton.net
SUMMARY:Fogo Kirk Service
DESCRIPTION:Services are usually every Sunday at 10:30 am\, and all visitors are most welcome\nCheck the current schedule of church services here
URL:https://www.gavinton.net/event/fogo-kirk-service-2-2-2-2-2/2028-11-05/
CATEGORIES:church service
END:VEVENT
BEGIN:VEVENT
DTSTART;TZID=Europe/London:20281106T183000
DTEND;TZID=Europe/London:20281106T210000
DTSTAMP:20260423T050732
CREATED:20260326T202728Z
LAST-MODIFIED:20260326T202729Z
UID:10003979-1857148200-1857157200@www.gavinton.net
SUMMARY:Duns Pipe Band
DESCRIPTION:
URL:https://www.gavinton.net/event/duns-pipe-band-9-2/2028-11-06/
CATEGORIES:hall booking
END:VEVENT
BEGIN:VEVENT
DTSTART;TZID=Europe/London:20281112T103000
DTEND;TZID=Europe/London:20281112T103000
DTSTAMP:20260423T050732
CREATED:20190302T123243Z
LAST-MODIFIED:20190625T115916Z
UID:10002164-1857637800-1857637800@www.gavinton.net
SUMMARY:Fogo Kirk Service
DESCRIPTION:Services are usually every Sunday at 10:30 am\, and all visitors are most welcome\nCheck the current schedule of church services here
URL:https://www.gavinton.net/event/fogo-kirk-service-2-2-2-2-2/2028-11-12/
CATEGORIES:church service
END:VEVENT
BEGIN:VEVENT
DTSTART;TZID=Europe/London:20281113T183000
DTEND;TZID=Europe/London:20281113T210000
DTSTAMP:20260423T050732
CREATED:20260326T202728Z
LAST-MODIFIED:20260326T202729Z
UID:10003980-1857753000-1857762000@www.gavinton.net
SUMMARY:Duns Pipe Band
DESCRIPTION:
URL:https://www.gavinton.net/event/duns-pipe-band-9-2/2028-11-13/
CATEGORIES:hall booking
END:VEVENT
BEGIN:VEVENT
DTSTART;TZID=Europe/London:20281119T103000
DTEND;TZID=Europe/London:20281119T103000
DTSTAMP:20260423T050732
CREATED:20190302T123243Z
LAST-MODIFIED:20190625T115916Z
UID:10002165-1858242600-1858242600@www.gavinton.net
SUMMARY:Fogo Kirk Service
DESCRIPTION:Services are usually every Sunday at 10:30 am\, and all visitors are most welcome\nCheck the current schedule of church services here
URL:https://www.gavinton.net/event/fogo-kirk-service-2-2-2-2-2/2028-11-19/
CATEGORIES:church service
END:VEVENT
BEGIN:VEVENT
DTSTART;TZID=Europe/London:20281120T183000
DTEND;TZID=Europe/London:20281120T210000
DTSTAMP:20260423T050732
CREATED:20260326T202728Z
LAST-MODIFIED:20260326T202729Z
UID:10003981-1858357800-1858366800@www.gavinton.net
SUMMARY:Duns Pipe Band
DESCRIPTION:
URL:https://www.gavinton.net/event/duns-pipe-band-9-2/2028-11-20/
CATEGORIES:hall booking
END:VEVENT
BEGIN:VEVENT
DTSTART;TZID=Europe/London:20281126T103000
DTEND;TZID=Europe/London:20281126T103000
DTSTAMP:20260423T050732
CREATED:20190302T123243Z
LAST-MODIFIED:20190625T115916Z
UID:10002166-1858847400-1858847400@www.gavinton.net
SUMMARY:Fogo Kirk Service
DESCRIPTION:Services are usually every Sunday at 10:30 am\, and all visitors are most welcome\nCheck the current schedule of church services here
URL:https://www.gavinton.net/event/fogo-kirk-service-2-2-2-2-2/2028-11-26/
CATEGORIES:church service
END:VEVENT
BEGIN:VEVENT
DTSTART;TZID=Europe/London:20281127T183000
DTEND;TZID=Europe/London:20281127T210000
DTSTAMP:20260423T050732
CREATED:20260326T202728Z
LAST-MODIFIED:20260326T202729Z
UID:10003982-1858962600-1858971600@www.gavinton.net
SUMMARY:Duns Pipe Band
DESCRIPTION:
URL:https://www.gavinton.net/event/duns-pipe-band-9-2/2028-11-27/
CATEGORIES:hall booking
END:VEVENT
BEGIN:VEVENT
DTSTART;TZID=Europe/London:20281203T103000
DTEND;TZID=Europe/London:20281203T103000
DTSTAMP:20260423T050732
CREATED:20190302T123243Z
LAST-MODIFIED:20190625T115916Z
UID:10002167-1859452200-1859452200@www.gavinton.net
SUMMARY:Fogo Kirk Service
DESCRIPTION:Services are usually every Sunday at 10:30 am\, and all visitors are most welcome\nCheck the current schedule of church services here
URL:https://www.gavinton.net/event/fogo-kirk-service-2-2-2-2-2/2028-12-03/
CATEGORIES:church service
END:VEVENT
BEGIN:VEVENT
DTSTART;TZID=Europe/London:20281204T183000
DTEND;TZID=Europe/London:20281204T210000
DTSTAMP:20260423T050732
CREATED:20260326T202728Z
LAST-MODIFIED:20260326T202729Z
UID:10003983-1859567400-1859576400@www.gavinton.net
SUMMARY:Duns Pipe Band
DESCRIPTION:
URL:https://www.gavinton.net/event/duns-pipe-band-9-2/2028-12-04/
CATEGORIES:hall booking
END:VEVENT
BEGIN:VEVENT
DTSTART;TZID=Europe/London:20281210T103000
DTEND;TZID=Europe/London:20281210T103000
DTSTAMP:20260423T050732
CREATED:20190302T123243Z
LAST-MODIFIED:20190625T115916Z
UID:10002168-1860057000-1860057000@www.gavinton.net
SUMMARY:Fogo Kirk Service
DESCRIPTION:Services are usually every Sunday at 10:30 am\, and all visitors are most welcome\nCheck the current schedule of church services here
URL:https://www.gavinton.net/event/fogo-kirk-service-2-2-2-2-2/2028-12-10/
CATEGORIES:church service
END:VEVENT
BEGIN:VEVENT
DTSTART;TZID=Europe/London:20281211T183000
DTEND;TZID=Europe/London:20281211T210000
DTSTAMP:20260423T050732
CREATED:20260326T202728Z
LAST-MODIFIED:20260326T202729Z
UID:10003984-1860172200-1860181200@www.gavinton.net
SUMMARY:Duns Pipe Band
DESCRIPTION:
URL:https://www.gavinton.net/event/duns-pipe-band-9-2/2028-12-11/
CATEGORIES:hall booking
END:VEVENT
BEGIN:VEVENT
DTSTART;TZID=Europe/London:20281217T103000
DTEND;TZID=Europe/London:20281217T103000
DTSTAMP:20260423T050732
CREATED:20190302T123243Z
LAST-MODIFIED:20190625T115916Z
UID:10002169-1860661800-1860661800@www.gavinton.net
SUMMARY:Fogo Kirk Service
DESCRIPTION:Services are usually every Sunday at 10:30 am\, and all visitors are most welcome\nCheck the current schedule of church services here
URL:https://www.gavinton.net/event/fogo-kirk-service-2-2-2-2-2/2028-12-17/
CATEGORIES:church service
END:VEVENT
BEGIN:VEVENT
DTSTART;TZID=Europe/London:20281218T183000
DTEND;TZID=Europe/London:20281218T210000
DTSTAMP:20260423T050732
CREATED:20260326T202728Z
LAST-MODIFIED:20260326T202729Z
UID:10003985-1860777000-1860786000@www.gavinton.net
SUMMARY:Duns Pipe Band
DESCRIPTION:
URL:https://www.gavinton.net/event/duns-pipe-band-9-2/2028-12-18/
CATEGORIES:hall booking
END:VEVENT
BEGIN:VEVENT
DTSTART;TZID=Europe/London:20281224T103000
DTEND;TZID=Europe/London:20281224T103000
DTSTAMP:20260423T050732
CREATED:20190302T123243Z
LAST-MODIFIED:20190625T115916Z
UID:10002170-1861266600-1861266600@www.gavinton.net
SUMMARY:Fogo Kirk Service
DESCRIPTION:Services are usually every Sunday at 10:30 am\, and all visitors are most welcome\nCheck the current schedule of church services here
URL:https://www.gavinton.net/event/fogo-kirk-service-2-2-2-2-2/2028-12-24/
CATEGORIES:church service
END:VEVENT
BEGIN:VEVENT
DTSTART;TZID=Europe/London:20281225T183000
DTEND;TZID=Europe/London:20281225T210000
DTSTAMP:20260423T050732
CREATED:20260326T202728Z
LAST-MODIFIED:20260326T202729Z
UID:10003986-1861381800-1861390800@www.gavinton.net
SUMMARY:Duns Pipe Band
DESCRIPTION:
URL:https://www.gavinton.net/event/duns-pipe-band-9-2/2028-12-25/
CATEGORIES:hall booking
END:VEVENT
BEGIN:VEVENT
DTSTART;TZID=Europe/London:20281231T103000
DTEND;TZID=Europe/London:20281231T103000
DTSTAMP:20260423T050732
CREATED:20190302T123243Z
LAST-MODIFIED:20190625T115916Z
UID:10002171-1861871400-1861871400@www.gavinton.net
SUMMARY:Fogo Kirk Service
DESCRIPTION:Services are usually every Sunday at 10:30 am\, and all visitors are most welcome\nCheck the current schedule of church services here
URL:https://www.gavinton.net/event/fogo-kirk-service-2-2-2-2-2/2028-12-31/
CATEGORIES:church service
END:VEVENT
BEGIN:VEVENT
DTSTART;TZID=Europe/London:20290101T183000
DTEND;TZID=Europe/London:20290101T210000
DTSTAMP:20260423T050732
CREATED:20260326T202728Z
LAST-MODIFIED:20260326T202729Z
UID:10003987-1861986600-1861995600@www.gavinton.net
SUMMARY:Duns Pipe Band
DESCRIPTION:
URL:https://www.gavinton.net/event/duns-pipe-band-9-2/2029-01-01/
CATEGORIES:hall booking
END:VEVENT
BEGIN:VEVENT
DTSTART;TZID=Europe/London:20290107T103000
DTEND;TZID=Europe/London:20290107T103000
DTSTAMP:20260423T050732
CREATED:20190302T123243Z
LAST-MODIFIED:20190625T115916Z
UID:10002172-1862476200-1862476200@www.gavinton.net
SUMMARY:Fogo Kirk Service
DESCRIPTION:Services are usually every Sunday at 10:30 am\, and all visitors are most welcome\nCheck the current schedule of church services here
URL:https://www.gavinton.net/event/fogo-kirk-service-2-2-2-2-2/2029-01-07/
CATEGORIES:church service
END:VEVENT
BEGIN:VEVENT
DTSTART;TZID=Europe/London:20290108T183000
DTEND;TZID=Europe/London:20290108T210000
DTSTAMP:20260423T050732
CREATED:20260326T202728Z
LAST-MODIFIED:20260326T202729Z
UID:10003988-1862591400-1862600400@www.gavinton.net
SUMMARY:Duns Pipe Band
DESCRIPTION:
URL:https://www.gavinton.net/event/duns-pipe-band-9-2/2029-01-08/
CATEGORIES:hall booking
END:VEVENT
BEGIN:VEVENT
DTSTART;TZID=Europe/London:20290114T103000
DTEND;TZID=Europe/London:20290114T103000
DTSTAMP:20260423T050732
CREATED:20190302T123243Z
LAST-MODIFIED:20190625T115916Z
UID:10002173-1863081000-1863081000@www.gavinton.net
SUMMARY:Fogo Kirk Service
DESCRIPTION:Services are usually every Sunday at 10:30 am\, and all visitors are most welcome\nCheck the current schedule of church services here
URL:https://www.gavinton.net/event/fogo-kirk-service-2-2-2-2-2/2029-01-14/
CATEGORIES:church service
END:VEVENT
BEGIN:VEVENT
DTSTART;TZID=Europe/London:20290115T183000
DTEND;TZID=Europe/London:20290115T210000
DTSTAMP:20260423T050732
CREATED:20260326T202728Z
LAST-MODIFIED:20260326T202729Z
UID:10003989-1863196200-1863205200@www.gavinton.net
SUMMARY:Duns Pipe Band
DESCRIPTION:
URL:https://www.gavinton.net/event/duns-pipe-band-9-2/2029-01-15/
CATEGORIES:hall booking
END:VEVENT
BEGIN:VEVENT
DTSTART;TZID=Europe/London:20290121T103000
DTEND;TZID=Europe/London:20290121T103000
DTSTAMP:20260423T050732
CREATED:20190302T123243Z
LAST-MODIFIED:20190625T115916Z
UID:10002174-1863685800-1863685800@www.gavinton.net
SUMMARY:Fogo Kirk Service
DESCRIPTION:Services are usually every Sunday at 10:30 am\, and all visitors are most welcome\nCheck the current schedule of church services here
URL:https://www.gavinton.net/event/fogo-kirk-service-2-2-2-2-2/2029-01-21/
CATEGORIES:church service
END:VEVENT
BEGIN:VEVENT
DTSTART;TZID=Europe/London:20290122T183000
DTEND;TZID=Europe/London:20290122T210000
DTSTAMP:20260423T050732
CREATED:20260326T202728Z
LAST-MODIFIED:20260326T202729Z
UID:10003990-1863801000-1863810000@www.gavinton.net
SUMMARY:Duns Pipe Band
DESCRIPTION:
URL:https://www.gavinton.net/event/duns-pipe-band-9-2/2029-01-22/
CATEGORIES:hall booking
END:VEVENT
BEGIN:VEVENT
DTSTART;TZID=Europe/London:20290128T103000
DTEND;TZID=Europe/London:20290128T103000
DTSTAMP:20260423T050732
CREATED:20190302T123243Z
LAST-MODIFIED:20190625T115916Z
UID:10002175-1864290600-1864290600@www.gavinton.net
SUMMARY:Fogo Kirk Service
DESCRIPTION:Services are usually every Sunday at 10:30 am\, and all visitors are most welcome\nCheck the current schedule of church services here
URL:https://www.gavinton.net/event/fogo-kirk-service-2-2-2-2-2/2029-01-28/
CATEGORIES:church service
END:VEVENT
BEGIN:VEVENT
DTSTART;TZID=Europe/London:20290129T183000
DTEND;TZID=Europe/London:20290129T210000
DTSTAMP:20260423T050732
CREATED:20260326T202728Z
LAST-MODIFIED:20260326T202729Z
UID:10003991-1864405800-1864414800@www.gavinton.net
SUMMARY:Duns Pipe Band
DESCRIPTION:
URL:https://www.gavinton.net/event/duns-pipe-band-9-2/2029-01-29/
CATEGORIES:hall booking
END:VEVENT
END:VCALENDAR