BEGIN:VCALENDAR
VERSION:2.0
PRODID:-//Gavinton, Fogo &amp; Polwarth Community Website - ECPv6.15.11//NONSGML v1.0//EN
CALSCALE:GREGORIAN
METHOD:PUBLISH
X-WR-CALNAME:Gavinton, Fogo &amp; Polwarth Community Website
X-ORIGINAL-URL:https://www.gavinton.net
X-WR-CALDESC:Events for Gavinton, Fogo &amp; Polwarth Community Website
REFRESH-INTERVAL;VALUE=DURATION:PT1H
X-Robots-Tag:noindex
X-PUBLISHED-TTL:PT1H
BEGIN:VTIMEZONE
TZID:Europe/London
BEGIN:DAYLIGHT
TZOFFSETFROM:+0000
TZOFFSETTO:+0100
TZNAME:BST
DTSTART:20230326T010000
END:DAYLIGHT
BEGIN:STANDARD
TZOFFSETFROM:+0100
TZOFFSETTO:+0000
TZNAME:GMT
DTSTART:20231029T010000
END:STANDARD
BEGIN:DAYLIGHT
TZOFFSETFROM:+0000
TZOFFSETTO:+0100
TZNAME:BST
DTSTART:20240331T010000
END:DAYLIGHT
BEGIN:STANDARD
TZOFFSETFROM:+0100
TZOFFSETTO:+0000
TZNAME:GMT
DTSTART:20241027T010000
END:STANDARD
BEGIN:DAYLIGHT
TZOFFSETFROM:+0000
TZOFFSETTO:+0100
TZNAME:BST
DTSTART:20250330T010000
END:DAYLIGHT
BEGIN:STANDARD
TZOFFSETFROM:+0100
TZOFFSETTO:+0000
TZNAME:GMT
DTSTART:20251026T010000
END:STANDARD
END:VTIMEZONE
BEGIN:VEVENT
DTSTART;TZID=Europe/London:20240923T104500
DTEND;TZID=Europe/London:20240923T121500
DTSTAMP:20260426T042649
CREATED:20240703T153007Z
LAST-MODIFIED:20240703T153007Z
UID:10002347-1727088300-1727093700@www.gavinton.net
SUMMARY:U3A Tap Dancing
DESCRIPTION:
URL:https://www.gavinton.net/event/u3a-tap-dancing-8/2024-09-23/
CATEGORIES:dance class,hall booking
END:VEVENT
BEGIN:VEVENT
DTSTART;TZID=Europe/London:20240922T113000
DTEND;TZID=Europe/London:20240922T143000
DTSTAMP:20260426T042649
CREATED:20240810T135959Z
LAST-MODIFIED:20240822T172717Z
UID:10002517-1727004600-1727015400@www.gavinton.net
SUMMARY:private hire
DESCRIPTION:party
URL:https://www.gavinton.net/event/private-hire-76/
CATEGORIES:hall booking
END:VEVENT
BEGIN:VEVENT
DTSTART;TZID=Europe/London:20240922T113000
DTEND;TZID=Europe/London:20240922T143000
DTSTAMP:20260426T042649
CREATED:20240810T132234Z
LAST-MODIFIED:20240810T132234Z
UID:10002516-1727004600-1727015400@www.gavinton.net
SUMMARY:private hire
DESCRIPTION:party
URL:https://www.gavinton.net/event/private-hire-75/
CATEGORIES:hall booking
END:VEVENT
BEGIN:VEVENT
DTSTART;TZID=Europe/London:20240922T103000
DTEND;TZID=Europe/London:20240922T103000
DTSTAMP:20260426T042649
CREATED:20190302T123243Z
LAST-MODIFIED:20190625T115916Z
UID:10000422-1727001000-1727001000@www.gavinton.net
SUMMARY:Fogo Kirk Service
DESCRIPTION:Services are usually every Sunday at 10:30 am\, and all visitors are most welcome\nCheck the current schedule of church services here
URL:https://www.gavinton.net/event/fogo-kirk-service-2-2-2-2-2/2024-09-22/
CATEGORIES:church service
END:VEVENT
BEGIN:VEVENT
DTSTART;TZID=Europe/London:20240922T094500
DTEND;TZID=Europe/London:20240922T094500
DTSTAMP:20260426T042649
CREATED:20231230T114747Z
LAST-MODIFIED:20231230T121831Z
UID:10002046-1726998300-1726998300@www.gavinton.net
SUMMARY:Langton Church service
DESCRIPTION:Check the current schedule of church services here\, usually the second and fourth Sunday of each month at 09.45 am. When there is a fifth Sunday\, the service is held in Duns parish church at 11.00 am.
URL:https://www.gavinton.net/event/langton-church-service-3/2024-09-22/
LOCATION:Langton Church\, Gavinton
CATEGORIES:church service
END:VEVENT
BEGIN:VEVENT
DTSTART;TZID=Europe/London:20240921T100000
DTEND;TZID=Europe/London:20240921T120000
DTSTAMP:20260426T042649
CREATED:20240908T202949Z
LAST-MODIFIED:20240915T193400Z
UID:10002533-1726912800-1726920000@www.gavinton.net
SUMMARY:village hall - coffee morning
DESCRIPTION:Coffee morning FREE
URL:https://www.gavinton.net/event/cancelled-village-hall-coffee-morning-2024-25/2024-09-21/
CATEGORIES:coffee morning,hall booking
END:VEVENT
BEGIN:VEVENT
DTSTART;TZID=Europe/London:20240920T190000
DTEND;TZID=Europe/London:20240920T220000
DTSTAMP:20260426T042649
CREATED:20240901T202458Z
LAST-MODIFIED:20240913T145159Z
UID:10002525-1726858800-1726869600@www.gavinton.net
SUMMARY:village hall - National Theatre Live Screening - Present Laughter (PG)
DESCRIPTION:Come along and enjoy some of the best of British theatre\n£10 ticket; no food; bar open at 6.30pm\nTrailer: https://www.youtube.com/watch?v=B5E5i4xP_GI\nReviews: https://www.nationaltheatre.org.uk/whats-on/present-laughter/#reviews \n \n 
URL:https://www.gavinton.net/event/village-hall-national-theatre-live-screening-present-laughter-pg/
CATEGORIES:film
END:VEVENT
BEGIN:VEVENT
DTSTART;TZID=Europe/London:20240919T164500
DTEND;TZID=Europe/London:20240919T191500
DTSTAMP:20260426T042649
CREATED:20240808T171245Z
LAST-MODIFIED:20240808T171245Z
UID:10002502-1726764300-1726773300@www.gavinton.net
SUMMARY:Borders Community Sewing Group
DESCRIPTION:
URL:https://www.gavinton.net/event/borders-community-sewing-group/2024-09-19/
CATEGORIES:hall booking
END:VEVENT
BEGIN:VEVENT
DTSTART;TZID=Europe/London:20240919T080000
DTEND;TZID=Europe/London:20240919T150000
DTSTAMP:20260426T042649
CREATED:20240913T171301Z
LAST-MODIFIED:20240913T171301Z
UID:10002568-1726732800-1726758000@www.gavinton.net
SUMMARY:u3a Histories of the Everyday
DESCRIPTION:
URL:https://www.gavinton.net/event/u3a-histories-of-the-everyday/2024-09-19/
CATEGORIES:hall booking,u3a
END:VEVENT
BEGIN:VEVENT
DTSTART;TZID=Europe/London:20240916T190000
DTEND;TZID=Europe/London:20240916T210000
DTSTAMP:20260426T042649
CREATED:20240410T140815Z
LAST-MODIFIED:20240423T165029Z
UID:10002274-1726513200-1726520400@www.gavinton.net
SUMMARY:Duns Pipe Band
DESCRIPTION:Duns pipe band practice
URL:https://www.gavinton.net/event/private-hire-58/2024-09-16/
CATEGORIES:hall booking
END:VEVENT
BEGIN:VEVENT
DTSTART;TZID=Europe/London:20240916T104500
DTEND;TZID=Europe/London:20240916T121500
DTSTAMP:20260426T042649
CREATED:20240703T153007Z
LAST-MODIFIED:20240703T153007Z
UID:10002346-1726483500-1726488900@www.gavinton.net
SUMMARY:U3A Tap Dancing
DESCRIPTION:
URL:https://www.gavinton.net/event/u3a-tap-dancing-8/2024-09-16/
CATEGORIES:dance class,hall booking
END:VEVENT
BEGIN:VEVENT
DTSTART;TZID=Europe/London:20240915T103000
DTEND;TZID=Europe/London:20240915T103000
DTSTAMP:20260426T042649
CREATED:20190302T123243Z
LAST-MODIFIED:20190625T115916Z
UID:10000421-1726396200-1726396200@www.gavinton.net
SUMMARY:Fogo Kirk Service
DESCRIPTION:Services are usually every Sunday at 10:30 am\, and all visitors are most welcome\nCheck the current schedule of church services here
URL:https://www.gavinton.net/event/fogo-kirk-service-2-2-2-2-2/2024-09-15/
CATEGORIES:church service
END:VEVENT
BEGIN:VEVENT
DTSTART;TZID=Europe/London:20240913T100000
DTEND;TZID=Europe/London:20240913T120000
DTSTAMP:20260426T042649
CREATED:20240913T163434Z
LAST-MODIFIED:20240913T163434Z
UID:10002543-1726221600-1726228800@www.gavinton.net
SUMMARY:U3A Middle Eastern Studies
DESCRIPTION:
URL:https://www.gavinton.net/event/u3a-middle-eastern-studies-14/2024-09-13/
CATEGORIES:hall booking
END:VEVENT
BEGIN:VEVENT
DTSTART;VALUE=DATE:20240913
DTEND;VALUE=DATE:20240916
DTSTAMP:20260426T042649
CREATED:20240818T174722Z
LAST-MODIFIED:20240818T174722Z
UID:10002519-1726185600-1726444799@www.gavinton.net
SUMMARY:Duns Beer and Music Weekender 2024
DESCRIPTION:Details HERE \n \n 
URL:https://www.gavinton.net/event/duns-beer-and-music-weekender-2024/
CATEGORIES:general,Local
END:VEVENT
BEGIN:VEVENT
DTSTART;TZID=Europe/London:20240912T193000
DTEND;TZID=Europe/London:20240912T210000
DTSTAMP:20260426T042649
CREATED:20240727T104201Z
LAST-MODIFIED:20240727T104201Z
UID:10002386-1726169400-1726174800@www.gavinton.net
SUMMARY:Scottish Woman's Institute
DESCRIPTION:meeting
URL:https://www.gavinton.net/event/scottish-womans-institute/2024-09-12/
CATEGORIES:hall booking,SWI meeting
END:VEVENT
BEGIN:VEVENT
DTSTART;TZID=Europe/London:20240912T164500
DTEND;TZID=Europe/London:20240912T191500
DTSTAMP:20260426T042649
CREATED:20240808T171245Z
LAST-MODIFIED:20240808T171245Z
UID:10002501-1726159500-1726168500@www.gavinton.net
SUMMARY:Borders Community Sewing Group
DESCRIPTION:
URL:https://www.gavinton.net/event/borders-community-sewing-group/2024-09-12/
CATEGORIES:hall booking
END:VEVENT
BEGIN:VEVENT
DTSTART;TZID=Europe/London:20240909T190000
DTEND;TZID=Europe/London:20240909T210000
DTSTAMP:20260426T042649
CREATED:20240410T140815Z
LAST-MODIFIED:20240423T165029Z
UID:10002273-1725908400-1725915600@www.gavinton.net
SUMMARY:Duns Pipe Band
DESCRIPTION:Duns pipe band practice
URL:https://www.gavinton.net/event/private-hire-58/2024-09-09/
CATEGORIES:hall booking
END:VEVENT
BEGIN:VEVENT
DTSTART;TZID=Europe/London:20240908T103000
DTEND;TZID=Europe/London:20240908T103000
DTSTAMP:20260426T042649
CREATED:20190302T123243Z
LAST-MODIFIED:20190625T115916Z
UID:10000420-1725791400-1725791400@www.gavinton.net
SUMMARY:Fogo Kirk Service
DESCRIPTION:Services are usually every Sunday at 10:30 am\, and all visitors are most welcome\nCheck the current schedule of church services here
URL:https://www.gavinton.net/event/fogo-kirk-service-2-2-2-2-2/2024-09-08/
CATEGORIES:church service
END:VEVENT
BEGIN:VEVENT
DTSTART;TZID=Europe/London:20240908T094500
DTEND;TZID=Europe/London:20240908T094500
DTSTAMP:20260426T042649
CREATED:20231230T114747Z
LAST-MODIFIED:20231230T121831Z
UID:10002045-1725788700-1725788700@www.gavinton.net
SUMMARY:Langton Church service
DESCRIPTION:Check the current schedule of church services here\, usually the second and fourth Sunday of each month at 09.45 am. When there is a fifth Sunday\, the service is held in Duns parish church at 11.00 am.
URL:https://www.gavinton.net/event/langton-church-service-3/2024-09-08/
LOCATION:Langton Church\, Gavinton
CATEGORIES:church service
END:VEVENT
BEGIN:VEVENT
DTSTART;TZID=Europe/London:20240906T190000
DTEND;TZID=Europe/London:20240906T220000
DTSTAMP:20260426T042649
CREATED:20240901T201843Z
LAST-MODIFIED:20240901T201843Z
UID:10002524-1725649200-1725660000@www.gavinton.net
SUMMARY:village hall - FILM - The Taste of Things (12)
DESCRIPTION:Trailer: https://www.youtube.com/watch?v=2BtQjrT1Qks\nReviews: https://www.rottentomatoes.com/m/the_taste_of_things#critics-reviews
URL:https://www.gavinton.net/event/village-hall-film-the-taste-of-things-12/
CATEGORIES:film
END:VEVENT
BEGIN:VEVENT
DTSTART;TZID=Europe/London:20240905T164500
DTEND;TZID=Europe/London:20240905T191500
DTSTAMP:20260426T042649
CREATED:20240808T171245Z
LAST-MODIFIED:20240808T171245Z
UID:10002500-1725554700-1725563700@www.gavinton.net
SUMMARY:Borders Community Sewing Group
DESCRIPTION:
URL:https://www.gavinton.net/event/borders-community-sewing-group/2024-09-05/
CATEGORIES:hall booking
END:VEVENT
BEGIN:VEVENT
DTSTART;TZID=Europe/London:20240904T080000
DTEND;TZID=Europe/London:20240904T100000
DTSTAMP:20260426T042649
CREATED:20240823T090820Z
LAST-MODIFIED:20240823T091851Z
UID:10002521-1725436800-1725444000@www.gavinton.net
SUMMARY:private hire
DESCRIPTION:audio light service
URL:https://www.gavinton.net/event/private-hire-78/
CATEGORIES:hall booking
END:VEVENT
BEGIN:VEVENT
DTSTART;TZID=Europe/London:20240903T190000
DTEND;TZID=Europe/London:20240903T210000
DTSTAMP:20260426T042649
CREATED:20240823T091246Z
LAST-MODIFIED:20240823T091246Z
UID:10002522-1725390000-1725397200@www.gavinton.net
SUMMARY:private hire
DESCRIPTION:Village Hall meeting
URL:https://www.gavinton.net/event/private-hire-79/
CATEGORIES:hall booking,VH meeting
END:VEVENT
BEGIN:VEVENT
DTSTART;TZID=Europe/London:20240903T110000
DTEND;TZID=Europe/London:20240903T120000
DTSTAMP:20260426T042649
CREATED:20240823T090405Z
LAST-MODIFIED:20240823T090405Z
UID:10002520-1725361200-1725364800@www.gavinton.net
SUMMARY:private hire
DESCRIPTION:sound system induction for u3a
URL:https://www.gavinton.net/event/private-hire-77/
CATEGORIES:hall booking
END:VEVENT
BEGIN:VEVENT
DTSTART;VALUE=DATE:20240903
DTEND;VALUE=DATE:20240904
DTSTAMP:20260426T042649
CREATED:20240807T094901Z
LAST-MODIFIED:20240807T094901Z
UID:10002398-1725321600-1725407999@www.gavinton.net
SUMMARY:2024 Tour of Britain - start/finish in Kelso
DESCRIPTION:Kelso will host the start and finish of Stage 1\nhttps://www.scotborders.gov.uk/tourofbritain\nhttps://www.britishcycling.org.uk/road/article/20240724-road-Routes-announced-for-opening-stages-of-Lloyds-Bank-Tour-of-Britain-Men-0\nhttps://x.com/scotborders/status/1820838546980122882\n\n2024 Tour of Britain
URL:https://www.gavinton.net/event/2024-tour-of-britain-start-finish-in-kelso/
CATEGORIES:Beyond,general
END:VEVENT
BEGIN:VEVENT
DTSTART;TZID=Europe/London:20240902T190000
DTEND;TZID=Europe/London:20240902T210000
DTSTAMP:20260426T042649
CREATED:20240410T140815Z
LAST-MODIFIED:20240423T165029Z
UID:10002272-1725303600-1725310800@www.gavinton.net
SUMMARY:Duns Pipe Band
DESCRIPTION:Duns pipe band practice
URL:https://www.gavinton.net/event/private-hire-58/2024-09-02/
CATEGORIES:hall booking
END:VEVENT
BEGIN:VEVENT
DTSTART;TZID=Europe/London:20240902T153000
DTEND;TZID=Europe/London:20240902T180000
DTSTAMP:20260426T042649
CREATED:20240827T081745Z
LAST-MODIFIED:20240827T081745Z
UID:10002523-1725291000-1725300000@www.gavinton.net
SUMMARY:private hire
DESCRIPTION:Borders Greenway meeting
URL:https://www.gavinton.net/event/private-hire-80/
CATEGORIES:hall booking
END:VEVENT
BEGIN:VEVENT
DTSTART;TZID=Europe/London:20240901T103000
DTEND;TZID=Europe/London:20240901T103000
DTSTAMP:20260426T042649
CREATED:20190302T123243Z
LAST-MODIFIED:20190625T115916Z
UID:10000419-1725186600-1725186600@www.gavinton.net
SUMMARY:Fogo Kirk Service
DESCRIPTION:Services are usually every Sunday at 10:30 am\, and all visitors are most welcome\nCheck the current schedule of church services here
URL:https://www.gavinton.net/event/fogo-kirk-service-2-2-2-2-2/2024-09-01/
CATEGORIES:church service
END:VEVENT
BEGIN:VEVENT
DTSTART;TZID=Europe/London:20240829T164500
DTEND;TZID=Europe/London:20240829T191500
DTSTAMP:20260426T042649
CREATED:20240808T171245Z
LAST-MODIFIED:20240808T171245Z
UID:10002499-1724949900-1724958900@www.gavinton.net
SUMMARY:Borders Community Sewing Group
DESCRIPTION:
URL:https://www.gavinton.net/event/borders-community-sewing-group/2024-08-29/
CATEGORIES:hall booking
END:VEVENT
BEGIN:VEVENT
DTSTART;TZID=Europe/London:20240827T120000
DTEND;TZID=Europe/London:20240827T170000
DTSTAMP:20260426T042649
CREATED:20240731T174706Z
LAST-MODIFIED:20240731T174706Z
UID:10002395-1724760000-1724778000@www.gavinton.net
SUMMARY:private hire
DESCRIPTION:summer party
URL:https://www.gavinton.net/event/private-hire-72/
CATEGORIES:hall booking
END:VEVENT
END:VCALENDAR